{"text_format":"1","workbook":"xlsx","n_sheets":7,"sheets":["@","МАТЕРИАЛЫ","ЦЕНЫ—EURO","ЦЕНЫ—USD","ЦЕНЫ—UAH","ЗАКАЗ—EURO—USD","ЗАКАЗ—UAH"],"not_rendered":{"charts":0,"images":4,"macros":1,"external_links":0,"defined_names":31,"comments":0,"pivot_tables":0},"unopened":[],"bounds":{"document_bytes":16777216,"sheet_cells":100000,"rows_first":2000,"rows_last":500,"rows_between":2000,"halvings":0,"cell_chars":16384,"cell_head_chars":4096},"cells_cut":0,"cells_raw":0,"read":"whole","date_system":"1900"}

{"sheet":"@","index":0,"n_rows":210,"n_cols":34,"rows_kept":210,"cut":false,"hidden":true,"merged":[[32,3,32,4],[30,3,30,5],[36,9,38,11],[2,13,3,13],[8,13,9,13],[5,12,6,12],[5,13,6,13],[29,3,29,5],[14,12,15,12],[11,12,12,12],[11,13,12,13],[17,12,18,12],[14,13,15,13],[2,12,3,12],[8,12,9,12]]}
[null,null,null,"ММ","ММ","КГ/М.КВ.",null,null,null,null,null,null,null,null,null,null,"ГРН.","ГРН.","EURO","USD",null,null,"ГРН.","ГРН.","EURO","USD"]
[null,"ПЛИТА_ТИП","ОСНОВА","ТОЛЩ.","КРОМКА","ВЕС",null,"КРОМКА_A",null,"ШПОН_ДЕРЕВО","ДЕРЕВО",null,"КУРС_EURO (ПРАЙС)","REM",null,"ШПОН_ОТДЕЛКА_ПЛИТА","СЕБ.СТ.","РОЗН.СТ.","РОЗН.СТ.","РОЗН.СТ.",null,"КОМКА_ОТДЕЛКА","СЕБ.СТ.","РОЗН.СТ.","РОЗН.СТ.","РОЗН.СТ.",null,"ВАЛЮТА","МЕСТО",null,"ШПОН_ОТДЕЛКА_ПЛИТА","ПЛИТА","ШПОН","ОТДЕЛКА"]
[null,"ДСП 10, AB/лам.","ДСП",10,22,7.5,null,{"$f":"КРОМКА_A0","v":"нет"},null,"ДУБ (тангентальный)","ДУБ",null,33,33,null,{"$f":"K3&\", \"&H25&\", \"&B3","v":"ДУБ, Б/О, ДСП 10, AB/лам."},null,{"$f":"ROUNDUP(Q3*К_НАЦЕНКА,0)","v":0},{"$f":"ROUNDUP(R3/EURO_PRISE,0)","v":0},{"$f":"ROUNDUP(R3/USD_PRISE,0)","v":0},null,"ДУБ 22, Б/О",null,{"$f":"ROUNDUP(W3*К_НАЦЕНКА,1)","v":0},{"$f":"ROUNDUP(X3/EURO_PRISE,2)","v":0},{"$f":"ROUNDUP(X3/USD_PRISE,2)","v":0},null,"EURO",4,null,"ДУБ, Б/О, ДСП 10, AB/лам."]
[null,"ДСП 16, AB/AB","ДСП",16,22,11.68,null,{"$f":"КРОМКА_A1","v":"X"},null,"ДУБ (радиальный)","ДУБ",null,null,null,null,{"$f":"K3&\", \"&H25&\", \"&B4","v":"ДУБ, Б/О, ДСП 16, AB/AB"},null,0,0,0,null,"ДУБ 28, Б/О",null,0,0,0,null,"USD",5,null,"ДУБ, Б/О, ДСП 16, AB/AB"]
[null,"ДСП 16, AB/BC","ДСП",16,22,11.68,null,{"$f":"КРОМКА_A2","v":"X + X"},null,"ЯСЕНЬ (тангентальный)","ЯСЕНЬ",null,"КУРС_USD (ПРАЙС)","REM",null,{"$f":"K3&\", \"&H25&\", \"&B5","v":"ДУБ, Б/О, ДСП 16, AB/BC"},null,0,0,0,null,"ДУБ 33, Б/О",null,0,0,0,null,null,null,null,"ДУБ, Б/О, ДСП 16, AB/BC"]
[null,"ДСП 16, AB/карт.","ДСП",16,22,11.68,null,"КРОМКА_А0",null,"ЯСЕНЬ (радиальный)","ЯСЕНЬ",null,27,27,null,{"$f":"K3&\", \"&H25&\", \"&B6","v":"ДУБ, Б/О, ДСП 16, AB/карт."},null,0,0,0,null,"ДУБ 42, Б/О",null,0,0,0,null,null,null,null,"ДУБ, Б/О, ДСП 16, AB/карт."]
[null,"ДСП 16, BC/BC","ДСП",16,22,11.68,null,"нет",null,"ОТДЕЛКА_ДЕКОРЫ","ОТДЕЛКА ",null,null,null,null,{"$f":"K3&\", \"&H25&\", \"&B7","v":"ДУБ, Б/О, ДСП 16, BC/BC"},null,0,0,0,null,"ДУБ 22, ЭМАЛЬ",null,0,0,0,null,null,null,null,"ДУБ, Б/О, ДСП 16, BC/BC"]
[null,"ДСП 18, AB/AB","ДСП",18,22,13.25,null,"КРОМКА_А1",null,"БЕЗ ОТДЕЛКИ","Б/О",null,"ОПТОВАЯ НАЦЕНКА","REM",null,{"$f":"K3&\", \"&H25&\", \"&B8","v":"ДУБ, Б/О, ДСП 18, AB/AB"},null,0,0,0,null,"ДУБ 28, ЭМАЛЬ",null,0,0,0,null,null,null,null,"ДУБ, Б/О, ДСП 18, AB/AB"]
[null,"ДСП 18, AB/BC","ДСП",18,22,13.25,null,"X",null,"ЭМАЛЬ, декор БЕЛЫЙ","ЭМАЛЬ",null,1.5,1.4,null,{"$f":"K3&\", \"&H25&\", \"&B9","v":"ДУБ, Б/О, ДСП 18, AB/BC"},null,0,0,0,null,"ДУБ 33, ЭМАЛЬ",null,0,0,0,null,null,null,null,"ДУБ, Б/О, ДСП 18, AB/BC"]
[null,"ДСП 18, AB/карт.","ДСП",18,22,13.25,null,"КРОМКА_А2",null,"ЛАК, декор ЧЁРНЫЙ","ЛАК",null,null,null,null,{"$f":"K3&\", \"&H25&\", \"&B10","v":"ДУБ, Б/О, ДСП 18, AB/карт."},null,0,0,0,null,"ДУБ 42, ЭМАЛЬ",null,0,0,0,null,null,null,null,"ДУБ, Б/О, ДСП 18, AB/карт."]
[null,"ДСП 22, AB/AB","ДСП",22,28,15.83,null,"X + X",null,"ЛАК, декор ОЛЬМОНЕРО","ЛАК",null,"РОЗНИЧНАЯ НАЦЕНКА","REM",null,{"$f":"K3&\", \"&H25&\", \"&B11","v":"ДУБ, Б/О, ДСП 22, AB/AB"},null,0,0,0,null,"ДУБ 22, ЛАК",null,0,0,0,null,null,null,null,"ДУБ, Б/О, ДСП 22, AB/AB"]
[null,"ДСП 22, AB/BС","ДСП",22,28,15.83,null,null,null,"ЛАК, декор МАХАГОНИ БРАУН","ЛАК",null,1.48,1.3355999999999999,null,{"$f":"K3&\", \"&H25&\", \"&B12","v":"ДУБ, Б/О, ДСП 22, AB/BС"},null,0,0,0,null,"ДУБ 28, ЛАК",null,0,0,0,null,null,null,null,"ДУБ, Б/О, ДСП 22, AB/BС"]
[null,"ДСП 25, AB/AB","ДСП",25,28,18.32,null,"КРОМКА_B",null,"ЛАК, декор СПЕССАРТ","ЛАК",null,null,null,null,{"$f":"K3&\", \"&H25&\", \"&B13","v":"ДУБ, Б/О, ДСП 25, AB/AB"},null,0,0,0,null,"ДУБ 33, ЛАК",null,0,0,0,null,null,null,null,"ДУБ, Б/О, ДСП 25, AB/AB"]
[null,"ДСП 25, AB/BС","ДСП",25,28,18.32,null,{"$f":"H18","v":"нет"},null,"ЛАК, декор ТАБАК ДЫМЧАТЫЙ","ЛАК",null,"ОПТ.+РОЗН. НАЦЕНКА","REM",null,{"$f":"K3&\", \"&H25&\", \"&B14","v":"ДУБ, Б/О, ДСП 25, AB/BС"},null,0,0,0,null,"ДУБ 42, ЛАК",null,0,0,0,null,null,null,null,"ДУБ, Б/О, ДСП 25, AB/BС"]
[null,"ДСП 32, AB/AB","ДСП",32,42,23.36,null,{"$f":"H20","v":"Y"},null,"ЛАК, декор ШИЛЬФ МАРОН","ЛАК",null,{"$f":"К_ОПТ*К_РОЗ","v":2.2199999999999998},1.8698399999999997,null,{"$f":"K3&\", \"&H25&\", \"&B15","v":"ДУБ, Б/О, ДСП 32, AB/AB"},null,0,0,0,null,"ДУБ 22, МАСЛО",null,0,0,0,null,null,null,null,"ДУБ, Б/О, ДСП 32, AB/AB"]
[null,"ДСП 32, AB/BС","ДСП",32,42,23.36,null,{"$f":"H22","v":"Y + Y"},null,"ЛАК, декор РОВЕРА НАТУРАЛ","ЛАК",null,null,null,null,{"$f":"K3&\", \"&H25&\", \"&B16","v":"ДУБ, Б/О, ДСП 32, AB/BС"},null,0,0,0,null,"ДУБ 28, МАСЛО",null,0,0,0,null,null,null,null,"ДУБ, Б/О, ДСП 32, AB/BС"]
[null,"ДСП 36, AB/AB","ДСП",36,42,26.58,null,"КРОМКА_B0",null,"МАСЛО, декор ПАЛИСАНДР","МАСЛО",null,"ДАТА ИЗМЕНЕНИЯ",null,null,{"$f":"K3&\", \"&H25&\", \"&B17","v":"ДУБ, Б/О, ДСП 36, AB/AB"},null,0,0,0,null,"ДУБ 33, МАСЛО",null,0,0,0,null,null,null,null,"ДУБ, Б/О, ДСП 36, AB/AB"]
[null,"ДСП 36, AB/BС","ДСП",36,42,26.58,null,"нет",null,"МАСЛО, декор ЦЕМЕНТ","МАСЛО",null,"РЕДАКЦИЯ : 15.02.2018",null,null,{"$f":"K3&\", \"&H25&\", \"&B18","v":"ДУБ, Б/О, ДСП 36, AB/BС"},null,0,0,0,null,"ДУБ 42, МАСЛО",null,0,0,0,null,null,null,null,"ДУБ, Б/О, ДСП 36, AB/BС"]
[null,"МДФ 9, AB/AB","МДФ",9,22,6.86,null,"КРОМКА_B1",null,"ОТДЕЛКА_ДУБ + ДЕКОР","ОТДЕЛКА ",null,null,null,null,{"$f":"K3&\", \"&H25&\", \"&B19","v":"ДУБ, Б/О, МДФ 9, AB/AB"},null,0,0,0,null,"ЯСЕНЬ 22, Б/О",null,0,0,0,null,null,null,null,"ДУБ, Б/О, МДФ 9, AB/AB"]
[null,"МДФ 9, AB/BC","МДФ",9,22,6.86,null,"Y",null,"БЕЗ ОТДЕЛКИ","Б/О",null,null,null,null,{"$f":"K3&\", \"&H25&\", \"&B20","v":"ДУБ, Б/О, МДФ 9, AB/BC"},null,0,0,0,null,"ЯСЕНЬ 28, Б/О",null,0,0,0,null,null,null,null,"ДУБ, Б/О, МДФ 9, AB/BC"]
[null,"МДФ 9, BC/BC","МДФ",9,22,6.86,null,"КРОМКА_B2",null,"ЭМАЛЬ, декор БЕЛЫЙ","ЭМАЛЬ",null,null,null,null,{"$f":"K3&\", \"&H25&\", \"&B21","v":"ДУБ, Б/О, МДФ 9, BC/BC"},null,0,0,0,null,"ЯСЕНЬ 33, Б/О",null,0,0,0,null,null,null,null,"ДУБ, Б/О, МДФ 9, BC/BC"]
[null,"МДФ 19, AB/AB","МДФ",19,22,14.56,null,"Y + Y",null,"ЛАК, декор ЧЁРНЫЙ","ЛАК",null,null,null,null,{"$f":"K3&\", \"&H25&\", \"&B22","v":"ДУБ, Б/О, МДФ 19, AB/AB"},null,0,0,0,null,"ЯСЕНЬ 42, Б/О",null,0,0,0,null,null,null,null,"ДУБ, Б/О, МДФ 19, AB/AB"]
[null,"МДФ 19, AB/BC","МДФ",19,22,14.56,null,null,null,"ЛАК, декор ОЛЬМОНЕРО","ЛАК",null,null,null,null,{"$f":"K3&\", \"&H25&\", \"&B23","v":"ДУБ, Б/О, МДФ 19, AB/BC"},null,0,0,0,null,"ЯСЕНЬ 22, ЭМАЛЬ",null,0,0,0,null,null,null,null,"ДУБ, Б/О, МДФ 19, AB/BC"]
[null,"МДФ 19, AB/карт.","МДФ",19,22,14.56,null,"ОТДЕЛКА ",null,"ЛАК, декор МАХАГОНИ БРАУН","ЛАК",null,null,null,null,{"$f":"K3&\", \"&H25&\", \"&B24","v":"ДУБ, Б/О, МДФ 19, AB/карт."},null,0,0,0,null,"ЯСЕНЬ 28, ЭМАЛЬ",null,0,0,0,null,null,null,null,"ДУБ, Б/О, МДФ 19, AB/карт."]
[null,"МДФ 26, AB/AB","МДФ",26,33,21.63,null,"Б/О",null,"ЛАК, декор СПЕССАРТ","ЛАК",null,null,null,null,{"$f":"K3&\", \"&H25&\", \"&B25","v":"ДУБ, Б/О, МДФ 26, AB/AB"},null,0,0,0,null,"ЯСЕНЬ 33, ЭМАЛЬ",null,0,0,0,null,null,null,null,"ДУБ, Б/О, МДФ 26, AB/AB"]
[null,"МДФ 26, AB/BC","МДФ",26,33,21.63,null,"ЭМАЛЬ",null,"ЛАК, декор ТАБАК ДЫМЧАТЫЙ","ЛАК",null,null,null,null,{"$f":"K3&\", \"&H25&\", \"&B26","v":"ДУБ, Б/О, МДФ 26, AB/BC"},null,0,0,0,null,"ЯСЕНЬ 42, ЭМАЛЬ",null,0,0,0,null,null,null,null,"ДУБ, Б/О, МДФ 26, AB/BC"]
[null,"МДФ 37, AB/AB","МДФ",37,42,28.85,null,"ЛАК",null,"ЛАК, декор ШИЛЬФ МАРОН","ЛАК",null,null,null,null,{"$f":"K3&\", \"&H25&\", \"&B27","v":"ДУБ, Б/О, МДФ 37, AB/AB"},null,0,0,0,null,"ЯСЕНЬ 22, ЛАК",null,0,0,0,null,null,null,null,"ДУБ, Б/О, МДФ 37, AB/AB"]
[null,"МДФ 37, AB/BC","МДФ",37,42,28.85,null,"МАСЛО",null,"ЛАК, декор РОВЕРА НАТУРАЛ","ЛАК",null,null,null,null,{"$f":"K3&\", \"&H25&\", \"&B28","v":"ДУБ, Б/О, МДФ 37, AB/BC"},null,0,0,0,null,"ЯСЕНЬ 28, ЛАК",null,0,0,0,null,null,null,null,"ДУБ, Б/О, МДФ 37, AB/BC"]
[null,null,null,null,null,null,null,null,null,"МАСЛО, декор ПАЛИСАНДР","МАСЛО",null,null,null,null,{"$f":"K3&\", \"&H26&\", \"&B3","v":"ДУБ, ЭМАЛЬ, ДСП 10, AB/лам."},null,0,0,0,null,"ЯСЕНЬ 33, ЛАК",null,0,0,0,null,null,null,null,"ДУБ, ЭМАЛЬ, ДСП 10, AB/лам."]
[null,null,null,"http://mosfanera.ru/stati/ves-dsp.html",null,null,null,null,null,"МАСЛО, декор ЦЕМЕНТ","МАСЛО",null,null,null,null,{"$f":"K3&\", \"&H26&\", \"&B4","v":"ДУБ, ЭМАЛЬ, ДСП 16, AB/AB"},null,0,0,0,null,"ЯСЕНЬ 42, ЛАК",null,0,0,0,null,null,null,null,"ДУБ, ЭМАЛЬ, ДСП 16, AB/AB"]
[null,null,null,"РАЗМЕР И ПЛОЩАДЬ ЛИСТА",null,null,null,null,null,"ОТДЕЛКА_ЯСЕНЬ + ДЕКОР","ОТДЕЛКА ",null,null,null,null,{"$f":"K3&\", \"&H26&\", \"&B5","v":"ДУБ, ЭМАЛЬ, ДСП 16, AB/BC"},null,0,0,0,null,"ЯСЕНЬ 22, МАСЛО",null,0,0,0,null,null,null,null,"ДУБ, ЭМАЛЬ, ДСП 16, AB/BC"]
[null,null,null,2.8,2.0699999999999998,"М",null,null,null,"БЕЗ ОТДЕЛКИ","Б/О",null,null,null,null,{"$f":"K3&\", \"&H26&\", \"&B6","v":"ДУБ, ЭМАЛЬ, ДСП 16, AB/карт."},null,0,0,0,null,"ЯСЕНЬ 28, МАСЛО",null,0,0,0,null,null,null,null,"ДУБ, ЭМАЛЬ, ДСП 16, AB/карт."]
[null,null,null,{"$f":"D32*E32","v":5.7959999999999994},null,"М.КВ.",null,null,null,"ЭМАЛЬ, декор БЕЛЫЙ","ЭМАЛЬ",null,null,null,null,{"$f":"K3&\", \"&H26&\", \"&B7","v":"ДУБ, ЭМАЛЬ, ДСП 16, BC/BC"},null,0,0,0,null,"ЯСЕНЬ 33, МАСЛО",null,0,0,0,null,null,null,null,"ДУБ, ЭМАЛЬ, ДСП 16, BC/BC"]
[null,null,null,null,null,null,null,null,null,"ЛАК, декор ЧЁРНЫЙ","ЛАК",null,null,null,null,{"$f":"K3&\", \"&H26&\", \"&B8","v":"ДУБ, ЭМАЛЬ, ДСП 18, AB/AB"},null,0,0,0,null,"ЯСЕНЬ 42, МАСЛО",null,0,0,0,null,null,null,null,"ДУБ, ЭМАЛЬ, ДСП 18, AB/AB"]
[null,null,null,null,null,null,null,null,null,"МАСЛО, декор ПАЛИСАНДР","МАСЛО",null,null,null,null,{"$f":"K3&\", \"&H26&\", \"&B9","v":"ДУБ, ЭМАЛЬ, ДСП 18, AB/BC"},null,0,0,0,null,null,null,null,null,null,null,null,null,null,"ДУБ, ЭМАЛЬ, ДСП 18, AB/BC"]
[null,null,null,null,null,null,null,null,null,null,null,null,null,null,null,{"$f":"K3&\", \"&H26&\", \"&B10","v":"ДУБ, ЭМАЛЬ, ДСП 18, AB/карт."},null,0,0,0,null,null,null,null,null,null,null,null,null,null,"ДУБ, ЭМАЛЬ, ДСП 18, AB/карт."]
[null,null,null,null,null,null,null,null,null,"ВАЛЮТА\nНациональные, иностранные и международные деньги,\nкак в наличной форме, так и безналичной, являющиеся\nзаконным средством платежа.",null,null,null,null,null,{"$f":"K3&\", \"&H26&\", \"&B11","v":"ДУБ, ЭМАЛЬ, ДСП 22, AB/AB"},null,0,0,0,null,null,null,null,null,null,null,null,null,null,"ДУБ, ЭМАЛЬ, ДСП 22, AB/AB"]
[null,null,null,null,null,null,null,null,null,null,null,null,null,null,null,{"$f":"K3&\", \"&H26&\", \"&B12","v":"ДУБ, ЭМАЛЬ, ДСП 22, AB/BС"},null,0,0,0,null,null,null,null,null,null,null,null,null,null,"ДУБ, ЭМАЛЬ, ДСП 22, AB/BС"]
[null,null,null,null,null,null,null,null,null,null,null,null,null,null,null,{"$f":"K3&\", \"&H26&\", \"&B13","v":"ДУБ, ЭМАЛЬ, ДСП 25, AB/AB"},null,0,0,0,null,null,null,null,null,null,null,null,null,null,"ДУБ, ЭМАЛЬ, ДСП 25, AB/AB"]
[null,null,null,null,null,null,null,null,null,null,null,null,null,null,null,{"$f":"K3&\", \"&H26&\", \"&B14","v":"ДУБ, ЭМАЛЬ, ДСП 25, AB/BС"},null,0,0,0,null,null,null,null,null,null,null,null,null,null,"ДУБ, ЭМАЛЬ, ДСП 25, AB/BС"]
[null,null,null,null,null,null,null,null,null,null,null,null,null,null,null,{"$f":"K3&\", \"&H26&\", \"&B15","v":"ДУБ, ЭМАЛЬ, ДСП 32, AB/AB"},null,0,0,0,null,null,null,null,null,null,null,null,null,null,"ДУБ, ЭМАЛЬ, ДСП 32, AB/AB"]
[null,null,null,null,null,null,null,null,null,null,null,null,null,null,null,{"$f":"K3&\", \"&H26&\", \"&B16","v":"ДУБ, ЭМАЛЬ, ДСП 32, AB/BС"},null,0,0,0,null,null,null,null,null,null,null,null,null,null,"ДУБ, ЭМАЛЬ, ДСП 32, AB/BС"]
[null,null,null,null,null,null,null,null,null,null,null,null,null,null,null,{"$f":"K3&\", \"&H26&\", \"&B17","v":"ДУБ, ЭМАЛЬ, ДСП 36, AB/AB"},null,0,0,0,null,null,null,null,null,null,null,null,null,null,"ДУБ, ЭМАЛЬ, ДСП 36, AB/AB"]
[null,null,null,null,null,null,null,null,null,null,null,null,null,null,null,{"$f":"K3&\", \"&H26&\", \"&B18","v":"ДУБ, ЭМАЛЬ, ДСП 36, AB/BС"},null,0,0,0,null,null,null,null,null,null,null,null,null,null,"ДУБ, ЭМАЛЬ, ДСП 36, AB/BС"]
[null,null,null,null,null,null,null,null,null,null,null,null,null,null,null,{"$f":"K3&\", \"&H26&\", \"&B19","v":"ДУБ, ЭМАЛЬ, МДФ 9, AB/AB"},null,0,0,0,null,null,null,null,null,null,null,null,null,null,"ДУБ, ЭМАЛЬ, МДФ 9, AB/AB"]
[null,null,null,null,null,null,null,null,null,null,null,null,null,null,null,{"$f":"K3&\", \"&H26&\", \"&B20","v":"ДУБ, ЭМАЛЬ, МДФ 9, AB/BC"},null,0,0,0,null,null,null,null,null,null,null,null,null,null,"ДУБ, ЭМАЛЬ, МДФ 9, AB/BC"]
[null,null,null,null,null,null,null,null,null,null,null,null,null,null,null,{"$f":"K3&\", \"&H26&\", \"&B21","v":"ДУБ, ЭМАЛЬ, МДФ 9, BC/BC"},null,0,0,0,null,null,null,null,null,null,null,null,null,null,"ДУБ, ЭМАЛЬ, МДФ 9, BC/BC"]
[null,null,null,null,null,null,null,null,null,null,null,null,null,null,null,{"$f":"K3&\", \"&H26&\", \"&B22","v":"ДУБ, ЭМАЛЬ, МДФ 19, AB/AB"},null,0,0,0,null,null,null,null,null,null,null,null,null,null,"ДУБ, ЭМАЛЬ, МДФ 19, AB/AB"]
[null,null,null,null,null,null,null,null,null,null,null,null,null,null,null,{"$f":"K3&\", \"&H26&\", \"&B23","v":"ДУБ, ЭМАЛЬ, МДФ 19, AB/BC"},null,0,0,0,null,null,null,null,null,null,null,null,null,null,"ДУБ, ЭМАЛЬ, МДФ 19, AB/BC"]
[null,null,null,null,null,null,null,null,null,null,null,null,null,null,null,{"$f":"K3&\", \"&H26&\", \"&B24","v":"ДУБ, ЭМАЛЬ, МДФ 19, AB/карт."},null,0,0,0,null,null,null,null,null,null,null,null,null,null,"ДУБ, ЭМАЛЬ, МДФ 19, AB/карт."]
[null,null,null,null,null,null,null,null,null,null,null,null,null,null,null,{"$f":"K3&\", \"&H26&\", \"&B25","v":"ДУБ, ЭМАЛЬ, МДФ 26, AB/AB"},null,0,0,0,null,null,null,null,null,null,null,null,null,null,"ДУБ, ЭМАЛЬ, МДФ 26, AB/AB"]
[null,null,null,null,null,null,null,null,null,null,null,null,null,null,null,{"$f":"K3&\", \"&H26&\", \"&B26","v":"ДУБ, ЭМАЛЬ, МДФ 26, AB/BC"},null,0,0,0,null,null,null,null,null,null,null,null,null,null,"ДУБ, ЭМАЛЬ, МДФ 26, AB/BC"]
[null,null,null,null,null,null,null,null,null,null,null,null,null,null,null,{"$f":"K3&\", \"&H26&\", \"&B27","v":"ДУБ, ЭМАЛЬ, МДФ 37, AB/AB"},null,0,0,0,null,null,null,null,null,null,null,null,null,null,"ДУБ, ЭМАЛЬ, МДФ 37, AB/AB"]
[null,null,null,null,null,null,null,null,null,null,null,null,null,null,null,{"$f":"K3&\", \"&H26&\", \"&B28","v":"ДУБ, ЭМАЛЬ, МДФ 37, AB/BC"},null,0,0,0,null,null,null,null,null,null,null,null,null,null,"ДУБ, ЭМАЛЬ, МДФ 37, AB/BC"]
[null,null,null,null,null,null,null,null,null,null,null,null,null,null,null,{"$f":"K3&\", \"&H27&\", \"&B3","v":"ДУБ, ЛАК, ДСП 10, AB/лам."},{"$f":"AF55+AG55","v":796},1768,54,66,null,null,null,null,null,null,null,null,null,null,"ДУБ, ЛАК, ДСП 10, AB/лам.",692,104]
[null,null,null,null,null,null,null,null,null,null,null,null,null,null,null,{"$f":"K3&\", \"&H27&\", \"&B4","v":"ДУБ, ЛАК, ДСП 16, AB/AB"},{"$f":"AF56+AG56","v":1139},2529,77,94,null,null,null,null,null,null,null,null,null,null,"ДУБ, ЛАК, ДСП 16, AB/AB",1035,104]
[null,null,null,null,null,null,null,null,null,null,null,null,null,null,null,{"$f":"K3&\", \"&H27&\", \"&B5","v":"ДУБ, ЛАК, ДСП 16, AB/BC"},1091,2423,74,90,null,null,null,null,null,null,null,null,null,null,"ДУБ, ЛАК, ДСП 16, AB/BC",987,104]
[null,null,null,null,null,null,null,null,null,null,null,null,null,null,null,{"$f":"K3&\", \"&H27&\", \"&B6","v":"ДУБ, ЛАК, ДСП 16, AB/карт."},1020,2265,69,84,null,null,null,null,null,null,null,null,null,null,"ДУБ, ЛАК, ДСП 16, AB/карт.",916,104]
[null,null,null,null,null,null,null,null,null,null,null,null,null,null,null,{"$f":"K3&\", \"&H27&\", \"&B7","v":"ДУБ, ЛАК, ДСП 16, BC/BC"},1043,2316,71,86,null,null,null,null,null,null,null,null,null,null,"ДУБ, ЛАК, ДСП 16, BC/BC",939,104]
[null,null,null,null,null,null,null,null,null,null,null,null,null,null,null,{"$f":"K3&\", \"&H27&\", \"&B8","v":"ДУБ, ЛАК, ДСП 18, AB/AB"},1183,2627,80,98,null,null,null,null,null,null,null,null,null,null,"ДУБ, ЛАК, ДСП 18, AB/AB",1079,104]
[null,null,null,null,null,null,null,null,null,null,null,null,null,null,null,{"$f":"K3&\", \"&H27&\", \"&B9","v":"ДУБ, ЛАК, ДСП 18, AB/BC"},1136,2522,77,94,null,null,null,null,null,null,null,null,null,null,"ДУБ, ЛАК, ДСП 18, AB/BC",1032,104]
[null,null,null,null,null,null,null,null,null,null,null,null,null,null,null,{"$f":"K3&\", \"&H27&\", \"&B10","v":"ДУБ, ЛАК, ДСП 18, AB/карт."},1064,2363,72,88,null,null,null,null,null,null,null,null,null,null,"ДУБ, ЛАК, ДСП 18, AB/карт.",960,104]
[null,null,null,null,null,null,null,null,null,null,null,null,null,null,null,{"$f":"K3&\", \"&H27&\", \"&B11","v":"ДУБ, ЛАК, ДСП 22, AB/AB"},1188,2638,80,98,null,null,null,null,null,null,null,null,null,null,"ДУБ, ЛАК, ДСП 22, AB/AB",1078,110]
[null,null,null,null,null,null,null,null,null,null,null,null,null,null,null,{"$f":"K3&\", \"&H27&\", \"&B12","v":"ДУБ, ЛАК, ДСП 22, AB/BС"},1139,2529,77,94,null,null,null,null,null,null,null,null,null,null,"ДУБ, ЛАК, ДСП 22, AB/BС",1029,110]
[null,null,null,null,null,null,null,null,null,null,null,null,null,null,null,{"$f":"K3&\", \"&H27&\", \"&B13","v":"ДУБ, ЛАК, ДСП 25, AB/AB"},1265,2809,86,105,null,null,null,null,null,null,null,null,null,null,"ДУБ, ЛАК, ДСП 25, AB/AB",1155,110]
[null,null,null,null,null,null,null,null,null,null,null,null,null,null,null,{"$f":"K3&\", \"&H27&\", \"&B14","v":"ДУБ, ЛАК, ДСП 25, AB/BС"},1218,2704,82,101,null,null,null,null,null,null,null,null,null,null,"ДУБ, ЛАК, ДСП 25, AB/BС",1108,110]
[null,null,null,null,null,null,null,null,null,null,null,null,null,null,null,{"$f":"K3&\", \"&H27&\", \"&B15","v":"ДУБ, ЛАК, ДСП 32, AB/AB"},1350,{"$f":"ROUNDUP(Q67*К_НАЦЕНКА,0)","v":2997},{"$f":"ROUNDUP(R67/EURO_PRISE,0)","v":91},{"$f":"ROUNDUP(R67/USD_PRISE,0)","v":111},null,null,null,null,null,null,null,null,null,null,"ДУБ, ЛАК, ДСП 32, AB/AB",1188,162]
[null,null,null,null,null,null,null,null,null,null,null,null,null,null,null,{"$f":"K3&\", \"&H27&\", \"&B16","v":"ДУБ, ЛАК, ДСП 32, AB/BС"},1302,2891,88,108,null,null,null,null,null,null,null,null,null,null,"ДУБ, ЛАК, ДСП 32, AB/BС",1140,162]
[null,null,null,null,null,null,null,null,null,null,null,null,null,null,null,{"$f":"K3&\", \"&H27&\", \"&B17","v":"ДУБ, ЛАК, ДСП 36, AB/AB"},1394,3095,94,115,null,null,null,null,null,null,null,null,null,null,"ДУБ, ЛАК, ДСП 36, AB/AB",1232,162]
[null,null,null,null,null,null,null,null,null,null,null,null,null,null,null,{"$f":"K3&\", \"&H27&\", \"&B18","v":"ДУБ, ЛАК, ДСП 36, AB/BС"},1346,2989,91,111,null,null,null,null,null,null,null,null,null,null,"ДУБ, ЛАК, ДСП 36, AB/BС",1184,162]
[null,null,null,null,null,null,null,null,null,null,null,null,null,null,null,{"$f":"K3&\", \"&H27&\", \"&B19","v":"ДУБ, ЛАК, МДФ 9, AB/AB"},1182,2625,80,98,null,null,null,null,null,null,null,null,null,null,"ДУБ, ЛАК, МДФ 9, AB/AB",1078,104]
[null,null,null,null,null,null,null,null,null,null,null,null,null,null,null,{"$f":"K3&\", \"&H27&\", \"&B20","v":"ДУБ, ЛАК, МДФ 9, AB/BC"},1134,2518,77,94,null,null,null,null,null,null,null,null,null,null,"ДУБ, ЛАК, МДФ 9, AB/BC",1030,104]
[null,null,null,null,null,null,null,null,null,null,null,null,null,null,null,{"$f":"K3&\", \"&H27&\", \"&B21","v":"ДУБ, ЛАК, МДФ 9, BC/BC"},1086,2411,74,90,null,null,null,null,null,null,null,null,null,null,"ДУБ, ЛАК, МДФ 9, BC/BC",982,104]
[null,null,null,null,null,null,null,null,null,null,null,null,null,null,null,{"$f":"K3&\", \"&H27&\", \"&B22","v":"ДУБ, ЛАК, МДФ 19, AB/AB"},1266,2811,86,105,null,null,null,null,null,null,null,null,null,null,"ДУБ, ЛАК, МДФ 19, AB/AB",1162,104]
[null,null,null,null,null,null,null,null,null,null,null,null,null,null,null,{"$f":"K3&\", \"&H27&\", \"&B23","v":"ДУБ, ЛАК, МДФ 19, AB/BC"},1217,2702,82,101,null,null,null,null,null,null,null,null,null,null,"ДУБ, ЛАК, МДФ 19, AB/BC",1113,104]
[null,null,null,null,null,null,null,null,null,null,null,null,null,null,null,{"$f":"K3&\", \"&H27&\", \"&B24","v":"ДУБ, ЛАК, МДФ 19, AB/карт."},1146,2545,78,95,null,null,null,null,null,null,null,null,null,null,"ДУБ, ЛАК, МДФ 19, AB/карт.",1042,104]
[null,null,null,null,null,null,null,null,null,null,null,null,null,null,null,{"$f":"K3&\", \"&H27&\", \"&B25","v":"ДУБ, ЛАК, МДФ 26, AB/AB"},1354,3006,92,112,null,null,null,null,null,null,null,null,null,null,"ДУБ, ЛАК, МДФ 26, AB/AB",1244,110]
[null,null,null,null,null,null,null,null,null,null,null,null,null,null,null,{"$f":"K3&\", \"&H27&\", \"&B26","v":"ДУБ, ЛАК, МДФ 26, AB/BC"},1306,2900,88,108,null,null,null,null,null,null,null,null,null,null,"ДУБ, ЛАК, МДФ 26, AB/BC",1196,110]
[null,null,null,null,null,null,null,null,null,null,null,null,null,null,null,{"$f":"K3&\", \"&H27&\", \"&B27","v":"ДУБ, ЛАК, МДФ 37, AB/AB"},1558,3459,105,129,null,null,null,null,null,null,null,null,null,null,"ДУБ, ЛАК, МДФ 37, AB/AB",1396,162]
[null,null,null,null,null,null,null,null,null,null,null,null,null,null,null,{"$f":"K3&\", \"&H27&\", \"&B28","v":"ДУБ, ЛАК, МДФ 37, AB/BC"},1510,3353,102,125,null,null,null,null,null,null,null,null,null,null,"ДУБ, ЛАК, МДФ 37, AB/BC",1348,162]
[null,null,null,null,null,null,null,null,null,null,null,null,null,null,null,{"$f":"K3&\", \"&H28&\", \"&B3","v":"ДУБ, МАСЛО, ДСП 10, AB/лам."},636,1412,43,53,null,null,null,null,null,null,null,null,null,null,"ДУБ, МАСЛО, ДСП 10, AB/лам.",532,104]
[null,null,null,null,null,null,null,null,null,null,null,null,null,null,null,{"$f":"K3&\", \"&H28&\", \"&B4","v":"ДУБ, МАСЛО, ДСП 16, AB/AB"},753,1672,51,62,null,null,null,null,null,null,null,null,null,null,"ДУБ, МАСЛО, ДСП 16, AB/AB",649,104]
[null,null,null,null,null,null,null,null,null,null,null,null,null,null,null,{"$f":"K3&\", \"&H28&\", \"&B5","v":"ДУБ, МАСЛО, ДСП 16, AB/BC"},706,1568,48,59,null,null,null,null,null,null,null,null,null,null,"ДУБ, МАСЛО, ДСП 16, AB/BC",602,104]
[null,null,null,null,null,null,null,null,null,null,null,null,null,null,null,{"$f":"K3&\", \"&H28&\", \"&B6","v":"ДУБ, МАСЛО, ДСП 16, AB/карт."},604,1341,41,50,null,null,null,null,null,null,null,null,null,null,"ДУБ, МАСЛО, ДСП 16, AB/карт.",500,104]
[null,null,null,null,null,null,null,null,null,null,null,null,null,null,null,{"$f":"K3&\", \"&H28&\", \"&B7","v":"ДУБ, МАСЛО, ДСП 16, BC/BC"},657,1459,45,55,null,null,null,null,null,null,null,null,null,null,"ДУБ, МАСЛО, ДСП 16, BC/BC",553,104]
[null,null,null,null,null,null,null,null,null,null,null,null,null,null,null,{"$f":"K3&\", \"&H28&\", \"&B8","v":"ДУБ, МАСЛО, ДСП 18, AB/AB"},797,1770,54,66,null,null,null,null,null,null,null,null,null,null,"ДУБ, МАСЛО, ДСП 18, AB/AB",693,104]
[null,null,null,null,null,null,null,null,null,null,null,null,null,null,null,{"$f":"K3&\", \"&H28&\", \"&B9","v":"ДУБ, МАСЛО, ДСП 18, AB/BC"},749,1663,51,62,null,null,null,null,null,null,null,null,null,null,"ДУБ, МАСЛО, ДСП 18, AB/BC",645,104]
[null,null,null,null,null,null,null,null,null,null,null,null,null,null,null,{"$f":"K3&\", \"&H28&\", \"&B10","v":"ДУБ, МАСЛО, ДСП 18, AB/карт."},641,1424,44,53,null,null,null,null,null,null,null,null,null,null,"ДУБ, МАСЛО, ДСП 18, AB/карт.",537,104]
[null,null,null,null,null,null,null,null,null,null,null,null,null,null,null,{"$f":"K3&\", \"&H28&\", \"&B11","v":"ДУБ, МАСЛО, ДСП 22, AB/AB"},802,1781,54,66,null,null,null,null,null,null,null,null,null,null,"ДУБ, МАСЛО, ДСП 22, AB/AB",692,110]
[null,null,null,null,null,null,null,null,null,null,null,null,null,null,null,{"$f":"K3&\", \"&H28&\", \"&B12","v":"ДУБ, МАСЛО, ДСП 22, AB/BС"},753,1672,51,62,null,null,null,null,null,null,null,null,null,null,"ДУБ, МАСЛО, ДСП 22, AB/BС",643,110]
[null,null,null,null,null,null,null,null,null,null,null,null,null,null,null,{"$f":"K3&\", \"&H28&\", \"&B13","v":"ДУБ, МАСЛО, ДСП 25, AB/AB"},878,1950,60,73,null,null,null,null,null,null,null,null,null,null,"ДУБ, МАСЛО, ДСП 25, AB/AB",768,110]
[null,null,null,null,null,null,null,null,null,null,null,null,null,null,null,{"$f":"K3&\", \"&H28&\", \"&B14","v":"ДУБ, МАСЛО, ДСП 25, AB/BС"},832,1848,56,69,null,null,null,null,null,null,null,null,null,null,"ДУБ, МАСЛО, ДСП 25, AB/BС",722,110]
[null,null,null,null,null,null,null,null,null,null,null,null,null,null,null,{"$f":"K3&\", \"&H28&\", \"&B15","v":"ДУБ, МАСЛО, ДСП 32, AB/AB"},964,2141,65,80,null,null,null,null,null,null,null,null,null,null,"ДУБ, МАСЛО, ДСП 32, AB/AB",802,162]
[null,null,null,null,null,null,null,null,null,null,null,null,null,null,null,{"$f":"K3&\", \"&H28&\", \"&B16","v":"ДУБ, МАСЛО, ДСП 32, AB/BС"},916,2034,62,76,null,null,null,null,null,null,null,null,null,null,"ДУБ, МАСЛО, ДСП 32, AB/BС",754,162]
[null,null,null,null,null,null,null,null,null,null,null,null,null,null,null,{"$f":"K3&\", \"&H28&\", \"&B17","v":"ДУБ, МАСЛО, ДСП 36, AB/AB"},1008,2238,68,83,null,null,null,null,null,null,null,null,null,null,"ДУБ, МАСЛО, ДСП 36, AB/AB",846,162]
[null,null,null,null,null,null,null,null,null,null,null,null,null,null,null,{"$f":"K3&\", \"&H28&\", \"&B18","v":"ДУБ, МАСЛО, ДСП 36, AB/BС"},960,2132,65,79,null,null,null,null,null,null,null,null,null,null,"ДУБ, МАСЛО, ДСП 36, AB/BС",798,162]
[null,null,null,null,null,null,null,null,null,null,null,null,null,null,null,{"$f":"K3&\", \"&H28&\", \"&B19","v":"ДУБ, МАСЛО, МДФ 9, AB/AB"},796,1768,54,66,null,null,null,null,null,null,null,null,null,null,"ДУБ, МАСЛО, МДФ 9, AB/AB",692,104]
[null,null,null,null,null,null,null,null,null,null,null,null,null,null,null,{"$f":"K3&\", \"&H28&\", \"&B20","v":"ДУБ, МАСЛО, МДФ 9, AB/BC"},748,1661,51,62,null,null,null,null,null,null,null,null,null,null,"ДУБ, МАСЛО, МДФ 9, AB/BC",644,104]
[null,null,null,null,null,null,null,null,null,null,null,null,null,null,null,{"$f":"K3&\", \"&H28&\", \"&B21","v":"ДУБ, МАСЛО, МДФ 9, BC/BC"},700,1554,48,58,null,null,null,null,null,null,null,null,null,null,"ДУБ, МАСЛО, МДФ 9, BC/BC",596,104]
[null,null,null,null,null,null,null,null,null,null,null,null,null,null,null,{"$f":"K3&\", \"&H28&\", \"&B22","v":"ДУБ, МАСЛО, МДФ 19, AB/AB"},879,1952,60,73,null,null,null,null,null,null,null,null,null,null,"ДУБ, МАСЛО, МДФ 19, AB/AB",775,104]
[null,null,null,null,null,null,null,null,null,null,null,null,null,null,null,{"$f":"K3&\", \"&H28&\", \"&B23","v":"ДУБ, МАСЛО, МДФ 19, AB/BC"},831,1845,56,69,null,null,null,null,null,null,null,null,null,null,"ДУБ, МАСЛО, МДФ 19, AB/BC",727,104]
[null,null,null,null,null,null,null,null,null,null,null,null,null,null,null,{"$f":"K3&\", \"&H28&\", \"&B24","v":"ДУБ, МАСЛО, МДФ 19, AB/карт."},723,1606,49,60,null,null,null,null,null,null,null,null,null,null,"ДУБ, МАСЛО, МДФ 19, AB/карт.",619,104]
[null,null,null,null,null,null,null,null,null,null,null,null,null,null,null,{"$f":"K3&\", \"&H28&\", \"&B25","v":"ДУБ, МАСЛО, МДФ 26, AB/AB"},968,2149,66,80,null,null,null,null,null,null,null,null,null,null,"ДУБ, МАСЛО, МДФ 26, AB/AB",858,110]
[null,null,null,null,null,null,null,null,null,null,null,null,null,null,null,{"$f":"K3&\", \"&H28&\", \"&B26","v":"ДУБ, МАСЛО, МДФ 26, AB/BC"},920,2043,62,76,null,null,null,null,null,null,null,null,null,null,"ДУБ, МАСЛО, МДФ 26, AB/BC",810,110]
[null,null,null,null,null,null,null,null,null,null,null,null,null,null,null,{"$f":"K3&\", \"&H28&\", \"&B27","v":"ДУБ, МАСЛО, МДФ 37, AB/AB"},1172,2602,79,97,null,null,null,null,null,null,null,null,null,null,"ДУБ, МАСЛО, МДФ 37, AB/AB",1010,162]
[null,null,null,null,null,null,null,null,null,null,null,null,null,null,null,{"$f":"K3&\", \"&H28&\", \"&B28","v":"ДУБ, МАСЛО, МДФ 37, AB/BC"},1124,2496,76,93,null,null,null,null,null,null,null,null,null,null,"ДУБ, МАСЛО, МДФ 37, AB/BC",962,162]
[null,null,null,null,null,null,null,null,null,null,null,null,null,null,null,{"$f":"K5&\", \"&H25&\", \"&B3","v":"ЯСЕНЬ, Б/О, ДСП 10, AB/лам."},null,0,0,0,null,null,null,null,null,null,null,null,null,null,"ЯСЕНЬ, Б/О, ДСП 10, AB/лам."]
[null,null,null,null,null,null,null,null,null,null,null,null,null,null,null,{"$f":"K5&\", \"&H25&\", \"&B4","v":"ЯСЕНЬ, Б/О, ДСП 16, AB/AB"},null,0,0,0,null,null,null,null,null,null,null,null,null,null,"ЯСЕНЬ, Б/О, ДСП 16, AB/AB"]
[null,null,null,null,null,null,null,null,null,null,null,null,null,null,null,{"$f":"K5&\", \"&H25&\", \"&B5","v":"ЯСЕНЬ, Б/О, ДСП 16, AB/BC"},null,0,0,0,null,null,null,null,null,null,null,null,null,null,"ЯСЕНЬ, Б/О, ДСП 16, AB/BC"]
[null,null,null,null,null,null,null,null,null,null,null,null,null,null,null,{"$f":"K5&\", \"&H25&\", \"&B6","v":"ЯСЕНЬ, Б/О, ДСП 16, AB/карт."},null,0,0,0,null,null,null,null,null,null,null,null,null,null,"ЯСЕНЬ, Б/О, ДСП 16, AB/карт."]
[null,null,null,null,null,null,null,null,null,null,null,null,null,null,null,{"$f":"K5&\", \"&H25&\", \"&B7","v":"ЯСЕНЬ, Б/О, ДСП 16, BC/BC"},null,0,0,0,null,null,null,null,null,null,null,null,null,null,"ЯСЕНЬ, Б/О, ДСП 16, BC/BC"]
[null,null,null,null,null,null,null,null,null,null,null,null,null,null,null,{"$f":"K5&\", \"&H25&\", \"&B8","v":"ЯСЕНЬ, Б/О, ДСП 18, AB/AB"},null,0,0,0,null,null,null,null,null,null,null,null,null,null,"ЯСЕНЬ, Б/О, ДСП 18, AB/AB"]
[null,null,null,null,null,null,null,null,null,null,null,null,null,null,null,{"$f":"K5&\", \"&H25&\", \"&B9","v":"ЯСЕНЬ, Б/О, ДСП 18, AB/BC"},null,0,0,0,null,null,null,null,null,null,null,null,null,null,"ЯСЕНЬ, Б/О, ДСП 18, AB/BC"]
[null,null,null,null,null,null,null,null,null,null,null,null,null,null,null,{"$f":"K5&\", \"&H25&\", \"&B10","v":"ЯСЕНЬ, Б/О, ДСП 18, AB/карт."},null,0,0,0,null,null,null,null,null,null,null,null,null,null,"ЯСЕНЬ, Б/О, ДСП 18, AB/карт."]
[null,null,null,null,null,null,null,null,null,null,null,null,null,null,null,{"$f":"K5&\", \"&H25&\", \"&B11","v":"ЯСЕНЬ, Б/О, ДСП 22, AB/AB"},null,0,0,0,null,null,null,null,null,null,null,null,null,null,"ЯСЕНЬ, Б/О, ДСП 22, AB/AB"]
[null,null,null,null,null,null,null,null,null,null,null,null,null,null,null,{"$f":"K5&\", \"&H25&\", \"&B12","v":"ЯСЕНЬ, Б/О, ДСП 22, AB/BС"},null,0,0,0,null,null,null,null,null,null,null,null,null,null,"ЯСЕНЬ, Б/О, ДСП 22, AB/BС"]
[null,null,null,null,null,null,null,null,null,null,null,null,null,null,null,{"$f":"K5&\", \"&H25&\", \"&B13","v":"ЯСЕНЬ, Б/О, ДСП 25, AB/AB"},null,0,0,0,null,null,null,null,null,null,null,null,null,null,"ЯСЕНЬ, Б/О, ДСП 25, AB/AB"]
[null,null,null,null,null,null,null,null,null,null,null,null,null,null,null,{"$f":"K5&\", \"&H25&\", \"&B14","v":"ЯСЕНЬ, Б/О, ДСП 25, AB/BС"},null,0,0,0,null,null,null,null,null,null,null,null,null,null,"ЯСЕНЬ, Б/О, ДСП 25, AB/BС"]
[null,null,null,null,null,null,null,null,null,null,null,null,null,null,null,{"$f":"K5&\", \"&H25&\", \"&B15","v":"ЯСЕНЬ, Б/О, ДСП 32, AB/AB"},null,0,0,0,null,null,null,null,null,null,null,null,null,null,"ЯСЕНЬ, Б/О, ДСП 32, AB/AB"]
[null,null,null,null,null,null,null,null,null,null,null,null,null,null,null,{"$f":"K5&\", \"&H25&\", \"&B16","v":"ЯСЕНЬ, Б/О, ДСП 32, AB/BС"},null,0,0,0,null,null,null,null,null,null,null,null,null,null,"ЯСЕНЬ, Б/О, ДСП 32, AB/BС"]
[null,null,null,null,null,null,null,null,null,null,null,null,null,null,null,{"$f":"K5&\", \"&H25&\", \"&B17","v":"ЯСЕНЬ, Б/О, ДСП 36, AB/AB"},null,0,0,0,null,null,null,null,null,null,null,null,null,null,"ЯСЕНЬ, Б/О, ДСП 36, AB/AB"]
[null,null,null,null,null,null,null,null,null,null,null,null,null,null,null,{"$f":"K5&\", \"&H25&\", \"&B18","v":"ЯСЕНЬ, Б/О, ДСП 36, AB/BС"},null,0,0,0,null,null,null,null,null,null,null,null,null,null,"ЯСЕНЬ, Б/О, ДСП 36, AB/BС"]
[null,null,null,null,null,null,null,null,null,null,null,null,null,null,null,{"$f":"K5&\", \"&H25&\", \"&B19","v":"ЯСЕНЬ, Б/О, МДФ 9, AB/AB"},null,0,0,0,null,null,null,null,null,null,null,null,null,null,"ЯСЕНЬ, Б/О, МДФ 9, AB/AB"]
[null,null,null,null,null,null,null,null,null,null,null,null,null,null,null,{"$f":"K5&\", \"&H25&\", \"&B20","v":"ЯСЕНЬ, Б/О, МДФ 9, AB/BC"},null,0,0,0,null,null,null,null,null,null,null,null,null,null,"ЯСЕНЬ, Б/О, МДФ 9, AB/BC"]
[null,null,null,null,null,null,null,null,null,null,null,null,null,null,null,{"$f":"K5&\", \"&H25&\", \"&B21","v":"ЯСЕНЬ, Б/О, МДФ 9, BC/BC"},null,0,0,0,null,null,null,null,null,null,null,null,null,null,"ЯСЕНЬ, Б/О, МДФ 9, BC/BC"]
[null,null,null,null,null,null,null,null,null,null,null,null,null,null,null,{"$f":"K5&\", \"&H25&\", \"&B22","v":"ЯСЕНЬ, Б/О, МДФ 19, AB/AB"},null,0,0,0,null,null,null,null,null,null,null,null,null,null,"ЯСЕНЬ, Б/О, МДФ 19, AB/AB"]
[null,null,null,null,null,null,null,null,null,null,null,null,null,null,null,{"$f":"K5&\", \"&H25&\", \"&B23","v":"ЯСЕНЬ, Б/О, МДФ 19, AB/BC"},null,0,0,0,null,null,null,null,null,null,null,null,null,null,"ЯСЕНЬ, Б/О, МДФ 19, AB/BC"]
[null,null,null,null,null,null,null,null,null,null,null,null,null,null,null,{"$f":"K5&\", \"&H25&\", \"&B24","v":"ЯСЕНЬ, Б/О, МДФ 19, AB/карт."},null,0,0,0,null,null,null,null,null,null,null,null,null,null,"ЯСЕНЬ, Б/О, МДФ 19, AB/карт."]
[null,null,null,null,null,null,null,null,null,null,null,null,null,null,null,{"$f":"K5&\", \"&H25&\", \"&B25","v":"ЯСЕНЬ, Б/О, МДФ 26, AB/AB"},null,0,0,0,null,null,null,null,null,null,null,null,null,null,"ЯСЕНЬ, Б/О, МДФ 26, AB/AB"]
[null,null,null,null,null,null,null,null,null,null,null,null,null,null,null,{"$f":"K5&\", \"&H25&\", \"&B26","v":"ЯСЕНЬ, Б/О, МДФ 26, AB/BC"},null,0,0,0,null,null,null,null,null,null,null,null,null,null,"ЯСЕНЬ, Б/О, МДФ 26, AB/BC"]
[null,null,null,null,null,null,null,null,null,null,null,null,null,null,null,{"$f":"K5&\", \"&H25&\", \"&B27","v":"ЯСЕНЬ, Б/О, МДФ 37, AB/AB"},null,{"$f":"ROUNDUP(Q131*К_НАЦЕНКА,0)","v":0},{"$f":"ROUNDUP(R131/EURO_PRISE,0)","v":0},{"$f":"ROUNDUP(R131/USD_PRISE,0)","v":0},null,null,null,null,null,null,null,null,null,null,"ЯСЕНЬ, Б/О, МДФ 37, AB/AB"]
[null,null,null,null,null,null,null,null,null,null,null,null,null,null,null,{"$f":"K5&\", \"&H25&\", \"&B28","v":"ЯСЕНЬ, Б/О, МДФ 37, AB/BC"},null,0,0,0,null,null,null,null,null,null,null,null,null,null,"ЯСЕНЬ, Б/О, МДФ 37, AB/BC"]
[null,null,null,null,null,null,null,null,null,null,null,null,null,null,null,{"$f":"K5&\", \"&H26&\", \"&B3","v":"ЯСЕНЬ, ЭМАЛЬ, ДСП 10, AB/лам."},null,0,0,0,null,null,null,null,null,null,null,null,null,null,"ЯСЕНЬ, ЭМАЛЬ, ДСП 10, AB/лам."]
[null,null,null,null,null,null,null,null,null,null,null,null,null,null,null,{"$f":"K5&\", \"&H26&\", \"&B4","v":"ЯСЕНЬ, ЭМАЛЬ, ДСП 16, AB/AB"},null,0,0,0,null,null,null,null,null,null,null,null,null,null,"ЯСЕНЬ, ЭМАЛЬ, ДСП 16, AB/AB"]
[null,null,null,null,null,null,null,null,null,null,null,null,null,null,null,{"$f":"K5&\", \"&H26&\", \"&B5","v":"ЯСЕНЬ, ЭМАЛЬ, ДСП 16, AB/BC"},null,0,0,0,null,null,null,null,null,null,null,null,null,null,"ЯСЕНЬ, ЭМАЛЬ, ДСП 16, AB/BC"]
[null,null,null,null,null,null,null,null,null,null,null,null,null,null,null,{"$f":"K5&\", \"&H26&\", \"&B6","v":"ЯСЕНЬ, ЭМАЛЬ, ДСП 16, AB/карт."},null,0,0,0,null,null,null,null,null,null,null,null,null,null,"ЯСЕНЬ, ЭМАЛЬ, ДСП 16, AB/карт."]
[null,null,null,null,null,null,null,null,null,null,null,null,null,null,null,{"$f":"K5&\", \"&H26&\", \"&B7","v":"ЯСЕНЬ, ЭМАЛЬ, ДСП 16, BC/BC"},null,0,0,0,null,null,null,null,null,null,null,null,null,null,"ЯСЕНЬ, ЭМАЛЬ, ДСП 16, BC/BC"]
[null,null,null,null,null,null,null,null,null,null,null,null,null,null,null,{"$f":"K5&\", \"&H26&\", \"&B8","v":"ЯСЕНЬ, ЭМАЛЬ, ДСП 18, AB/AB"},null,0,0,0,null,null,null,null,null,null,null,null,null,null,"ЯСЕНЬ, ЭМАЛЬ, ДСП 18, AB/AB"]
[null,null,null,null,null,null,null,null,null,null,null,null,null,null,null,{"$f":"K5&\", \"&H26&\", \"&B9","v":"ЯСЕНЬ, ЭМАЛЬ, ДСП 18, AB/BC"},null,0,0,0,null,null,null,null,null,null,null,null,null,null,"ЯСЕНЬ, ЭМАЛЬ, ДСП 18, AB/BC"]
[null,null,null,null,null,null,null,null,null,null,null,null,null,null,null,{"$f":"K5&\", \"&H26&\", \"&B10","v":"ЯСЕНЬ, ЭМАЛЬ, ДСП 18, AB/карт."},null,0,0,0,null,null,null,null,null,null,null,null,null,null,"ЯСЕНЬ, ЭМАЛЬ, ДСП 18, AB/карт."]
[null,null,null,null,null,null,null,null,null,null,null,null,null,null,null,{"$f":"K5&\", \"&H26&\", \"&B11","v":"ЯСЕНЬ, ЭМАЛЬ, ДСП 22, AB/AB"},null,0,0,0,null,null,null,null,null,null,null,null,null,null,"ЯСЕНЬ, ЭМАЛЬ, ДСП 22, AB/AB"]
[null,null,null,null,null,null,null,null,null,null,null,null,null,null,null,{"$f":"K5&\", \"&H26&\", \"&B12","v":"ЯСЕНЬ, ЭМАЛЬ, ДСП 22, AB/BС"},null,0,0,0,null,null,null,null,null,null,null,null,null,null,"ЯСЕНЬ, ЭМАЛЬ, ДСП 22, AB/BС"]
[null,null,null,null,null,null,null,null,null,null,null,null,null,null,null,{"$f":"K5&\", \"&H26&\", \"&B13","v":"ЯСЕНЬ, ЭМАЛЬ, ДСП 25, AB/AB"},null,0,0,0,null,null,null,null,null,null,null,null,null,null,"ЯСЕНЬ, ЭМАЛЬ, ДСП 25, AB/AB"]
[null,null,null,null,null,null,null,null,null,null,null,null,null,null,null,{"$f":"K5&\", \"&H26&\", \"&B14","v":"ЯСЕНЬ, ЭМАЛЬ, ДСП 25, AB/BС"},null,0,0,0,null,null,null,null,null,null,null,null,null,null,"ЯСЕНЬ, ЭМАЛЬ, ДСП 25, AB/BС"]
[null,null,null,null,null,null,null,null,null,null,null,null,null,null,null,{"$f":"K5&\", \"&H26&\", \"&B15","v":"ЯСЕНЬ, ЭМАЛЬ, ДСП 32, AB/AB"},null,0,0,0,null,null,null,null,null,null,null,null,null,null,"ЯСЕНЬ, ЭМАЛЬ, ДСП 32, AB/AB"]
[null,null,null,null,null,null,null,null,null,null,null,null,null,null,null,{"$f":"K5&\", \"&H26&\", \"&B16","v":"ЯСЕНЬ, ЭМАЛЬ, ДСП 32, AB/BС"},null,0,0,0,null,null,null,null,null,null,null,null,null,null,"ЯСЕНЬ, ЭМАЛЬ, ДСП 32, AB/BС"]
[null,null,null,null,null,null,null,null,null,null,null,null,null,null,null,{"$f":"K5&\", \"&H26&\", \"&B17","v":"ЯСЕНЬ, ЭМАЛЬ, ДСП 36, AB/AB"},null,0,0,0,null,null,null,null,null,null,null,null,null,null,"ЯСЕНЬ, ЭМАЛЬ, ДСП 36, AB/AB"]
[null,null,null,null,null,null,null,null,null,null,null,null,null,null,null,{"$f":"K5&\", \"&H26&\", \"&B18","v":"ЯСЕНЬ, ЭМАЛЬ, ДСП 36, AB/BС"},null,0,0,0,null,null,null,null,null,null,null,null,null,null,"ЯСЕНЬ, ЭМАЛЬ, ДСП 36, AB/BС"]
[null,null,null,null,null,null,null,null,null,null,null,null,null,null,null,{"$f":"K5&\", \"&H26&\", \"&B19","v":"ЯСЕНЬ, ЭМАЛЬ, МДФ 9, AB/AB"},null,0,0,0,null,null,null,null,null,null,null,null,null,null,"ЯСЕНЬ, ЭМАЛЬ, МДФ 9, AB/AB"]
[null,null,null,null,null,null,null,null,null,null,null,null,null,null,null,{"$f":"K5&\", \"&H26&\", \"&B20","v":"ЯСЕНЬ, ЭМАЛЬ, МДФ 9, AB/BC"},null,0,0,0,null,null,null,null,null,null,null,null,null,null,"ЯСЕНЬ, ЭМАЛЬ, МДФ 9, AB/BC"]
[null,null,null,null,null,null,null,null,null,null,null,null,null,null,null,{"$f":"K5&\", \"&H26&\", \"&B21","v":"ЯСЕНЬ, ЭМАЛЬ, МДФ 9, BC/BC"},null,0,0,0,null,null,null,null,null,null,null,null,null,null,"ЯСЕНЬ, ЭМАЛЬ, МДФ 9, BC/BC"]
[null,null,null,null,null,null,null,null,null,null,null,null,null,null,null,{"$f":"K5&\", \"&H26&\", \"&B22","v":"ЯСЕНЬ, ЭМАЛЬ, МДФ 19, AB/AB"},null,0,0,0,null,null,null,null,null,null,null,null,null,null,"ЯСЕНЬ, ЭМАЛЬ, МДФ 19, AB/AB"]
[null,null,null,null,null,null,null,null,null,null,null,null,null,null,null,{"$f":"K5&\", \"&H26&\", \"&B23","v":"ЯСЕНЬ, ЭМАЛЬ, МДФ 19, AB/BC"},null,0,0,0,null,null,null,null,null,null,null,null,null,null,"ЯСЕНЬ, ЭМАЛЬ, МДФ 19, AB/BC"]
[null,null,null,null,null,null,null,null,null,null,null,null,null,null,null,{"$f":"K5&\", \"&H26&\", \"&B24","v":"ЯСЕНЬ, ЭМАЛЬ, МДФ 19, AB/карт."},null,0,0,0,null,null,null,null,null,null,null,null,null,null,"ЯСЕНЬ, ЭМАЛЬ, МДФ 19, AB/карт."]
[null,null,null,null,null,null,null,null,null,null,null,null,null,null,null,{"$f":"K5&\", \"&H26&\", \"&B25","v":"ЯСЕНЬ, ЭМАЛЬ, МДФ 26, AB/AB"},null,0,0,0,null,null,null,null,null,null,null,null,null,null,"ЯСЕНЬ, ЭМАЛЬ, МДФ 26, AB/AB"]
[null,null,null,null,null,null,null,null,null,null,null,null,null,null,null,{"$f":"K5&\", \"&H26&\", \"&B26","v":"ЯСЕНЬ, ЭМАЛЬ, МДФ 26, AB/BC"},null,0,0,0,null,null,null,null,null,null,null,null,null,null,"ЯСЕНЬ, ЭМАЛЬ, МДФ 26, AB/BC"]
[null,null,null,null,null,null,null,null,null,null,null,null,null,null,null,{"$f":"K5&\", \"&H26&\", \"&B27","v":"ЯСЕНЬ, ЭМАЛЬ, МДФ 37, AB/AB"},null,0,0,0,null,null,null,null,null,null,null,null,null,null,"ЯСЕНЬ, ЭМАЛЬ, МДФ 37, AB/AB"]
[null,null,null,null,null,null,null,null,null,null,null,null,null,null,null,{"$f":"K5&\", \"&H26&\", \"&B28","v":"ЯСЕНЬ, ЭМАЛЬ, МДФ 37, AB/BC"},null,0,0,0,null,null,null,null,null,null,null,null,null,null,"ЯСЕНЬ, ЭМАЛЬ, МДФ 37, AB/BC"]
[null,null,null,null,null,null,null,null,null,null,null,null,null,null,null,{"$f":"K5&\", \"&H27&\", \"&B3","v":"ЯСЕНЬ, ЛАК, ДСП 10, AB/лам."},null,0,0,0,null,null,null,null,null,null,null,null,null,null,"ЯСЕНЬ, ЛАК, ДСП 10, AB/лам."]
[null,null,null,null,null,null,null,null,null,null,null,null,null,null,null,{"$f":"K5&\", \"&H27&\", \"&B4","v":"ЯСЕНЬ, ЛАК, ДСП 16, AB/AB"},null,0,0,0,null,null,null,null,null,null,null,null,null,null,"ЯСЕНЬ, ЛАК, ДСП 16, AB/AB"]
[null,null,null,null,null,null,null,null,null,null,null,null,null,null,null,{"$f":"K5&\", \"&H27&\", \"&B5","v":"ЯСЕНЬ, ЛАК, ДСП 16, AB/BC"},null,0,0,0,null,null,null,null,null,null,null,null,null,null,"ЯСЕНЬ, ЛАК, ДСП 16, AB/BC"]
[null,null,null,null,null,null,null,null,null,null,null,null,null,null,null,{"$f":"K5&\", \"&H27&\", \"&B6","v":"ЯСЕНЬ, ЛАК, ДСП 16, AB/карт."},null,0,0,0,null,null,null,null,null,null,null,null,null,null,"ЯСЕНЬ, ЛАК, ДСП 16, AB/карт."]
[null,null,null,null,null,null,null,null,null,null,null,null,null,null,null,{"$f":"K5&\", \"&H27&\", \"&B7","v":"ЯСЕНЬ, ЛАК, ДСП 16, BC/BC"},null,0,0,0,null,null,null,null,null,null,null,null,null,null,"ЯСЕНЬ, ЛАК, ДСП 16, BC/BC"]
[null,null,null,null,null,null,null,null,null,null,null,null,null,null,null,{"$f":"K5&\", \"&H27&\", \"&B8","v":"ЯСЕНЬ, ЛАК, ДСП 18, AB/AB"},null,0,0,0,null,null,null,null,null,null,null,null,null,null,"ЯСЕНЬ, ЛАК, ДСП 18, AB/AB"]
[null,null,null,null,null,null,null,null,null,null,null,null,null,null,null,{"$f":"K5&\", \"&H27&\", \"&B9","v":"ЯСЕНЬ, ЛАК, ДСП 18, AB/BC"},null,0,0,0,null,null,null,null,null,null,null,null,null,null,"ЯСЕНЬ, ЛАК, ДСП 18, AB/BC"]
[null,null,null,null,null,null,null,null,null,null,null,null,null,null,null,{"$f":"K5&\", \"&H27&\", \"&B10","v":"ЯСЕНЬ, ЛАК, ДСП 18, AB/карт."},null,0,0,0,null,null,null,null,null,null,null,null,null,null,"ЯСЕНЬ, ЛАК, ДСП 18, AB/карт."]
[null,null,null,null,null,null,null,null,null,null,null,null,null,null,null,{"$f":"K5&\", \"&H27&\", \"&B11","v":"ЯСЕНЬ, ЛАК, ДСП 22, AB/AB"},null,0,0,0,null,null,null,null,null,null,null,null,null,null,"ЯСЕНЬ, ЛАК, ДСП 22, AB/AB"]
[null,null,null,null,null,null,null,null,null,null,null,null,null,null,null,{"$f":"K5&\", \"&H27&\", \"&B12","v":"ЯСЕНЬ, ЛАК, ДСП 22, AB/BС"},null,0,0,0,null,null,null,null,null,null,null,null,null,null,"ЯСЕНЬ, ЛАК, ДСП 22, AB/BС"]
[null,null,null,null,null,null,null,null,null,null,null,null,null,null,null,{"$f":"K5&\", \"&H27&\", \"&B13","v":"ЯСЕНЬ, ЛАК, ДСП 25, AB/AB"},null,0,0,0,null,null,null,null,null,null,null,null,null,null,"ЯСЕНЬ, ЛАК, ДСП 25, AB/AB"]
[null,null,null,null,null,null,null,null,null,null,null,null,null,null,null,{"$f":"K5&\", \"&H27&\", \"&B14","v":"ЯСЕНЬ, ЛАК, ДСП 25, AB/BС"},null,0,0,0,null,null,null,null,null,null,null,null,null,null,"ЯСЕНЬ, ЛАК, ДСП 25, AB/BС"]
[null,null,null,null,null,null,null,null,null,null,null,null,null,null,null,{"$f":"K5&\", \"&H27&\", \"&B15","v":"ЯСЕНЬ, ЛАК, ДСП 32, AB/AB"},null,0,0,0,null,null,null,null,null,null,null,null,null,null,"ЯСЕНЬ, ЛАК, ДСП 32, AB/AB"]
[null,null,null,null,null,null,null,null,null,null,null,null,null,null,null,{"$f":"K5&\", \"&H27&\", \"&B16","v":"ЯСЕНЬ, ЛАК, ДСП 32, AB/BС"},null,0,0,0,null,null,null,null,null,null,null,null,null,null,"ЯСЕНЬ, ЛАК, ДСП 32, AB/BС"]
[null,null,null,null,null,null,null,null,null,null,null,null,null,null,null,{"$f":"K5&\", \"&H27&\", \"&B17","v":"ЯСЕНЬ, ЛАК, ДСП 36, AB/AB"},null,0,0,0,null,null,null,null,null,null,null,null,null,null,"ЯСЕНЬ, ЛАК, ДСП 36, AB/AB"]
[null,null,null,null,null,null,null,null,null,null,null,null,null,null,null,{"$f":"K5&\", \"&H27&\", \"&B18","v":"ЯСЕНЬ, ЛАК, ДСП 36, AB/BС"},null,0,0,0,null,null,null,null,null,null,null,null,null,null,"ЯСЕНЬ, ЛАК, ДСП 36, AB/BС"]
[null,null,null,null,null,null,null,null,null,null,null,null,null,null,null,{"$f":"K5&\", \"&H27&\", \"&B19","v":"ЯСЕНЬ, ЛАК, МДФ 9, AB/AB"},null,0,0,0,null,null,null,null,null,null,null,null,null,null,"ЯСЕНЬ, ЛАК, МДФ 9, AB/AB"]
[null,null,null,null,null,null,null,null,null,null,null,null,null,null,null,{"$f":"K5&\", \"&H27&\", \"&B20","v":"ЯСЕНЬ, ЛАК, МДФ 9, AB/BC"},null,0,0,0,null,null,null,null,null,null,null,null,null,null,"ЯСЕНЬ, ЛАК, МДФ 9, AB/BC"]
[null,null,null,null,null,null,null,null,null,null,null,null,null,null,null,{"$f":"K5&\", \"&H27&\", \"&B21","v":"ЯСЕНЬ, ЛАК, МДФ 9, BC/BC"},null,0,0,0,null,null,null,null,null,null,null,null,null,null,"ЯСЕНЬ, ЛАК, МДФ 9, BC/BC"]
[null,null,null,null,null,null,null,null,null,null,null,null,null,null,null,{"$f":"K5&\", \"&H27&\", \"&B22","v":"ЯСЕНЬ, ЛАК, МДФ 19, AB/AB"},null,0,0,0,null,null,null,null,null,null,null,null,null,null,"ЯСЕНЬ, ЛАК, МДФ 19, AB/AB"]
[null,null,null,null,null,null,null,null,null,null,null,null,null,null,null,{"$f":"K5&\", \"&H27&\", \"&B23","v":"ЯСЕНЬ, ЛАК, МДФ 19, AB/BC"},null,0,0,0,null,null,null,null,null,null,null,null,null,null,"ЯСЕНЬ, ЛАК, МДФ 19, AB/BC"]
[null,null,null,null,null,null,null,null,null,null,null,null,null,null,null,{"$f":"K5&\", \"&H27&\", \"&B24","v":"ЯСЕНЬ, ЛАК, МДФ 19, AB/карт."},null,0,0,0,null,null,null,null,null,null,null,null,null,null,"ЯСЕНЬ, ЛАК, МДФ 19, AB/карт."]
[null,null,null,null,null,null,null,null,null,null,null,null,null,null,null,{"$f":"K5&\", \"&H27&\", \"&B25","v":"ЯСЕНЬ, ЛАК, МДФ 26, AB/AB"},null,0,0,0,null,null,null,null,null,null,null,null,null,null,"ЯСЕНЬ, ЛАК, МДФ 26, AB/AB"]
[null,null,null,null,null,null,null,null,null,null,null,null,null,null,null,{"$f":"K5&\", \"&H27&\", \"&B26","v":"ЯСЕНЬ, ЛАК, МДФ 26, AB/BC"},null,0,0,0,null,null,null,null,null,null,null,null,null,null,"ЯСЕНЬ, ЛАК, МДФ 26, AB/BC"]
[null,null,null,null,null,null,null,null,null,null,null,null,null,null,null,{"$f":"K5&\", \"&H27&\", \"&B27","v":"ЯСЕНЬ, ЛАК, МДФ 37, AB/AB"},null,0,0,0,null,null,null,null,null,null,null,null,null,null,"ЯСЕНЬ, ЛАК, МДФ 37, AB/AB"]
[null,null,null,null,null,null,null,null,null,null,null,null,null,null,null,{"$f":"K5&\", \"&H27&\", \"&B28","v":"ЯСЕНЬ, ЛАК, МДФ 37, AB/BC"},null,0,0,0,null,null,null,null,null,null,null,null,null,null,"ЯСЕНЬ, ЛАК, МДФ 37, AB/BC"]
[null,null,null,null,null,null,null,null,null,null,null,null,null,null,null,{"$f":"K5&\", \"&H28&\", \"&B3","v":"ЯСЕНЬ, МАСЛО, ДСП 10, AB/лам."},null,0,0,0,null,null,null,null,null,null,null,null,null,null,"ЯСЕНЬ, МАСЛО, ДСП 10, AB/лам."]
[null,null,null,null,null,null,null,null,null,null,null,null,null,null,null,{"$f":"K5&\", \"&H28&\", \"&B4","v":"ЯСЕНЬ, МАСЛО, ДСП 16, AB/AB"},null,0,0,0,null,null,null,null,null,null,null,null,null,null,"ЯСЕНЬ, МАСЛО, ДСП 16, AB/AB"]
[null,null,null,null,null,null,null,null,null,null,null,null,null,null,null,{"$f":"K5&\", \"&H28&\", \"&B5","v":"ЯСЕНЬ, МАСЛО, ДСП 16, AB/BC"},null,0,0,0,null,null,null,null,null,null,null,null,null,null,"ЯСЕНЬ, МАСЛО, ДСП 16, AB/BC"]
[null,null,null,null,null,null,null,null,null,null,null,null,null,null,null,{"$f":"K5&\", \"&H28&\", \"&B6","v":"ЯСЕНЬ, МАСЛО, ДСП 16, AB/карт."},null,0,0,0,null,null,null,null,null,null,null,null,null,null,"ЯСЕНЬ, МАСЛО, ДСП 16, AB/карт."]
[null,null,null,null,null,null,null,null,null,null,null,null,null,null,null,{"$f":"K5&\", \"&H28&\", \"&B7","v":"ЯСЕНЬ, МАСЛО, ДСП 16, BC/BC"},null,0,0,0,null,null,null,null,null,null,null,null,null,null,"ЯСЕНЬ, МАСЛО, ДСП 16, BC/BC"]
[null,null,null,null,null,null,null,null,null,null,null,null,null,null,null,{"$f":"K5&\", \"&H28&\", \"&B8","v":"ЯСЕНЬ, МАСЛО, ДСП 18, AB/AB"},null,0,0,0,null,null,null,null,null,null,null,null,null,null,"ЯСЕНЬ, МАСЛО, ДСП 18, AB/AB"]
[null,null,null,null,null,null,null,null,null,null,null,null,null,null,null,{"$f":"K5&\", \"&H28&\", \"&B9","v":"ЯСЕНЬ, МАСЛО, ДСП 18, AB/BC"},null,0,0,0,null,null,null,null,null,null,null,null,null,null,"ЯСЕНЬ, МАСЛО, ДСП 18, AB/BC"]
[null,null,null,null,null,null,null,null,null,null,null,null,null,null,null,{"$f":"K5&\", \"&H28&\", \"&B10","v":"ЯСЕНЬ, МАСЛО, ДСП 18, AB/карт."},null,0,0,0,null,null,null,null,null,null,null,null,null,null,"ЯСЕНЬ, МАСЛО, ДСП 18, AB/карт."]
[null,null,null,null,null,null,null,null,null,null,null,null,null,null,null,{"$f":"K5&\", \"&H28&\", \"&B11","v":"ЯСЕНЬ, МАСЛО, ДСП 22, AB/AB"},null,0,0,0,null,null,null,null,null,null,null,null,null,null,"ЯСЕНЬ, МАСЛО, ДСП 22, AB/AB"]
[null,null,null,null,null,null,null,null,null,null,null,null,null,null,null,{"$f":"K5&\", \"&H28&\", \"&B12","v":"ЯСЕНЬ, МАСЛО, ДСП 22, AB/BС"},null,0,0,0,null,null,null,null,null,null,null,null,null,null,"ЯСЕНЬ, МАСЛО, ДСП 22, AB/BС"]
[null,null,null,null,null,null,null,null,null,null,null,null,null,null,null,{"$f":"K5&\", \"&H28&\", \"&B13","v":"ЯСЕНЬ, МАСЛО, ДСП 25, AB/AB"},null,{"$f":"ROUNDUP(Q195*К_НАЦЕНКА,0)","v":0},{"$f":"ROUNDUP(R195/EURO_PRISE,0)","v":0},{"$f":"ROUNDUP(R195/USD_PRISE,0)","v":0},null,null,null,null,null,null,null,null,null,null,"ЯСЕНЬ, МАСЛО, ДСП 25, AB/AB"]
[null,null,null,null,null,null,null,null,null,null,null,null,null,null,null,{"$f":"K5&\", \"&H28&\", \"&B14","v":"ЯСЕНЬ, МАСЛО, ДСП 25, AB/BС"},null,0,0,0,null,null,null,null,null,null,null,null,null,null,"ЯСЕНЬ, МАСЛО, ДСП 25, AB/BС"]
[null,null,null,null,null,null,null,null,null,null,null,null,null,null,null,{"$f":"K5&\", \"&H28&\", \"&B15","v":"ЯСЕНЬ, МАСЛО, ДСП 32, AB/AB"},null,0,0,0,null,null,null,null,null,null,null,null,null,null,"ЯСЕНЬ, МАСЛО, ДСП 32, AB/AB"]
[null,null,null,null,null,null,null,null,null,null,null,null,null,null,null,{"$f":"K5&\", \"&H28&\", \"&B16","v":"ЯСЕНЬ, МАСЛО, ДСП 32, AB/BС"},null,0,0,0,null,null,null,null,null,null,null,null,null,null,"ЯСЕНЬ, МАСЛО, ДСП 32, AB/BС"]
[null,null,null,null,null,null,null,null,null,null,null,null,null,null,null,{"$f":"K5&\", \"&H28&\", \"&B17","v":"ЯСЕНЬ, МАСЛО, ДСП 36, AB/AB"},null,0,0,0,null,null,null,null,null,null,null,null,null,null,"ЯСЕНЬ, МАСЛО, ДСП 36, AB/AB"]
[null,null,null,null,null,null,null,null,null,null,null,null,null,null,null,{"$f":"K5&\", \"&H28&\", \"&B18","v":"ЯСЕНЬ, МАСЛО, ДСП 36, AB/BС"},null,0,0,0,null,null,null,null,null,null,null,null,null,null,"ЯСЕНЬ, МАСЛО, ДСП 36, AB/BС"]
[null,null,null,null,null,null,null,null,null,null,null,null,null,null,null,{"$f":"K5&\", \"&H28&\", \"&B19","v":"ЯСЕНЬ, МАСЛО, МДФ 9, AB/AB"},null,0,0,0,null,null,null,null,null,null,null,null,null,null,"ЯСЕНЬ, МАСЛО, МДФ 9, AB/AB"]
[null,null,null,null,null,null,null,null,null,null,null,null,null,null,null,{"$f":"K5&\", \"&H28&\", \"&B20","v":"ЯСЕНЬ, МАСЛО, МДФ 9, AB/BC"},null,0,0,0,null,null,null,null,null,null,null,null,null,null,"ЯСЕНЬ, МАСЛО, МДФ 9, AB/BC"]
[null,null,null,null,null,null,null,null,null,null,null,null,null,null,null,{"$f":"K5&\", \"&H28&\", \"&B21","v":"ЯСЕНЬ, МАСЛО, МДФ 9, BC/BC"},null,0,0,0,null,null,null,null,null,null,null,null,null,null,"ЯСЕНЬ, МАСЛО, МДФ 9, BC/BC"]
[null,null,null,null,null,null,null,null,null,null,null,null,null,null,null,{"$f":"K5&\", \"&H28&\", \"&B22","v":"ЯСЕНЬ, МАСЛО, МДФ 19, AB/AB"},null,0,0,0,null,null,null,null,null,null,null,null,null,null,"ЯСЕНЬ, МАСЛО, МДФ 19, AB/AB"]
[null,null,null,null,null,null,null,null,null,null,null,null,null,null,null,{"$f":"K5&\", \"&H28&\", \"&B23","v":"ЯСЕНЬ, МАСЛО, МДФ 19, AB/BC"},null,0,0,0,null,null,null,null,null,null,null,null,null,null,"ЯСЕНЬ, МАСЛО, МДФ 19, AB/BC"]
[null,null,null,null,null,null,null,null,null,null,null,null,null,null,null,{"$f":"K5&\", \"&H28&\", \"&B24","v":"ЯСЕНЬ, МАСЛО, МДФ 19, AB/карт."},null,0,0,0,null,null,null,null,null,null,null,null,null,null,"ЯСЕНЬ, МАСЛО, МДФ 19, AB/карт."]
[null,null,null,null,null,null,null,null,null,null,null,null,null,null,null,{"$f":"K5&\", \"&H28&\", \"&B25","v":"ЯСЕНЬ, МАСЛО, МДФ 26, AB/AB"},null,0,0,0,null,null,null,null,null,null,null,null,null,null,"ЯСЕНЬ, МАСЛО, МДФ 26, AB/AB"]
[null,null,null,null,null,null,null,null,null,null,null,null,null,null,null,{"$f":"K5&\", \"&H28&\", \"&B26","v":"ЯСЕНЬ, МАСЛО, МДФ 26, AB/BC"},null,0,0,0,null,null,null,null,null,null,null,null,null,null,"ЯСЕНЬ, МАСЛО, МДФ 26, AB/BC"]
[null,null,null,null,null,null,null,null,null,null,null,null,null,null,null,{"$f":"K5&\", \"&H28&\", \"&B27","v":"ЯСЕНЬ, МАСЛО, МДФ 37, AB/AB"},null,0,0,0,null,null,null,null,null,null,null,null,null,null,"ЯСЕНЬ, МАСЛО, МДФ 37, AB/AB"]
[null,null,null,null,null,null,null,null,null,null,null,null,null,null,null,{"$f":"K5&\", \"&H28&\", \"&B28","v":"ЯСЕНЬ, МАСЛО, МДФ 37, AB/BC"},null,0,0,0,null,null,null,null,null,null,null,null,null,null,"ЯСЕНЬ, МАСЛО, МДФ 37, AB/BC"]

{"sheet":"МАТЕРИАЛЫ","index":1,"n_rows":29,"n_cols":7,"rows_kept":29,"cut":false,"hidden":false,"merged":[[0,0,2,2],[20,2,20,3],[11,2,11,3],[18,2,18,3],[0,3,0,6],[1,3,1,6],[2,3,2,6],[14,0,15,3],[4,0,4,6],[12,0,12,6],[7,0,11,0],[5,0,6,1],[7,6,11,6],[10,2,10,3],[8,2,8,3],[5,6,6,6],[5,2,5,5],[16,6,27,6],[9,4,9,5],[11,4,11,5],[10,4,10,5],[8,4,8,5],[6,4,6,5],[14,4,14,5],[7,4,7,5],[7,2,7,3],[6,2,6,3],[9,2,9,3],[28,0,28,6],[19,2,19,3],[17,1,24,1],[17,2,17,3],[13,0,13,6],[16,0,27,0],[25,1,27,1],[26,2,26,3],[27,2,27,3],[25,2,25,3],[16,2,16,3],[24,2,24,3],[23,2,23,3],[22,2,22,3],[21,2,21,3],[14,6,15,6]]}
[null,null,null,"ВИДЫ ПЛИТ ОБЛИЦОВАННЫХ ШПОНОМ"]
[null,null,null,"ВИДЫ ОТДЕЛКИ И ДЕКОРЫ "]
[null,null,null,{"$f":"'@'!M18","v":"РЕДАКЦИЯ : 15.02.2018"}]
[]
["ВИДЫ ПЛИТ ОБЛИЦОВАННЫХ ШПОНОМ"]
[null,null,"ПЛИТНЫЙ МАТЕРИАЛ ОСНОВЫ"]
[null,null,"ДСП",null,"МДФ"]
["ВАРИАНТЫ ОБЛИЦОВКИ","AB/AB","16, 18, 22, 25, 32, 36",null,"9, 19, 26, 37",null,"ТОЛЩИНЫ ПЛИТ"]
[null,"AB/BC","16, 18, 22, 25, 32, 36",null,"9, 19, 26, 37"]
[null,"BC/BC",16,null,9]
[null,"AB/карт.","16, 18",null,19]
[null,"AB/лам.",10,null,"нет"]
["Материалы основы : плиты ДСП, МДФ. Материал облицовки : шпон строганный натуральный, толщ. 0,5 мм, \nсрез тангентальный и радиальный. Материал кромки : шпон строганный натуральный, толщ. 1 мм\nДревесные породы шпона : ДУБ и ЯСЕНЬ. Применяемые сорта шпона : AB, BC. Варианты исполнения обратной \nповерхности : [лам.] — матовая ламинированная поверхность, декор БЕЛЫЙ, плита основы ЛДСП KRONOSPAN®; \n[карт.] — облицовка картоном хром-эрзац ( применяется для изготовления стеновых панелей )."]
["ВИДЫ ОТДЕЛКИ И ДЕКОРЫ "]
[null,null,null,null,"ДРЕВЕСНАЯ ПОРОДА"]
[null,null,null,null,"ДУБ","ЯСЕНЬ"]
["ВАРИАНТЫ ОТДЕЛКИ","ЭМАЛЬ","БЕЛЫЙ",null,"●","●","ПРИМЕНЯЕМЫЕ ДЕКОРЫ"]
[null,"ЛАК","ЧЁРНЫЙ",null,"●","●"]
[null,null,"ОЛЬМОНЕРО",null,"●"]
[null,null,"МАХАГОНИ БРАУН",null,"●"]
[null,null,"СПЕССАРТ",null,"●"]
[null,null,"ТАБАК ДЫМЧАТЫЙ",null,"●"]
[null,null,"ГРЕЙ",null,"●"]
[null,null,"ШИЛЬФ МАРОН",null,"●"]
[null,null,"РОВЕРА НАТУРАЛ",null,"●"]
[null,"МАСЛО","ПАЛИСАНДР",null,"●","●"]
[null,null,"ЭБОНИ",null,"●"]
[null,null,"ЦЕМЕНТ",null,"●"]
["Для вариантов отделки поверхностей ЭМАЛЬЮ и ЛАКОМ применяются компоненты производства компании \nADLER®, Австрия; www.adler-lacke.com.ua; Для варианта отделки МАСЛОМ применяются твёрдовосковые\nэмульсии на основе натуральных масел производства компании REMMERS®, Германия; www.remmers.ua;"]

{"sheet":"ЦЕНЫ—EURO","index":2,"n_rows":44,"n_cols":10,"rows_kept":44,"cut":false,"hidden":false,"merged":[[9,0,24,0],[25,0,34,0],[36,0,36,9],[38,0,39,0],[38,1,39,1],[38,2,38,5],[38,6,38,9],[0,3,0,9],[1,3,1,9],[2,3,2,9],[5,0,5,9],[7,0,8,1],[7,2,7,5],[7,6,7,9],[0,0,2,2]]}
[null,null,null,"СТОИМОСТЬ ШПОНИРОВАННЫХ ПЛИТНЫХ ДЕТАЛЕЙ\n"]
[null,null,null,"РОЗНИЧНЫЕ ЦЕНЫ (EURO)"]
[null,null,null,{"$f":"РЕДАКЦИЯ","v":"РЕДАКЦИЯ : 15.02.2018"}]
[]
[]
["СТОИМОСТЬ ШПОНИРОВАННЫХ ПЛИТНЫХ ДЕТАЛЕЙ ( ЗА М.КВ. )"]
[]
["МАТЕРИАЛЫ ПЛИТНЫХ ОСНОВ, \nВИДЫ ОБЛИЦОВКИ ШПОНОМ",null,"ДУБ",null,null,null,"ЯСЕНЬ"]
[null,null,"Б/О","ЭМАЛЬ","ЛАК","МАСЛО","Б/О","ЭМАЛЬ","ЛАК","МАСЛО"]
["ДСП","ДСП 10, AB/лам.",{"$f":"IF('@'!S3>0,'@'!S3,\"\")","v":""},{"$f":"IF('@'!S29>0,'@'!S29,\"\")","v":""},{"$f":"IF('@'!S55>0,'@'!S55,\"\")","v":54},{"$f":"IF('@'!S81>0,'@'!S81,\"\")","v":43},{"$f":"IF('@'!S107>0,'@'!S107,\"\")","v":""},{"$f":"IF('@'!S133>0,'@'!S133,\"\")","v":""},{"$f":"IF('@'!S159>0,'@'!S159,\"\")","v":""},{"$f":"IF('@'!S185>0,'@'!S185,\"\")","v":""}]
[null,"ДСП 16, AB/AB",{"$f":"IF('@'!S4>0,'@'!S4,\"\")","v":""},{"$f":"IF('@'!S30>0,'@'!S30,\"\")","v":""},{"$f":"IF('@'!S56>0,'@'!S56,\"\")","v":77},{"$f":"IF('@'!S82>0,'@'!S82,\"\")","v":51},{"$f":"IF('@'!S108>0,'@'!S108,\"\")","v":""},{"$f":"IF('@'!S134>0,'@'!S134,\"\")","v":""},{"$f":"IF('@'!S160>0,'@'!S160,\"\")","v":""},{"$f":"IF('@'!S186>0,'@'!S186,\"\")","v":""}]
[null,"ДСП 16, AB/BC",{"$f":"IF('@'!S5>0,'@'!S5,\"\")","v":""},{"$f":"IF('@'!S31>0,'@'!S31,\"\")","v":""},{"$f":"IF('@'!S57>0,'@'!S57,\"\")","v":74},{"$f":"IF('@'!S83>0,'@'!S83,\"\")","v":48},{"$f":"IF('@'!S109>0,'@'!S109,\"\")","v":""},{"$f":"IF('@'!S135>0,'@'!S135,\"\")","v":""},{"$f":"IF('@'!S161>0,'@'!S161,\"\")","v":""},{"$f":"IF('@'!S187>0,'@'!S187,\"\")","v":""}]
[null,"ДСП 16, AB/карт.",{"$f":"IF('@'!S6>0,'@'!S6,\"\")","v":""},{"$f":"IF('@'!S32>0,'@'!S32,\"\")","v":""},{"$f":"IF('@'!S58>0,'@'!S58,\"\")","v":69},{"$f":"IF('@'!S84>0,'@'!S84,\"\")","v":41},{"$f":"IF('@'!S110>0,'@'!S110,\"\")","v":""},{"$f":"IF('@'!S136>0,'@'!S136,\"\")","v":""},{"$f":"IF('@'!S162>0,'@'!S162,\"\")","v":""},{"$f":"IF('@'!S188>0,'@'!S188,\"\")","v":""}]
[null,"ДСП 16, BC/BC",{"$f":"IF('@'!S7>0,'@'!S7,\"\")","v":""},{"$f":"IF('@'!S33>0,'@'!S33,\"\")","v":""},{"$f":"IF('@'!S59>0,'@'!S59,\"\")","v":71},{"$f":"IF('@'!S85>0,'@'!S85,\"\")","v":45},{"$f":"IF('@'!S111>0,'@'!S111,\"\")","v":""},{"$f":"IF('@'!S137>0,'@'!S137,\"\")","v":""},{"$f":"IF('@'!S163>0,'@'!S163,\"\")","v":""},{"$f":"IF('@'!S189>0,'@'!S189,\"\")","v":""}]
[null,"ДСП 18, AB/AB",{"$f":"IF('@'!S8>0,'@'!S8,\"\")","v":""},{"$f":"IF('@'!S34>0,'@'!S34,\"\")","v":""},{"$f":"IF('@'!S60>0,'@'!S60,\"\")","v":80},{"$f":"IF('@'!S86>0,'@'!S86,\"\")","v":54},{"$f":"IF('@'!S112>0,'@'!S112,\"\")","v":""},{"$f":"IF('@'!S138>0,'@'!S138,\"\")","v":""},{"$f":"IF('@'!S164>0,'@'!S164,\"\")","v":""},{"$f":"IF('@'!S190>0,'@'!S190,\"\")","v":""}]
[null,"ДСП 18, AB/BC",{"$f":"IF('@'!S9>0,'@'!S9,\"\")","v":""},{"$f":"IF('@'!S35>0,'@'!S35,\"\")","v":""},{"$f":"IF('@'!S61>0,'@'!S61,\"\")","v":77},{"$f":"IF('@'!S87>0,'@'!S87,\"\")","v":51},{"$f":"IF('@'!S113>0,'@'!S113,\"\")","v":""},{"$f":"IF('@'!S139>0,'@'!S139,\"\")","v":""},{"$f":"IF('@'!S165>0,'@'!S165,\"\")","v":""},{"$f":"IF('@'!S191>0,'@'!S191,\"\")","v":""}]
[null,"ДСП 18, AB/карт.",{"$f":"IF('@'!S10>0,'@'!S10,\"\")","v":""},{"$f":"IF('@'!S36>0,'@'!S36,\"\")","v":""},{"$f":"IF('@'!S62>0,'@'!S62,\"\")","v":72},{"$f":"IF('@'!S88>0,'@'!S88,\"\")","v":44},{"$f":"IF('@'!S114>0,'@'!S114,\"\")","v":""},{"$f":"IF('@'!S140>0,'@'!S140,\"\")","v":""},{"$f":"IF('@'!S166>0,'@'!S166,\"\")","v":""},{"$f":"IF('@'!S192>0,'@'!S192,\"\")","v":""}]
[null,"ДСП 22, AB/AB",{"$f":"IF('@'!S11>0,'@'!S11,\"\")","v":""},{"$f":"IF('@'!S37>0,'@'!S37,\"\")","v":""},{"$f":"IF('@'!S63>0,'@'!S63,\"\")","v":80},{"$f":"IF('@'!S89>0,'@'!S89,\"\")","v":54},{"$f":"IF('@'!S115>0,'@'!S115,\"\")","v":""},{"$f":"IF('@'!S141>0,'@'!S141,\"\")","v":""},{"$f":"IF('@'!S167>0,'@'!S167,\"\")","v":""},{"$f":"IF('@'!S193>0,'@'!S193,\"\")","v":""}]
[null,"ДСП 22, AB/BС",{"$f":"IF('@'!S12>0,'@'!S12,\"\")","v":""},{"$f":"IF('@'!S38>0,'@'!S38,\"\")","v":""},{"$f":"IF('@'!S64>0,'@'!S64,\"\")","v":77},{"$f":"IF('@'!S90>0,'@'!S90,\"\")","v":51},{"$f":"IF('@'!S116>0,'@'!S116,\"\")","v":""},{"$f":"IF('@'!S142>0,'@'!S142,\"\")","v":""},{"$f":"IF('@'!S168>0,'@'!S168,\"\")","v":""},{"$f":"IF('@'!S194>0,'@'!S194,\"\")","v":""}]
[null,"ДСП 25, AB/AB",{"$f":"IF('@'!S13>0,'@'!S13,\"\")","v":""},{"$f":"IF('@'!S39>0,'@'!S39,\"\")","v":""},{"$f":"IF('@'!S65>0,'@'!S65,\"\")","v":86},{"$f":"IF('@'!S91>0,'@'!S91,\"\")","v":60},{"$f":"IF('@'!S117>0,'@'!S117,\"\")","v":""},{"$f":"IF('@'!S143>0,'@'!S143,\"\")","v":""},{"$f":"IF('@'!S169>0,'@'!S169,\"\")","v":""},{"$f":"IF('@'!S195>0,'@'!S195,\"\")","v":""}]
[null,"ДСП 25, AB/BС",{"$f":"IF('@'!S14>0,'@'!S14,\"\")","v":""},{"$f":"IF('@'!S40>0,'@'!S40,\"\")","v":""},{"$f":"IF('@'!S66>0,'@'!S66,\"\")","v":82},{"$f":"IF('@'!S92>0,'@'!S92,\"\")","v":56},{"$f":"IF('@'!S118>0,'@'!S118,\"\")","v":""},{"$f":"IF('@'!S144>0,'@'!S144,\"\")","v":""},{"$f":"IF('@'!S170>0,'@'!S170,\"\")","v":""},{"$f":"IF('@'!S196>0,'@'!S196,\"\")","v":""}]
[null,"ДСП 32, AB/AB",{"$f":"IF('@'!S15>0,'@'!S15,\"\")","v":""},{"$f":"IF('@'!S41>0,'@'!S41,\"\")","v":""},{"$f":"IF('@'!S67>0,'@'!S67,\"\")","v":91},{"$f":"IF('@'!S93>0,'@'!S93,\"\")","v":65},{"$f":"IF('@'!S119>0,'@'!S119,\"\")","v":""},{"$f":"IF('@'!S145>0,'@'!S145,\"\")","v":""},{"$f":"IF('@'!S171>0,'@'!S171,\"\")","v":""},{"$f":"IF('@'!S197>0,'@'!S197,\"\")","v":""}]
[null,"ДСП 32, AB/BС",{"$f":"IF('@'!S16>0,'@'!S16,\"\")","v":""},{"$f":"IF('@'!S42>0,'@'!S42,\"\")","v":""},{"$f":"IF('@'!S68>0,'@'!S68,\"\")","v":88},{"$f":"IF('@'!S94>0,'@'!S94,\"\")","v":62},{"$f":"IF('@'!S120>0,'@'!S120,\"\")","v":""},{"$f":"IF('@'!S146>0,'@'!S146,\"\")","v":""},{"$f":"IF('@'!S172>0,'@'!S172,\"\")","v":""},{"$f":"IF('@'!S198>0,'@'!S198,\"\")","v":""}]
[null,"ДСП 36, AB/AB",{"$f":"IF('@'!S17>0,'@'!S17,\"\")","v":""},{"$f":"IF('@'!S43>0,'@'!S43,\"\")","v":""},{"$f":"IF('@'!S69>0,'@'!S69,\"\")","v":94},{"$f":"IF('@'!S95>0,'@'!S95,\"\")","v":68},{"$f":"IF('@'!S121>0,'@'!S121,\"\")","v":""},{"$f":"IF('@'!S147>0,'@'!S147,\"\")","v":""},{"$f":"IF('@'!S173>0,'@'!S173,\"\")","v":""},{"$f":"IF('@'!S199>0,'@'!S199,\"\")","v":""}]
[null,"ДСП 36, AB/BС",{"$f":"IF('@'!S18>0,'@'!S18,\"\")","v":""},{"$f":"IF('@'!S44>0,'@'!S44,\"\")","v":""},{"$f":"IF('@'!S70>0,'@'!S70,\"\")","v":91},{"$f":"IF('@'!S96>0,'@'!S96,\"\")","v":65},{"$f":"IF('@'!S122>0,'@'!S122,\"\")","v":""},{"$f":"IF('@'!S148>0,'@'!S148,\"\")","v":""},{"$f":"IF('@'!S174>0,'@'!S174,\"\")","v":""},{"$f":"IF('@'!S200>0,'@'!S200,\"\")","v":""}]
["МДФ","МДФ 9, AB/AB",{"$f":"IF('@'!S19>0,'@'!S19,\"\")","v":""},{"$f":"IF('@'!S45>0,'@'!S45,\"\")","v":""},{"$f":"IF('@'!S71>0,'@'!S71,\"\")","v":80},{"$f":"IF('@'!S97>0,'@'!S97,\"\")","v":54},{"$f":"IF('@'!S123>0,'@'!S123,\"\")","v":""},{"$f":"IF('@'!S149>0,'@'!S149,\"\")","v":""},{"$f":"IF('@'!S175>0,'@'!S175,\"\")","v":""},{"$f":"IF('@'!S201>0,'@'!S201,\"\")","v":""}]
[null,"МДФ 9, AB/BC",{"$f":"IF('@'!S20>0,'@'!S20,\"\")","v":""},{"$f":"IF('@'!S46>0,'@'!S46,\"\")","v":""},{"$f":"IF('@'!S72>0,'@'!S72,\"\")","v":77},{"$f":"IF('@'!S98>0,'@'!S98,\"\")","v":51},{"$f":"IF('@'!S124>0,'@'!S124,\"\")","v":""},{"$f":"IF('@'!S150>0,'@'!S150,\"\")","v":""},{"$f":"IF('@'!S176>0,'@'!S176,\"\")","v":""},{"$f":"IF('@'!S202>0,'@'!S202,\"\")","v":""}]
[null,"МДФ 9, BC/BC",{"$f":"IF('@'!S21>0,'@'!S21,\"\")","v":""},{"$f":"IF('@'!S47>0,'@'!S47,\"\")","v":""},{"$f":"IF('@'!S73>0,'@'!S73,\"\")","v":74},{"$f":"IF('@'!S99>0,'@'!S99,\"\")","v":48},{"$f":"IF('@'!S125>0,'@'!S125,\"\")","v":""},{"$f":"IF('@'!S151>0,'@'!S151,\"\")","v":""},{"$f":"IF('@'!S177>0,'@'!S177,\"\")","v":""},{"$f":"IF('@'!S203>0,'@'!S203,\"\")","v":""}]
[null,"МДФ 19, AB/AB",{"$f":"IF('@'!S22>0,'@'!S22,\"\")","v":""},{"$f":"IF('@'!S48>0,'@'!S48,\"\")","v":""},{"$f":"IF('@'!S74>0,'@'!S74,\"\")","v":86},{"$f":"IF('@'!S100>0,'@'!S100,\"\")","v":60},{"$f":"IF('@'!S126>0,'@'!S126,\"\")","v":""},{"$f":"IF('@'!S152>0,'@'!S152,\"\")","v":""},{"$f":"IF('@'!S178>0,'@'!S178,\"\")","v":""},{"$f":"IF('@'!S204>0,'@'!S204,\"\")","v":""}]
[null,"МДФ 19, AB/BC",{"$f":"IF('@'!S23>0,'@'!S23,\"\")","v":""},{"$f":"IF('@'!S49>0,'@'!S49,\"\")","v":""},{"$f":"IF('@'!S75>0,'@'!S75,\"\")","v":82},{"$f":"IF('@'!S101>0,'@'!S101,\"\")","v":56},{"$f":"IF('@'!S127>0,'@'!S127,\"\")","v":""},{"$f":"IF('@'!S153>0,'@'!S153,\"\")","v":""},{"$f":"IF('@'!S179>0,'@'!S179,\"\")","v":""},{"$f":"IF('@'!S205>0,'@'!S205,\"\")","v":""}]
[null,"МДФ 19, AB/карт.",{"$f":"IF('@'!S24>0,'@'!S24,\"\")","v":""},{"$f":"IF('@'!S50>0,'@'!S50,\"\")","v":""},{"$f":"IF('@'!S76>0,'@'!S76,\"\")","v":78},{"$f":"IF('@'!S102>0,'@'!S102,\"\")","v":49},{"$f":"IF('@'!S128>0,'@'!S128,\"\")","v":""},{"$f":"IF('@'!S154>0,'@'!S154,\"\")","v":""},{"$f":"IF('@'!S180>0,'@'!S180,\"\")","v":""},{"$f":"IF('@'!S206>0,'@'!S206,\"\")","v":""}]
[null,"МДФ 26, AB/AB",{"$f":"IF('@'!S25>0,'@'!S25,\"\")","v":""},{"$f":"IF('@'!S51>0,'@'!S51,\"\")","v":""},{"$f":"IF('@'!S77>0,'@'!S77,\"\")","v":92},{"$f":"IF('@'!S103>0,'@'!S103,\"\")","v":66},{"$f":"IF('@'!S129>0,'@'!S129,\"\")","v":""},{"$f":"IF('@'!S155>0,'@'!S155,\"\")","v":""},{"$f":"IF('@'!S181>0,'@'!S181,\"\")","v":""},{"$f":"IF('@'!S207>0,'@'!S207,\"\")","v":""}]
[null,"МДФ 26, AB/BC",{"$f":"IF('@'!S26>0,'@'!S26,\"\")","v":""},{"$f":"IF('@'!S52>0,'@'!S52,\"\")","v":""},{"$f":"IF('@'!S78>0,'@'!S78,\"\")","v":88},{"$f":"IF('@'!S104>0,'@'!S104,\"\")","v":62},{"$f":"IF('@'!S130>0,'@'!S130,\"\")","v":""},{"$f":"IF('@'!S156>0,'@'!S156,\"\")","v":""},{"$f":"IF('@'!S182>0,'@'!S182,\"\")","v":""},{"$f":"IF('@'!S208>0,'@'!S208,\"\")","v":""}]
[null,"МДФ 37, AB/AB",{"$f":"IF('@'!S27>0,'@'!S27,\"\")","v":""},{"$f":"IF('@'!S53>0,'@'!S53,\"\")","v":""},{"$f":"IF('@'!S79>0,'@'!S79,\"\")","v":105},{"$f":"IF('@'!S105>0,'@'!S105,\"\")","v":79},{"$f":"IF('@'!S131>0,'@'!S131,\"\")","v":""},{"$f":"IF('@'!S157>0,'@'!S157,\"\")","v":""},{"$f":"IF('@'!S183>0,'@'!S183,\"\")","v":""},{"$f":"IF('@'!S209>0,'@'!S209,\"\")","v":""}]
[null,"МДФ 37, AB/BC",{"$f":"IF('@'!S28>0,'@'!S28,\"\")","v":""},{"$f":"IF('@'!S54>0,'@'!S54,\"\")","v":""},{"$f":"IF('@'!S80>0,'@'!S80,\"\")","v":102},{"$f":"IF('@'!S106>0,'@'!S106,\"\")","v":76},{"$f":"IF('@'!S132>0,'@'!S132,\"\")","v":""},{"$f":"IF('@'!S158>0,'@'!S158,\"\")","v":""},{"$f":"IF('@'!S184>0,'@'!S184,\"\")","v":""},{"$f":"IF('@'!S210>0,'@'!S210,\"\")","v":""}]
[]
["СТОИМОСТЬ КРОМКОВАНИЯ ШПОНОМ ПЛИТНЫХ ДЕТАЛЕЙ ( ЗА М.П. )"]
[]
["КРОМКА\n[мм]","ТОЛЩИНЫ ПЛИТ ОБЛИ-ЦОВАННЫХ ШПОНОМ","ДУБ",null,null,null,"ЯСЕНЬ"]
[null,null,"Б/О","ЭМАЛЬ","ЛАК","МАСЛО","Б/О","ЭМАЛЬ","ЛАК","МАСЛО"]
[22,"9, 10, 16, 18, 19",{"$f":"IF('@'!Y3>0,'@'!Y3,\"\")","v":""},{"$f":"IF('@'!Y7>0,'@'!Y7,\"\")","v":""},{"$f":"IF('@'!Y11>0,'@'!Y11,\"\")","v":""},{"$f":"IF('@'!Y15>0,'@'!Y15,\"\")","v":""},{"$f":"IF('@'!Y19>0,'@'!Y19,\"\")","v":""},{"$f":"IF('@'!Y23>0,'@'!Y23,\"\")","v":""},{"$f":"IF('@'!Y27>0,'@'!Y27,\"\")","v":""},{"$f":"IF('@'!Y31>0,'@'!Y31,\"\")","v":""}]
[28,"22, 25",{"$f":"IF('@'!Y4>0,'@'!Y4,\"\")","v":""},{"$f":"IF('@'!Y8>0,'@'!Y8,\"\")","v":""},{"$f":"IF('@'!Y12>0,'@'!Y12,\"\")","v":""},{"$f":"IF('@'!Y16>0,'@'!Y16,\"\")","v":""},{"$f":"IF('@'!Y20>0,'@'!Y20,\"\")","v":""},{"$f":"IF('@'!Y24>0,'@'!Y24,\"\")","v":""},{"$f":"IF('@'!Y28>0,'@'!Y28,\"\")","v":""},{"$f":"IF('@'!Y32>0,'@'!Y32,\"\")","v":""}]
[33,26,{"$f":"IF('@'!Y5>0,'@'!Y5,\"\")","v":""},{"$f":"IF('@'!Y9>0,'@'!Y9,\"\")","v":""},{"$f":"IF('@'!Y13>0,'@'!Y13,\"\")","v":""},{"$f":"IF('@'!Y17>0,'@'!Y17,\"\")","v":""},{"$f":"IF('@'!Y21>0,'@'!Y21,\"\")","v":""},{"$f":"IF('@'!Y25>0,'@'!Y25,\"\")","v":""},{"$f":"IF('@'!Y29>0,'@'!Y29,\"\")","v":""},{"$f":"IF('@'!Y33>0,'@'!Y33,\"\")","v":""}]
[42,"32, 36, 37",{"$f":"IF('@'!Y6>0,'@'!Y6,\"\")","v":""},{"$f":"IF('@'!Y10>0,'@'!Y10,\"\")","v":""},{"$f":"IF('@'!Y14>0,'@'!Y14,\"\")","v":""},{"$f":"IF('@'!Y18>0,'@'!Y18,\"\")","v":""},{"$f":"IF('@'!Y22>0,'@'!Y22,\"\")","v":""},{"$f":"IF('@'!Y26>0,'@'!Y26,\"\")","v":""},{"$f":"IF('@'!Y30>0,'@'!Y30,\"\")","v":""},{"$f":"IF('@'!Y34>0,'@'!Y34,\"\")","v":""}]

{"sheet":"ЦЕНЫ—USD","index":3,"n_rows":44,"n_cols":10,"rows_kept":44,"cut":false,"hidden":false,"merged":[[0,3,0,9],[1,3,1,9],[2,3,2,9],[5,0,5,9],[7,0,8,1],[7,2,7,5],[7,6,7,9],[0,0,2,2],[9,0,24,0],[25,0,34,0],[36,0,36,9],[38,0,39,0],[38,1,39,1],[38,2,38,5],[38,6,38,9]]}
[null,null,null,"СТОИМОСТЬ ШПОНИРОВАННЫХ ПЛИТНЫХ ДЕТАЛЕЙ\n"]
[null,null,null,"РОЗНИЧНЫЕ ЦЕНЫ (USD)"]
[null,null,null,{"$f":"РЕДАКЦИЯ","v":"РЕДАКЦИЯ : 15.02.2018"}]
[]
[]
["СТОИМОСТЬ ШПОНИРОВАННЫХ ПЛИТНЫХ ДЕТАЛЕЙ ( ЗА М.КВ. )"]
[]
["МАТЕРИАЛЫ ПЛИТНЫХ ОСНОВ, \nВИДЫ ОБЛИЦОВКИ ШПОНОМ",null,"ДУБ",null,null,null,"ЯСЕНЬ"]
[null,null,"Б/О","ЭМАЛЬ","ЛАК","МАСЛО","Б/О","ЭМАЛЬ","ЛАК","МАСЛО"]
["ДСП","ДСП 10, AB/лам.",{"$f":"IF('@'!T3>0,'@'!T3,\"\")","v":""},{"$f":"IF('@'!T29>0,'@'!T29,\"\")","v":""},{"$f":"IF('@'!T55>0,'@'!T55,\"\")","v":66},{"$f":"IF('@'!T81>0,'@'!T81,\"\")","v":53},{"$f":"IF('@'!T107>0,'@'!T107,\"\")","v":""},{"$f":"IF('@'!T133>0,'@'!T133,\"\")","v":""},{"$f":"IF('@'!T159>0,'@'!T159,\"\")","v":""},{"$f":"IF('@'!T185>0,'@'!T185,\"\")","v":""}]
[null,"ДСП 16, AB/AB",{"$f":"IF('@'!T4>0,'@'!T4,\"\")","v":""},{"$f":"IF('@'!T30>0,'@'!T30,\"\")","v":""},{"$f":"IF('@'!T56>0,'@'!T56,\"\")","v":94},{"$f":"IF('@'!T82>0,'@'!T82,\"\")","v":62},{"$f":"IF('@'!T108>0,'@'!T108,\"\")","v":""},{"$f":"IF('@'!T134>0,'@'!T134,\"\")","v":""},{"$f":"IF('@'!T160>0,'@'!T160,\"\")","v":""},{"$f":"IF('@'!T186>0,'@'!T186,\"\")","v":""}]
[null,"ДСП 16, AB/BC",{"$f":"IF('@'!T5>0,'@'!T5,\"\")","v":""},{"$f":"IF('@'!T31>0,'@'!T31,\"\")","v":""},{"$f":"IF('@'!T57>0,'@'!T57,\"\")","v":90},{"$f":"IF('@'!T83>0,'@'!T83,\"\")","v":59},{"$f":"IF('@'!T109>0,'@'!T109,\"\")","v":""},{"$f":"IF('@'!T135>0,'@'!T135,\"\")","v":""},{"$f":"IF('@'!T161>0,'@'!T161,\"\")","v":""},{"$f":"IF('@'!T187>0,'@'!T187,\"\")","v":""}]
[null,"ДСП 16, AB/карт.",{"$f":"IF('@'!T6>0,'@'!T6,\"\")","v":""},{"$f":"IF('@'!T32>0,'@'!T32,\"\")","v":""},{"$f":"IF('@'!T58>0,'@'!T58,\"\")","v":84},{"$f":"IF('@'!T84>0,'@'!T84,\"\")","v":50},{"$f":"IF('@'!T110>0,'@'!T110,\"\")","v":""},{"$f":"IF('@'!T136>0,'@'!T136,\"\")","v":""},{"$f":"IF('@'!T162>0,'@'!T162,\"\")","v":""},{"$f":"IF('@'!T188>0,'@'!T188,\"\")","v":""}]
[null,"ДСП 16, BC/BC",{"$f":"IF('@'!T7>0,'@'!T7,\"\")","v":""},{"$f":"IF('@'!T33>0,'@'!T33,\"\")","v":""},{"$f":"IF('@'!T59>0,'@'!T59,\"\")","v":86},{"$f":"IF('@'!T85>0,'@'!T85,\"\")","v":55},{"$f":"IF('@'!T111>0,'@'!T111,\"\")","v":""},{"$f":"IF('@'!T137>0,'@'!T137,\"\")","v":""},{"$f":"IF('@'!T163>0,'@'!T163,\"\")","v":""},{"$f":"IF('@'!T189>0,'@'!T189,\"\")","v":""}]
[null,"ДСП 18, AB/AB",{"$f":"IF('@'!T8>0,'@'!T8,\"\")","v":""},{"$f":"IF('@'!T34>0,'@'!T34,\"\")","v":""},{"$f":"IF('@'!T60>0,'@'!T60,\"\")","v":98},{"$f":"IF('@'!T86>0,'@'!T86,\"\")","v":66},{"$f":"IF('@'!T112>0,'@'!T112,\"\")","v":""},{"$f":"IF('@'!T138>0,'@'!T138,\"\")","v":""},{"$f":"IF('@'!T164>0,'@'!T164,\"\")","v":""},{"$f":"IF('@'!T190>0,'@'!T190,\"\")","v":""}]
[null,"ДСП 18, AB/BC",{"$f":"IF('@'!T9>0,'@'!T9,\"\")","v":""},{"$f":"IF('@'!T35>0,'@'!T35,\"\")","v":""},{"$f":"IF('@'!T61>0,'@'!T61,\"\")","v":94},{"$f":"IF('@'!T87>0,'@'!T87,\"\")","v":62},{"$f":"IF('@'!T113>0,'@'!T113,\"\")","v":""},{"$f":"IF('@'!T139>0,'@'!T139,\"\")","v":""},{"$f":"IF('@'!T165>0,'@'!T165,\"\")","v":""},{"$f":"IF('@'!T191>0,'@'!T191,\"\")","v":""}]
[null,"ДСП 18, AB/карт.",{"$f":"IF('@'!T10>0,'@'!T10,\"\")","v":""},{"$f":"IF('@'!T36>0,'@'!T36,\"\")","v":""},{"$f":"IF('@'!T62>0,'@'!T62,\"\")","v":88},{"$f":"IF('@'!T88>0,'@'!T88,\"\")","v":53},{"$f":"IF('@'!T114>0,'@'!T114,\"\")","v":""},{"$f":"IF('@'!T140>0,'@'!T140,\"\")","v":""},{"$f":"IF('@'!T166>0,'@'!T166,\"\")","v":""},{"$f":"IF('@'!T192>0,'@'!T192,\"\")","v":""}]
[null,"ДСП 22, AB/AB",{"$f":"IF('@'!T11>0,'@'!T11,\"\")","v":""},{"$f":"IF('@'!T37>0,'@'!T37,\"\")","v":""},{"$f":"IF('@'!T63>0,'@'!T63,\"\")","v":98},{"$f":"IF('@'!T89>0,'@'!T89,\"\")","v":66},{"$f":"IF('@'!T115>0,'@'!T115,\"\")","v":""},{"$f":"IF('@'!T141>0,'@'!T141,\"\")","v":""},{"$f":"IF('@'!T167>0,'@'!T167,\"\")","v":""},{"$f":"IF('@'!T193>0,'@'!T193,\"\")","v":""}]
[null,"ДСП 22, AB/BС",{"$f":"IF('@'!T12>0,'@'!T12,\"\")","v":""},{"$f":"IF('@'!T38>0,'@'!T38,\"\")","v":""},{"$f":"IF('@'!T64>0,'@'!T64,\"\")","v":94},{"$f":"IF('@'!T90>0,'@'!T90,\"\")","v":62},{"$f":"IF('@'!T116>0,'@'!T116,\"\")","v":""},{"$f":"IF('@'!T142>0,'@'!T142,\"\")","v":""},{"$f":"IF('@'!T168>0,'@'!T168,\"\")","v":""},{"$f":"IF('@'!T194>0,'@'!T194,\"\")","v":""}]
[null,"ДСП 25, AB/AB",{"$f":"IF('@'!T13>0,'@'!T13,\"\")","v":""},{"$f":"IF('@'!T39>0,'@'!T39,\"\")","v":""},{"$f":"IF('@'!T65>0,'@'!T65,\"\")","v":105},{"$f":"IF('@'!T91>0,'@'!T91,\"\")","v":73},{"$f":"IF('@'!T117>0,'@'!T117,\"\")","v":""},{"$f":"IF('@'!T143>0,'@'!T143,\"\")","v":""},{"$f":"IF('@'!T169>0,'@'!T169,\"\")","v":""},{"$f":"IF('@'!T195>0,'@'!T195,\"\")","v":""}]
[null,"ДСП 25, AB/BС",{"$f":"IF('@'!T14>0,'@'!T14,\"\")","v":""},{"$f":"IF('@'!T40>0,'@'!T40,\"\")","v":""},{"$f":"IF('@'!T66>0,'@'!T66,\"\")","v":101},{"$f":"IF('@'!T92>0,'@'!T92,\"\")","v":69},{"$f":"IF('@'!T118>0,'@'!T118,\"\")","v":""},{"$f":"IF('@'!T144>0,'@'!T144,\"\")","v":""},{"$f":"IF('@'!T170>0,'@'!T170,\"\")","v":""},{"$f":"IF('@'!T196>0,'@'!T196,\"\")","v":""}]
[null,"ДСП 32, AB/AB",{"$f":"IF('@'!T15>0,'@'!T15,\"\")","v":""},{"$f":"IF('@'!T41>0,'@'!T41,\"\")","v":""},{"$f":"IF('@'!T67>0,'@'!T67,\"\")","v":111},{"$f":"IF('@'!T93>0,'@'!T93,\"\")","v":80},{"$f":"IF('@'!T119>0,'@'!T119,\"\")","v":""},{"$f":"IF('@'!T145>0,'@'!T145,\"\")","v":""},{"$f":"IF('@'!T171>0,'@'!T171,\"\")","v":""},{"$f":"IF('@'!T197>0,'@'!T197,\"\")","v":""}]
[null,"ДСП 32, AB/BС",{"$f":"IF('@'!T16>0,'@'!T16,\"\")","v":""},{"$f":"IF('@'!T42>0,'@'!T42,\"\")","v":""},{"$f":"IF('@'!T68>0,'@'!T68,\"\")","v":108},{"$f":"IF('@'!T94>0,'@'!T94,\"\")","v":76},{"$f":"IF('@'!T120>0,'@'!T120,\"\")","v":""},{"$f":"IF('@'!T146>0,'@'!T146,\"\")","v":""},{"$f":"IF('@'!T172>0,'@'!T172,\"\")","v":""},{"$f":"IF('@'!T198>0,'@'!T198,\"\")","v":""}]
[null,"ДСП 36, AB/AB",{"$f":"IF('@'!T17>0,'@'!T17,\"\")","v":""},{"$f":"IF('@'!T43>0,'@'!T43,\"\")","v":""},{"$f":"IF('@'!T69>0,'@'!T69,\"\")","v":115},{"$f":"IF('@'!T95>0,'@'!T95,\"\")","v":83},{"$f":"IF('@'!T121>0,'@'!T121,\"\")","v":""},{"$f":"IF('@'!T147>0,'@'!T147,\"\")","v":""},{"$f":"IF('@'!T173>0,'@'!T173,\"\")","v":""},{"$f":"IF('@'!T199>0,'@'!T199,\"\")","v":""}]
[null,"ДСП 36, AB/BС",{"$f":"IF('@'!T18>0,'@'!T18,\"\")","v":""},{"$f":"IF('@'!T44>0,'@'!T44,\"\")","v":""},{"$f":"IF('@'!T70>0,'@'!T70,\"\")","v":111},{"$f":"IF('@'!T96>0,'@'!T96,\"\")","v":79},{"$f":"IF('@'!T122>0,'@'!T122,\"\")","v":""},{"$f":"IF('@'!T148>0,'@'!T148,\"\")","v":""},{"$f":"IF('@'!T174>0,'@'!T174,\"\")","v":""},{"$f":"IF('@'!T200>0,'@'!T200,\"\")","v":""}]
["МДФ","МДФ 9, AB/AB",{"$f":"IF('@'!T19>0,'@'!T19,\"\")","v":""},{"$f":"IF('@'!T45>0,'@'!T45,\"\")","v":""},{"$f":"IF('@'!T71>0,'@'!T71,\"\")","v":98},{"$f":"IF('@'!T97>0,'@'!T97,\"\")","v":66},{"$f":"IF('@'!T123>0,'@'!T123,\"\")","v":""},{"$f":"IF('@'!T149>0,'@'!T149,\"\")","v":""},{"$f":"IF('@'!T175>0,'@'!T175,\"\")","v":""},{"$f":"IF('@'!T201>0,'@'!T201,\"\")","v":""}]
[null,"МДФ 9, AB/BC",{"$f":"IF('@'!T20>0,'@'!T20,\"\")","v":""},{"$f":"IF('@'!T46>0,'@'!T46,\"\")","v":""},{"$f":"IF('@'!T72>0,'@'!T72,\"\")","v":94},{"$f":"IF('@'!T98>0,'@'!T98,\"\")","v":62},{"$f":"IF('@'!T124>0,'@'!T124,\"\")","v":""},{"$f":"IF('@'!T150>0,'@'!T150,\"\")","v":""},{"$f":"IF('@'!T176>0,'@'!T176,\"\")","v":""},{"$f":"IF('@'!T202>0,'@'!T202,\"\")","v":""}]
[null,"МДФ 9, BC/BC",{"$f":"IF('@'!T21>0,'@'!T21,\"\")","v":""},{"$f":"IF('@'!T47>0,'@'!T47,\"\")","v":""},{"$f":"IF('@'!T73>0,'@'!T73,\"\")","v":90},{"$f":"IF('@'!T99>0,'@'!T99,\"\")","v":58},{"$f":"IF('@'!T125>0,'@'!T125,\"\")","v":""},{"$f":"IF('@'!T151>0,'@'!T151,\"\")","v":""},{"$f":"IF('@'!T177>0,'@'!T177,\"\")","v":""},{"$f":"IF('@'!T203>0,'@'!T203,\"\")","v":""}]
[null,"МДФ 19, AB/AB",{"$f":"IF('@'!T22>0,'@'!T22,\"\")","v":""},{"$f":"IF('@'!T48>0,'@'!T48,\"\")","v":""},{"$f":"IF('@'!T74>0,'@'!T74,\"\")","v":105},{"$f":"IF('@'!T100>0,'@'!T100,\"\")","v":73},{"$f":"IF('@'!T126>0,'@'!T126,\"\")","v":""},{"$f":"IF('@'!T152>0,'@'!T152,\"\")","v":""},{"$f":"IF('@'!T178>0,'@'!T178,\"\")","v":""},{"$f":"IF('@'!T204>0,'@'!T204,\"\")","v":""}]
[null,"МДФ 19, AB/BC",{"$f":"IF('@'!T23>0,'@'!T23,\"\")","v":""},{"$f":"IF('@'!T49>0,'@'!T49,\"\")","v":""},{"$f":"IF('@'!T75>0,'@'!T75,\"\")","v":101},{"$f":"IF('@'!T101>0,'@'!T101,\"\")","v":69},{"$f":"IF('@'!T127>0,'@'!T127,\"\")","v":""},{"$f":"IF('@'!T153>0,'@'!T153,\"\")","v":""},{"$f":"IF('@'!T179>0,'@'!T179,\"\")","v":""},{"$f":"IF('@'!T205>0,'@'!T205,\"\")","v":""}]
[null,"МДФ 19, AB/карт.",{"$f":"IF('@'!T24>0,'@'!T24,\"\")","v":""},{"$f":"IF('@'!T50>0,'@'!T50,\"\")","v":""},{"$f":"IF('@'!T76>0,'@'!T76,\"\")","v":95},{"$f":"IF('@'!T102>0,'@'!T102,\"\")","v":60},{"$f":"IF('@'!T128>0,'@'!T128,\"\")","v":""},{"$f":"IF('@'!T154>0,'@'!T154,\"\")","v":""},{"$f":"IF('@'!T180>0,'@'!T180,\"\")","v":""},{"$f":"IF('@'!T206>0,'@'!T206,\"\")","v":""}]
[null,"МДФ 26, AB/AB",{"$f":"IF('@'!T25>0,'@'!T25,\"\")","v":""},{"$f":"IF('@'!T51>0,'@'!T51,\"\")","v":""},{"$f":"IF('@'!T77>0,'@'!T77,\"\")","v":112},{"$f":"IF('@'!T103>0,'@'!T103,\"\")","v":80},{"$f":"IF('@'!T129>0,'@'!T129,\"\")","v":""},{"$f":"IF('@'!T155>0,'@'!T155,\"\")","v":""},{"$f":"IF('@'!T181>0,'@'!T181,\"\")","v":""},{"$f":"IF('@'!T207>0,'@'!T207,\"\")","v":""}]
[null,"МДФ 26, AB/BC",{"$f":"IF('@'!T26>0,'@'!T26,\"\")","v":""},{"$f":"IF('@'!T52>0,'@'!T52,\"\")","v":""},{"$f":"IF('@'!T78>0,'@'!T78,\"\")","v":108},{"$f":"IF('@'!T104>0,'@'!T104,\"\")","v":76},{"$f":"IF('@'!T130>0,'@'!T130,\"\")","v":""},{"$f":"IF('@'!T156>0,'@'!T156,\"\")","v":""},{"$f":"IF('@'!T182>0,'@'!T182,\"\")","v":""},{"$f":"IF('@'!T208>0,'@'!T208,\"\")","v":""}]
[null,"МДФ 37, AB/AB",{"$f":"IF('@'!T27>0,'@'!T27,\"\")","v":""},{"$f":"IF('@'!T53>0,'@'!T53,\"\")","v":""},{"$f":"IF('@'!T79>0,'@'!T79,\"\")","v":129},{"$f":"IF('@'!T105>0,'@'!T105,\"\")","v":97},{"$f":"IF('@'!T131>0,'@'!T131,\"\")","v":""},{"$f":"IF('@'!T157>0,'@'!T157,\"\")","v":""},{"$f":"IF('@'!T183>0,'@'!T183,\"\")","v":""},{"$f":"IF('@'!T209>0,'@'!T209,\"\")","v":""}]
[null,"МДФ 37, AB/BC",{"$f":"IF('@'!T28>0,'@'!T28,\"\")","v":""},{"$f":"IF('@'!T54>0,'@'!T54,\"\")","v":""},{"$f":"IF('@'!T80>0,'@'!T80,\"\")","v":125},{"$f":"IF('@'!T106>0,'@'!T106,\"\")","v":93},{"$f":"IF('@'!T132>0,'@'!T132,\"\")","v":""},{"$f":"IF('@'!T158>0,'@'!T158,\"\")","v":""},{"$f":"IF('@'!T184>0,'@'!T184,\"\")","v":""},{"$f":"IF('@'!T210>0,'@'!T210,\"\")","v":""}]
[]
["СТОИМОСТЬ КРОМКОВАНИЯ ШПОНОМ ПЛИТНЫХ ДЕТАЛЕЙ ( ЗА М.П. )"]
[]
["КРОМКА\n[мм]","ТОЛЩИНЫ ПЛИТ ОБЛИ-ЦОВАННЫХ ШПОНОМ","ДУБ",null,null,null,"ЯСЕНЬ"]
[null,null,"Б/О","ЭМАЛЬ","ЛАК","МАСЛО","Б/О","ЭМАЛЬ","ЛАК","МАСЛО"]
[22,"9, 10, 16, 18, 19",{"$f":"IF('@'!Z3>0,'@'!Z3,\"\")","v":""},{"$f":"IF('@'!Z7>0,'@'!Z7,\"\")","v":""},{"$f":"IF('@'!Z11>0,'@'!Z11,\"\")","v":""},{"$f":"IF('@'!Z15>0,'@'!Z15,\"\")","v":""},{"$f":"IF('@'!Z19>0,'@'!Z19,\"\")","v":""},{"$f":"IF('@'!Z23>0,'@'!Z23,\"\")","v":""},{"$f":"IF('@'!Z27>0,'@'!Z27,\"\")","v":""},{"$f":"IF('@'!Z31>0,'@'!Z31,\"\")","v":""}]
[28,"22, 25",{"$f":"IF('@'!Z4>0,'@'!Z4,\"\")","v":""},{"$f":"IF('@'!Z8>0,'@'!Z8,\"\")","v":""},{"$f":"IF('@'!Z12>0,'@'!Z12,\"\")","v":""},{"$f":"IF('@'!Z16>0,'@'!Z16,\"\")","v":""},{"$f":"IF('@'!Z20>0,'@'!Z20,\"\")","v":""},{"$f":"IF('@'!Z24>0,'@'!Z24,\"\")","v":""},{"$f":"IF('@'!Z28>0,'@'!Z28,\"\")","v":""},{"$f":"IF('@'!Z32>0,'@'!Z32,\"\")","v":""}]
[33,26,{"$f":"IF('@'!Z5>0,'@'!Z5,\"\")","v":""},{"$f":"IF('@'!Z9>0,'@'!Z9,\"\")","v":""},{"$f":"IF('@'!Z13>0,'@'!Z13,\"\")","v":""},{"$f":"IF('@'!Z17>0,'@'!Z17,\"\")","v":""},{"$f":"IF('@'!Z21>0,'@'!Z21,\"\")","v":""},{"$f":"IF('@'!Z25>0,'@'!Z25,\"\")","v":""},{"$f":"IF('@'!Z29>0,'@'!Z29,\"\")","v":""},{"$f":"IF('@'!Z33>0,'@'!Z33,\"\")","v":""}]
[42,"32, 36, 37",{"$f":"IF('@'!Z6>0,'@'!Z6,\"\")","v":""},{"$f":"IF('@'!Z10>0,'@'!Z10,\"\")","v":""},{"$f":"IF('@'!Z14>0,'@'!Z14,\"\")","v":""},{"$f":"IF('@'!Z18>0,'@'!Z18,\"\")","v":""},{"$f":"IF('@'!Z22>0,'@'!Z22,\"\")","v":""},{"$f":"IF('@'!Z26>0,'@'!Z26,\"\")","v":""},{"$f":"IF('@'!Z30>0,'@'!Z30,\"\")","v":""},{"$f":"IF('@'!Z34>0,'@'!Z34,\"\")","v":""}]

{"sheet":"ЦЕНЫ—UAH","index":4,"n_rows":48,"n_cols":10,"rows_kept":48,"cut":false,"hidden":false,"merged":[[47,0,47,1],[46,0,46,1],[47,2,47,3],[9,0,24,0],[25,0,34,0],[36,0,36,9],[38,0,39,0],[38,1,39,1],[38,2,38,5],[38,6,38,9],[46,2,46,3],[0,3,0,9],[1,3,1,9],[2,3,2,9],[5,0,5,9],[7,0,8,1],[7,2,7,5],[7,6,7,9],[0,0,2,2]]}
[null,null,null,"СТОИМОСТЬ ШПОНИРОВАННЫХ ПЛИТНЫХ ДЕТАЛЕЙ\n"]
[null,null,null,"РОЗНИЧНЫЕ ЦЕНЫ (UAH)"]
[null,null,null,{"$f":"'@'!M18","v":"РЕДАКЦИЯ : 15.02.2018"}]
[]
[]
["СТОИМОСТЬ ШПОНИРОВАННЫХ ПЛИТНЫХ ДЕТАЛЕЙ ( ЗА М.КВ. )"]
[]
["МАТЕРИАЛЫ ПЛИТНЫХ ОСНОВ, \nВИДЫ ОБЛИЦОВКИ ШПОНОМ",null,"ДУБ",null,null,null,"ЯСЕНЬ"]
[null,null,"Б/О","ЭМАЛЬ","ЛАК","МАСЛО","Б/О","ЭМАЛЬ","ЛАК","МАСЛО"]
["ДСП","ДСП 10, AB/лам.",{"$f":"IF('@'!S3*UAH_EURO>0,ROUNDUP('@'!S3*UAH_EURO,0),\"\")","v":""},{"$f":"IF('@'!S29*UAH_EURO>0,ROUNDUP('@'!S29*UAH_EURO,0),\"\")","v":""},{"$f":"IF('@'!S55*UAH_EURO>0,ROUNDUP('@'!S55*UAH_EURO,0),\"\")","v":1806},{"$f":"IF('@'!S81*UAH_EURO>0,ROUNDUP('@'!S81*UAH_EURO,0),\"\")","v":1438},{"$f":"IF('@'!S107*UAH_EURO>0,ROUNDUP('@'!S107*UAH_EURO,0),\"\")","v":""},{"$f":"IF('@'!S133*UAH_EURO>0,ROUNDUP('@'!S133*UAH_EURO,0),\"\")","v":""},{"$f":"IF('@'!S159*UAH_EURO>0,ROUNDUP('@'!S159*UAH_EURO,0),\"\")","v":""},{"$f":"IF('@'!S185*UAH_EURO>0,ROUNDUP('@'!S185*UAH_EURO,0),\"\")","v":""}]
[null,"ДСП 16, AB/AB",{"$f":"IF('@'!S4*UAH_EURO>0,ROUNDUP('@'!S4*UAH_EURO,0),\"\")","v":""},{"$f":"IF('@'!S30*UAH_EURO>0,ROUNDUP('@'!S30*UAH_EURO,0),\"\")","v":""},{"$f":"IF('@'!S56*UAH_EURO>0,ROUNDUP('@'!S56*UAH_EURO,0),\"\")","v":2575},{"$f":"IF('@'!S82*UAH_EURO>0,ROUNDUP('@'!S82*UAH_EURO,0),\"\")","v":1705},{"$f":"IF('@'!S108*UAH_EURO>0,ROUNDUP('@'!S108*UAH_EURO,0),\"\")","v":""},{"$f":"IF('@'!S134*UAH_EURO>0,ROUNDUP('@'!S134*UAH_EURO,0),\"\")","v":""},{"$f":"IF('@'!S160*UAH_EURO>0,ROUNDUP('@'!S160*UAH_EURO,0),\"\")","v":""},{"$f":"IF('@'!S186*UAH_EURO>0,ROUNDUP('@'!S186*UAH_EURO,0),\"\")","v":""}]
[null,"ДСП 16, AB/BC",{"$f":"IF('@'!S5*UAH_EURO>0,ROUNDUP('@'!S5*UAH_EURO,0),\"\")","v":""},{"$f":"IF('@'!S31*UAH_EURO>0,ROUNDUP('@'!S31*UAH_EURO,0),\"\")","v":""},{"$f":"IF('@'!S57*UAH_EURO>0,ROUNDUP('@'!S57*UAH_EURO,0),\"\")","v":2474},{"$f":"IF('@'!S83*UAH_EURO>0,ROUNDUP('@'!S83*UAH_EURO,0),\"\")","v":1605},{"$f":"IF('@'!S109*UAH_EURO>0,ROUNDUP('@'!S109*UAH_EURO,0),\"\")","v":""},{"$f":"IF('@'!S135*UAH_EURO>0,ROUNDUP('@'!S135*UAH_EURO,0),\"\")","v":""},{"$f":"IF('@'!S161*UAH_EURO>0,ROUNDUP('@'!S161*UAH_EURO,0),\"\")","v":""},{"$f":"IF('@'!S187*UAH_EURO>0,ROUNDUP('@'!S187*UAH_EURO,0),\"\")","v":""}]
[null,"ДСП 16, AB/карт.",{"$f":"IF('@'!S6*UAH_EURO>0,ROUNDUP('@'!S6*UAH_EURO,0),\"\")","v":""},{"$f":"IF('@'!S32*UAH_EURO>0,ROUNDUP('@'!S32*UAH_EURO,0),\"\")","v":""},{"$f":"IF('@'!S58*UAH_EURO>0,ROUNDUP('@'!S58*UAH_EURO,0),\"\")","v":2307},{"$f":"IF('@'!S84*UAH_EURO>0,ROUNDUP('@'!S84*UAH_EURO,0),\"\")","v":1371},{"$f":"IF('@'!S110*UAH_EURO>0,ROUNDUP('@'!S110*UAH_EURO,0),\"\")","v":""},{"$f":"IF('@'!S136*UAH_EURO>0,ROUNDUP('@'!S136*UAH_EURO,0),\"\")","v":""},{"$f":"IF('@'!S162*UAH_EURO>0,ROUNDUP('@'!S162*UAH_EURO,0),\"\")","v":""},{"$f":"IF('@'!S188*UAH_EURO>0,ROUNDUP('@'!S188*UAH_EURO,0),\"\")","v":""}]
[null,"ДСП 16, BC/BC",{"$f":"IF('@'!S7*UAH_EURO>0,ROUNDUP('@'!S7*UAH_EURO,0),\"\")","v":""},{"$f":"IF('@'!S33*UAH_EURO>0,ROUNDUP('@'!S33*UAH_EURO,0),\"\")","v":""},{"$f":"IF('@'!S59*UAH_EURO>0,ROUNDUP('@'!S59*UAH_EURO,0),\"\")","v":2374},{"$f":"IF('@'!S85*UAH_EURO>0,ROUNDUP('@'!S85*UAH_EURO,0),\"\")","v":1505},{"$f":"IF('@'!S111*UAH_EURO>0,ROUNDUP('@'!S111*UAH_EURO,0),\"\")","v":""},{"$f":"IF('@'!S137*UAH_EURO>0,ROUNDUP('@'!S137*UAH_EURO,0),\"\")","v":""},{"$f":"IF('@'!S163*UAH_EURO>0,ROUNDUP('@'!S163*UAH_EURO,0),\"\")","v":""},{"$f":"IF('@'!S189*UAH_EURO>0,ROUNDUP('@'!S189*UAH_EURO,0),\"\")","v":""}]
[null,"ДСП 18, AB/AB",{"$f":"IF('@'!S8*UAH_EURO>0,ROUNDUP('@'!S8*UAH_EURO,0),\"\")","v":""},{"$f":"IF('@'!S34*UAH_EURO>0,ROUNDUP('@'!S34*UAH_EURO,0),\"\")","v":""},{"$f":"IF('@'!S60*UAH_EURO>0,ROUNDUP('@'!S60*UAH_EURO,0),\"\")","v":2675},{"$f":"IF('@'!S86*UAH_EURO>0,ROUNDUP('@'!S86*UAH_EURO,0),\"\")","v":1806},{"$f":"IF('@'!S112*UAH_EURO>0,ROUNDUP('@'!S112*UAH_EURO,0),\"\")","v":""},{"$f":"IF('@'!S138*UAH_EURO>0,ROUNDUP('@'!S138*UAH_EURO,0),\"\")","v":""},{"$f":"IF('@'!S164*UAH_EURO>0,ROUNDUP('@'!S164*UAH_EURO,0),\"\")","v":""},{"$f":"IF('@'!S190*UAH_EURO>0,ROUNDUP('@'!S190*UAH_EURO,0),\"\")","v":""}]
[null,"ДСП 18, AB/BC",{"$f":"IF('@'!S9*UAH_EURO>0,ROUNDUP('@'!S9*UAH_EURO,0),\"\")","v":""},{"$f":"IF('@'!S35*UAH_EURO>0,ROUNDUP('@'!S35*UAH_EURO,0),\"\")","v":""},{"$f":"IF('@'!S61*UAH_EURO>0,ROUNDUP('@'!S61*UAH_EURO,0),\"\")","v":2575},{"$f":"IF('@'!S87*UAH_EURO>0,ROUNDUP('@'!S87*UAH_EURO,0),\"\")","v":1705},{"$f":"IF('@'!S113*UAH_EURO>0,ROUNDUP('@'!S113*UAH_EURO,0),\"\")","v":""},{"$f":"IF('@'!S139*UAH_EURO>0,ROUNDUP('@'!S139*UAH_EURO,0),\"\")","v":""},{"$f":"IF('@'!S165*UAH_EURO>0,ROUNDUP('@'!S165*UAH_EURO,0),\"\")","v":""},{"$f":"IF('@'!S191*UAH_EURO>0,ROUNDUP('@'!S191*UAH_EURO,0),\"\")","v":""}]
[null,"ДСП 18, AB/карт.",{"$f":"IF('@'!S10*UAH_EURO>0,ROUNDUP('@'!S10*UAH_EURO,0),\"\")","v":""},{"$f":"IF('@'!S36*UAH_EURO>0,ROUNDUP('@'!S36*UAH_EURO,0),\"\")","v":""},{"$f":"IF('@'!S62*UAH_EURO>0,ROUNDUP('@'!S62*UAH_EURO,0),\"\")","v":2407},{"$f":"IF('@'!S88*UAH_EURO>0,ROUNDUP('@'!S88*UAH_EURO,0),\"\")","v":1471},{"$f":"IF('@'!S114*UAH_EURO>0,ROUNDUP('@'!S114*UAH_EURO,0),\"\")","v":""},{"$f":"IF('@'!S140*UAH_EURO>0,ROUNDUP('@'!S140*UAH_EURO,0),\"\")","v":""},{"$f":"IF('@'!S166*UAH_EURO>0,ROUNDUP('@'!S166*UAH_EURO,0),\"\")","v":""},{"$f":"IF('@'!S192*UAH_EURO>0,ROUNDUP('@'!S192*UAH_EURO,0),\"\")","v":""}]
[null,"ДСП 22, AB/AB",{"$f":"IF('@'!S11*UAH_EURO>0,ROUNDUP('@'!S11*UAH_EURO,0),\"\")","v":""},{"$f":"IF('@'!S37*UAH_EURO>0,ROUNDUP('@'!S37*UAH_EURO,0),\"\")","v":""},{"$f":"IF('@'!S63*UAH_EURO>0,ROUNDUP('@'!S63*UAH_EURO,0),\"\")","v":2675},{"$f":"IF('@'!S89*UAH_EURO>0,ROUNDUP('@'!S89*UAH_EURO,0),\"\")","v":1806},{"$f":"IF('@'!S115*UAH_EURO>0,ROUNDUP('@'!S115*UAH_EURO,0),\"\")","v":""},{"$f":"IF('@'!S141*UAH_EURO>0,ROUNDUP('@'!S141*UAH_EURO,0),\"\")","v":""},{"$f":"IF('@'!S167*UAH_EURO>0,ROUNDUP('@'!S167*UAH_EURO,0),\"\")","v":""},{"$f":"IF('@'!S193*UAH_EURO>0,ROUNDUP('@'!S193*UAH_EURO,0),\"\")","v":""}]
[null,"ДСП 22, AB/BС",{"$f":"IF('@'!S12*UAH_EURO>0,ROUNDUP('@'!S12*UAH_EURO,0),\"\")","v":""},{"$f":"IF('@'!S38*UAH_EURO>0,ROUNDUP('@'!S38*UAH_EURO,0),\"\")","v":""},{"$f":"IF('@'!S64*UAH_EURO>0,ROUNDUP('@'!S64*UAH_EURO,0),\"\")","v":2575},{"$f":"IF('@'!S90*UAH_EURO>0,ROUNDUP('@'!S90*UAH_EURO,0),\"\")","v":1705},{"$f":"IF('@'!S116*UAH_EURO>0,ROUNDUP('@'!S116*UAH_EURO,0),\"\")","v":""},{"$f":"IF('@'!S142*UAH_EURO>0,ROUNDUP('@'!S142*UAH_EURO,0),\"\")","v":""},{"$f":"IF('@'!S168*UAH_EURO>0,ROUNDUP('@'!S168*UAH_EURO,0),\"\")","v":""},{"$f":"IF('@'!S194*UAH_EURO>0,ROUNDUP('@'!S194*UAH_EURO,0),\"\")","v":""}]
[null,"ДСП 25, AB/AB",{"$f":"IF('@'!S13*UAH_EURO>0,ROUNDUP('@'!S13*UAH_EURO,0),\"\")","v":""},{"$f":"IF('@'!S39*UAH_EURO>0,ROUNDUP('@'!S39*UAH_EURO,0),\"\")","v":""},{"$f":"IF('@'!S65*UAH_EURO>0,ROUNDUP('@'!S65*UAH_EURO,0),\"\")","v":2875},{"$f":"IF('@'!S91*UAH_EURO>0,ROUNDUP('@'!S91*UAH_EURO,0),\"\")","v":2006},{"$f":"IF('@'!S117*UAH_EURO>0,ROUNDUP('@'!S117*UAH_EURO,0),\"\")","v":""},{"$f":"IF('@'!S143*UAH_EURO>0,ROUNDUP('@'!S143*UAH_EURO,0),\"\")","v":""},{"$f":"IF('@'!S169*UAH_EURO>0,ROUNDUP('@'!S169*UAH_EURO,0),\"\")","v":""},{"$f":"IF('@'!S195*UAH_EURO>0,ROUNDUP('@'!S195*UAH_EURO,0),\"\")","v":""}]
[null,"ДСП 25, AB/BС",{"$f":"IF('@'!S14*UAH_EURO>0,ROUNDUP('@'!S14*UAH_EURO,0),\"\")","v":""},{"$f":"IF('@'!S40*UAH_EURO>0,ROUNDUP('@'!S40*UAH_EURO,0),\"\")","v":""},{"$f":"IF('@'!S66*UAH_EURO>0,ROUNDUP('@'!S66*UAH_EURO,0),\"\")","v":2742},{"$f":"IF('@'!S92*UAH_EURO>0,ROUNDUP('@'!S92*UAH_EURO,0),\"\")","v":1873},{"$f":"IF('@'!S118*UAH_EURO>0,ROUNDUP('@'!S118*UAH_EURO,0),\"\")","v":""},{"$f":"IF('@'!S144*UAH_EURO>0,ROUNDUP('@'!S144*UAH_EURO,0),\"\")","v":""},{"$f":"IF('@'!S170*UAH_EURO>0,ROUNDUP('@'!S170*UAH_EURO,0),\"\")","v":""},{"$f":"IF('@'!S196*UAH_EURO>0,ROUNDUP('@'!S196*UAH_EURO,0),\"\")","v":""}]
[null,"ДСП 32, AB/AB",{"$f":"IF('@'!S15*UAH_EURO>0,ROUNDUP('@'!S15*UAH_EURO,0),\"\")","v":""},{"$f":"IF('@'!S41*UAH_EURO>0,ROUNDUP('@'!S41*UAH_EURO,0),\"\")","v":""},{"$f":"IF('@'!S67*UAH_EURO>0,ROUNDUP('@'!S67*UAH_EURO,0),\"\")","v":3043},{"$f":"IF('@'!S93*UAH_EURO>0,ROUNDUP('@'!S93*UAH_EURO,0),\"\")","v":2173},{"$f":"IF('@'!S119*UAH_EURO>0,ROUNDUP('@'!S119*UAH_EURO,0),\"\")","v":""},{"$f":"IF('@'!S145*UAH_EURO>0,ROUNDUP('@'!S145*UAH_EURO,0),\"\")","v":""},{"$f":"IF('@'!S171*UAH_EURO>0,ROUNDUP('@'!S171*UAH_EURO,0),\"\")","v":""},{"$f":"IF('@'!S197*UAH_EURO>0,ROUNDUP('@'!S197*UAH_EURO,0),\"\")","v":""}]
[null,"ДСП 32, AB/BС",{"$f":"IF('@'!S16*UAH_EURO>0,ROUNDUP('@'!S16*UAH_EURO,0),\"\")","v":""},{"$f":"IF('@'!S42*UAH_EURO>0,ROUNDUP('@'!S42*UAH_EURO,0),\"\")","v":""},{"$f":"IF('@'!S68*UAH_EURO>0,ROUNDUP('@'!S68*UAH_EURO,0),\"\")","v":2942},{"$f":"IF('@'!S94*UAH_EURO>0,ROUNDUP('@'!S94*UAH_EURO,0),\"\")","v":2073},{"$f":"IF('@'!S120*UAH_EURO>0,ROUNDUP('@'!S120*UAH_EURO,0),\"\")","v":""},{"$f":"IF('@'!S146*UAH_EURO>0,ROUNDUP('@'!S146*UAH_EURO,0),\"\")","v":""},{"$f":"IF('@'!S172*UAH_EURO>0,ROUNDUP('@'!S172*UAH_EURO,0),\"\")","v":""},{"$f":"IF('@'!S198*UAH_EURO>0,ROUNDUP('@'!S198*UAH_EURO,0),\"\")","v":""}]
[null,"ДСП 36, AB/AB",{"$f":"IF('@'!S17*UAH_EURO>0,ROUNDUP('@'!S17*UAH_EURO,0),\"\")","v":""},{"$f":"IF('@'!S43*UAH_EURO>0,ROUNDUP('@'!S43*UAH_EURO,0),\"\")","v":""},{"$f":"IF('@'!S69*UAH_EURO>0,ROUNDUP('@'!S69*UAH_EURO,0),\"\")","v":3143},{"$f":"IF('@'!S95*UAH_EURO>0,ROUNDUP('@'!S95*UAH_EURO,0),\"\")","v":2274},{"$f":"IF('@'!S121*UAH_EURO>0,ROUNDUP('@'!S121*UAH_EURO,0),\"\")","v":""},{"$f":"IF('@'!S147*UAH_EURO>0,ROUNDUP('@'!S147*UAH_EURO,0),\"\")","v":""},{"$f":"IF('@'!S173*UAH_EURO>0,ROUNDUP('@'!S173*UAH_EURO,0),\"\")","v":""},{"$f":"IF('@'!S199*UAH_EURO>0,ROUNDUP('@'!S199*UAH_EURO,0),\"\")","v":""}]
[null,"ДСП 36, AB/BС",{"$f":"IF('@'!S18*UAH_EURO>0,ROUNDUP('@'!S18*UAH_EURO,0),\"\")","v":""},{"$f":"IF('@'!S44*UAH_EURO>0,ROUNDUP('@'!S44*UAH_EURO,0),\"\")","v":""},{"$f":"IF('@'!S70*UAH_EURO>0,ROUNDUP('@'!S70*UAH_EURO,0),\"\")","v":3043},{"$f":"IF('@'!S96*UAH_EURO>0,ROUNDUP('@'!S96*UAH_EURO,0),\"\")","v":2173},{"$f":"IF('@'!S122*UAH_EURO>0,ROUNDUP('@'!S122*UAH_EURO,0),\"\")","v":""},{"$f":"IF('@'!S148*UAH_EURO>0,ROUNDUP('@'!S148*UAH_EURO,0),\"\")","v":""},{"$f":"IF('@'!S174*UAH_EURO>0,ROUNDUP('@'!S174*UAH_EURO,0),\"\")","v":""},{"$f":"IF('@'!S200*UAH_EURO>0,ROUNDUP('@'!S200*UAH_EURO,0),\"\")","v":""}]
["МДФ","МДФ 9, AB/AB",{"$f":"IF('@'!S19*UAH_EURO>0,ROUNDUP('@'!S19*UAH_EURO,0),\"\")","v":""},{"$f":"IF('@'!S45*UAH_EURO>0,ROUNDUP('@'!S45*UAH_EURO,0),\"\")","v":""},{"$f":"IF('@'!S71*UAH_EURO>0,ROUNDUP('@'!S71*UAH_EURO,0),\"\")","v":2675},{"$f":"IF('@'!S97*UAH_EURO>0,ROUNDUP('@'!S97*UAH_EURO,0),\"\")","v":1806},{"$f":"IF('@'!S123*UAH_EURO>0,ROUNDUP('@'!S123*UAH_EURO,0),\"\")","v":""},{"$f":"IF('@'!S149*UAH_EURO>0,ROUNDUP('@'!S149*UAH_EURO,0),\"\")","v":""},{"$f":"IF('@'!S175*UAH_EURO>0,ROUNDUP('@'!S175*UAH_EURO,0),\"\")","v":""},{"$f":"IF('@'!S201*UAH_EURO>0,ROUNDUP('@'!S201*UAH_EURO,0),\"\")","v":""}]
[null,"МДФ 9, AB/BC",{"$f":"IF('@'!S20*UAH_EURO>0,ROUNDUP('@'!S20*UAH_EURO,0),\"\")","v":""},{"$f":"IF('@'!S46*UAH_EURO>0,ROUNDUP('@'!S46*UAH_EURO,0),\"\")","v":""},{"$f":"IF('@'!S72*UAH_EURO>0,ROUNDUP('@'!S72*UAH_EURO,0),\"\")","v":2575},{"$f":"IF('@'!S98*UAH_EURO>0,ROUNDUP('@'!S98*UAH_EURO,0),\"\")","v":1705},{"$f":"IF('@'!S124*UAH_EURO>0,ROUNDUP('@'!S124*UAH_EURO,0),\"\")","v":""},{"$f":"IF('@'!S150*UAH_EURO>0,ROUNDUP('@'!S150*UAH_EURO,0),\"\")","v":""},{"$f":"IF('@'!S176*UAH_EURO>0,ROUNDUP('@'!S176*UAH_EURO,0),\"\")","v":""},{"$f":"IF('@'!S202*UAH_EURO>0,ROUNDUP('@'!S202*UAH_EURO,0),\"\")","v":""}]
[null,"МДФ 9, BC/BC",{"$f":"IF('@'!S21*UAH_EURO>0,ROUNDUP('@'!S21*UAH_EURO,0),\"\")","v":""},{"$f":"IF('@'!S47*UAH_EURO>0,ROUNDUP('@'!S47*UAH_EURO,0),\"\")","v":""},{"$f":"IF('@'!S73*UAH_EURO>0,ROUNDUP('@'!S73*UAH_EURO,0),\"\")","v":2474},{"$f":"IF('@'!S99*UAH_EURO>0,ROUNDUP('@'!S99*UAH_EURO,0),\"\")","v":1605},{"$f":"IF('@'!S125*UAH_EURO>0,ROUNDUP('@'!S125*UAH_EURO,0),\"\")","v":""},{"$f":"IF('@'!S151*UAH_EURO>0,ROUNDUP('@'!S151*UAH_EURO,0),\"\")","v":""},{"$f":"IF('@'!S177*UAH_EURO>0,ROUNDUP('@'!S177*UAH_EURO,0),\"\")","v":""},{"$f":"IF('@'!S203*UAH_EURO>0,ROUNDUP('@'!S203*UAH_EURO,0),\"\")","v":""}]
[null,"МДФ 19, AB/AB",{"$f":"IF('@'!S22*UAH_EURO>0,ROUNDUP('@'!S22*UAH_EURO,0),\"\")","v":""},{"$f":"IF('@'!S48*UAH_EURO>0,ROUNDUP('@'!S48*UAH_EURO,0),\"\")","v":""},{"$f":"IF('@'!S74*UAH_EURO>0,ROUNDUP('@'!S74*UAH_EURO,0),\"\")","v":2875},{"$f":"IF('@'!S100*UAH_EURO>0,ROUNDUP('@'!S100*UAH_EURO,0),\"\")","v":2006},{"$f":"IF('@'!S126*UAH_EURO>0,ROUNDUP('@'!S126*UAH_EURO,0),\"\")","v":""},{"$f":"IF('@'!S152*UAH_EURO>0,ROUNDUP('@'!S152*UAH_EURO,0),\"\")","v":""},{"$f":"IF('@'!S178*UAH_EURO>0,ROUNDUP('@'!S178*UAH_EURO,0),\"\")","v":""},{"$f":"IF('@'!S204*UAH_EURO>0,ROUNDUP('@'!S204*UAH_EURO,0),\"\")","v":""}]
[null,"МДФ 19, AB/BC",{"$f":"IF('@'!S23*UAH_EURO>0,ROUNDUP('@'!S23*UAH_EURO,0),\"\")","v":""},{"$f":"IF('@'!S49*UAH_EURO>0,ROUNDUP('@'!S49*UAH_EURO,0),\"\")","v":""},{"$f":"IF('@'!S75*UAH_EURO>0,ROUNDUP('@'!S75*UAH_EURO,0),\"\")","v":2742},{"$f":"IF('@'!S101*UAH_EURO>0,ROUNDUP('@'!S101*UAH_EURO,0),\"\")","v":1873},{"$f":"IF('@'!S127*UAH_EURO>0,ROUNDUP('@'!S127*UAH_EURO,0),\"\")","v":""},{"$f":"IF('@'!S153*UAH_EURO>0,ROUNDUP('@'!S153*UAH_EURO,0),\"\")","v":""},{"$f":"IF('@'!S179*UAH_EURO>0,ROUNDUP('@'!S179*UAH_EURO,0),\"\")","v":""},{"$f":"IF('@'!S205*UAH_EURO>0,ROUNDUP('@'!S205*UAH_EURO,0),\"\")","v":""}]
[null,"МДФ 19, AB/карт.",{"$f":"IF('@'!S24*UAH_EURO>0,ROUNDUP('@'!S24*UAH_EURO,0),\"\")","v":""},{"$f":"IF('@'!S50*UAH_EURO>0,ROUNDUP('@'!S50*UAH_EURO,0),\"\")","v":""},{"$f":"IF('@'!S76*UAH_EURO>0,ROUNDUP('@'!S76*UAH_EURO,0),\"\")","v":2608},{"$f":"IF('@'!S102*UAH_EURO>0,ROUNDUP('@'!S102*UAH_EURO,0),\"\")","v":1639},{"$f":"IF('@'!S128*UAH_EURO>0,ROUNDUP('@'!S128*UAH_EURO,0),\"\")","v":""},{"$f":"IF('@'!S154*UAH_EURO>0,ROUNDUP('@'!S154*UAH_EURO,0),\"\")","v":""},{"$f":"IF('@'!S180*UAH_EURO>0,ROUNDUP('@'!S180*UAH_EURO,0),\"\")","v":""},{"$f":"IF('@'!S206*UAH_EURO>0,ROUNDUP('@'!S206*UAH_EURO,0),\"\")","v":""}]
[null,"МДФ 26, AB/AB",{"$f":"IF('@'!S25*UAH_EURO>0,ROUNDUP('@'!S25*UAH_EURO,0),\"\")","v":""},{"$f":"IF('@'!S51*UAH_EURO>0,ROUNDUP('@'!S51*UAH_EURO,0),\"\")","v":""},{"$f":"IF('@'!S77*UAH_EURO>0,ROUNDUP('@'!S77*UAH_EURO,0),\"\")","v":3076},{"$f":"IF('@'!S103*UAH_EURO>0,ROUNDUP('@'!S103*UAH_EURO,0),\"\")","v":2207},{"$f":"IF('@'!S129*UAH_EURO>0,ROUNDUP('@'!S129*UAH_EURO,0),\"\")","v":""},{"$f":"IF('@'!S155*UAH_EURO>0,ROUNDUP('@'!S155*UAH_EURO,0),\"\")","v":""},{"$f":"IF('@'!S181*UAH_EURO>0,ROUNDUP('@'!S181*UAH_EURO,0),\"\")","v":""},{"$f":"IF('@'!S207*UAH_EURO>0,ROUNDUP('@'!S207*UAH_EURO,0),\"\")","v":""}]
[null,"МДФ 26, AB/BC",{"$f":"IF('@'!S26*UAH_EURO>0,ROUNDUP('@'!S26*UAH_EURO,0),\"\")","v":""},{"$f":"IF('@'!S52*UAH_EURO>0,ROUNDUP('@'!S52*UAH_EURO,0),\"\")","v":""},{"$f":"IF('@'!S78*UAH_EURO>0,ROUNDUP('@'!S78*UAH_EURO,0),\"\")","v":2942},{"$f":"IF('@'!S104*UAH_EURO>0,ROUNDUP('@'!S104*UAH_EURO,0),\"\")","v":2073},{"$f":"IF('@'!S130*UAH_EURO>0,ROUNDUP('@'!S130*UAH_EURO,0),\"\")","v":""},{"$f":"IF('@'!S156*UAH_EURO>0,ROUNDUP('@'!S156*UAH_EURO,0),\"\")","v":""},{"$f":"IF('@'!S182*UAH_EURO>0,ROUNDUP('@'!S182*UAH_EURO,0),\"\")","v":""},{"$f":"IF('@'!S208*UAH_EURO>0,ROUNDUP('@'!S208*UAH_EURO,0),\"\")","v":""}]
[null,"МДФ 37, AB/AB",{"$f":"IF('@'!S27*UAH_EURO>0,ROUNDUP('@'!S27*UAH_EURO,0),\"\")","v":""},{"$f":"IF('@'!S53*UAH_EURO>0,ROUNDUP('@'!S53*UAH_EURO,0),\"\")","v":""},{"$f":"IF('@'!S79*UAH_EURO>0,ROUNDUP('@'!S79*UAH_EURO,0),\"\")","v":3511},{"$f":"IF('@'!S105*UAH_EURO>0,ROUNDUP('@'!S105*UAH_EURO,0),\"\")","v":2641},{"$f":"IF('@'!S131*UAH_EURO>0,ROUNDUP('@'!S131*UAH_EURO,0),\"\")","v":""},{"$f":"IF('@'!S157*UAH_EURO>0,ROUNDUP('@'!S157*UAH_EURO,0),\"\")","v":""},{"$f":"IF('@'!S183*UAH_EURO>0,ROUNDUP('@'!S183*UAH_EURO,0),\"\")","v":""},{"$f":"IF('@'!S209*UAH_EURO>0,ROUNDUP('@'!S209*UAH_EURO,0),\"\")","v":""}]
[null,"МДФ 37, AB/BC",{"$f":"IF('@'!S28*UAH_EURO>0,ROUNDUP('@'!S28*UAH_EURO,0),\"\")","v":""},{"$f":"IF('@'!S54*UAH_EURO>0,ROUNDUP('@'!S54*UAH_EURO,0),\"\")","v":""},{"$f":"IF('@'!S80*UAH_EURO>0,ROUNDUP('@'!S80*UAH_EURO,0),\"\")","v":3410},{"$f":"IF('@'!S106*UAH_EURO>0,ROUNDUP('@'!S106*UAH_EURO,0),\"\")","v":2541},{"$f":"IF('@'!S132*UAH_EURO>0,ROUNDUP('@'!S132*UAH_EURO,0),\"\")","v":""},{"$f":"IF('@'!S158*UAH_EURO>0,ROUNDUP('@'!S158*UAH_EURO,0),\"\")","v":""},{"$f":"IF('@'!S184*UAH_EURO>0,ROUNDUP('@'!S184*UAH_EURO,0),\"\")","v":""},{"$f":"IF('@'!S210*UAH_EURO>0,ROUNDUP('@'!S210*UAH_EURO,0),\"\")","v":""}]
[]
["СТОИМОСТЬ КРОМКОВАНИЯ ШПОНОМ ПЛИТНЫХ ДЕТАЛЕЙ ( ЗА М.П. )"]
[]
["КРОМКА\n[мм]","ТОЛЩИНЫ ПЛИТ ОБЛИ-ЦОВАННЫХ ШПОНОМ","ДУБ",null,null,null,"ЯСЕНЬ"]
[null,null,"Б/О","ЭМАЛЬ","ЛАК","МАСЛО","Б/О","ЭМАЛЬ","ЛАК","МАСЛО"]
[22,"9, 10, 16, 18, 19",{"$f":"IF('@'!Y3*UAH_EURO>0,ROUNDUP('@'!Y3*UAH_EURO,0),\"\")","v":""},{"$f":"IF('@'!Y7*UAH_EURO>0,ROUNDUP('@'!Y7*UAH_EURO,0),\"\")","v":""},{"$f":"IF('@'!Y11*UAH_EURO>0,ROUNDUP('@'!Y11*UAH_EURO,0),\"\")","v":""},{"$f":"IF('@'!Y15*UAH_EURO>0,ROUNDUP('@'!Y15*UAH_EURO,0),\"\")","v":""},{"$f":"IF('@'!Y19*UAH_EURO>0,ROUNDUP('@'!Y19*UAH_EURO,0),\"\")","v":""},{"$f":"IF('@'!Y23*UAH_EURO>0,ROUNDUP('@'!Y23*UAH_EURO,0),\"\")","v":""},{"$f":"IF('@'!Y27*UAH_EURO>0,ROUNDUP('@'!Y27*UAH_EURO,0),\"\")","v":""},{"$f":"IF('@'!Y31*UAH_EURO>0,ROUNDUP('@'!Y31*UAH_EURO,0),\"\")","v":""}]
[28,"22, 25",{"$f":"IF('@'!Y4*UAH_EURO>0,ROUNDUP('@'!Y4*UAH_EURO,0),\"\")","v":""},{"$f":"IF('@'!Y8*UAH_EURO>0,ROUNDUP('@'!Y8*UAH_EURO,0),\"\")","v":""},{"$f":"IF('@'!Y12*UAH_EURO>0,ROUNDUP('@'!Y12*UAH_EURO,0),\"\")","v":""},{"$f":"IF('@'!Y16*UAH_EURO>0,ROUNDUP('@'!Y16*UAH_EURO,0),\"\")","v":""},{"$f":"IF('@'!Y20*UAH_EURO>0,ROUNDUP('@'!Y20*UAH_EURO,0),\"\")","v":""},{"$f":"IF('@'!Y24*UAH_EURO>0,ROUNDUP('@'!Y24*UAH_EURO,0),\"\")","v":""},{"$f":"IF('@'!Y28*UAH_EURO>0,ROUNDUP('@'!Y28*UAH_EURO,0),\"\")","v":""},{"$f":"IF('@'!Y32*UAH_EURO>0,ROUNDUP('@'!Y32*UAH_EURO,0),\"\")","v":""}]
[33,26,{"$f":"IF('@'!Y5*UAH_EURO>0,ROUNDUP('@'!Y5*UAH_EURO,0),\"\")","v":""},{"$f":"IF('@'!Y9*UAH_EURO>0,ROUNDUP('@'!Y9*UAH_EURO,0),\"\")","v":""},{"$f":"IF('@'!Y13*UAH_EURO>0,ROUNDUP('@'!Y13*UAH_EURO,0),\"\")","v":""},{"$f":"IF('@'!Y17*UAH_EURO>0,ROUNDUP('@'!Y17*UAH_EURO,0),\"\")","v":""},{"$f":"IF('@'!Y21*UAH_EURO>0,ROUNDUP('@'!Y21*UAH_EURO,0),\"\")","v":""},{"$f":"IF('@'!Y25*UAH_EURO>0,ROUNDUP('@'!Y25*UAH_EURO,0),\"\")","v":""},{"$f":"IF('@'!Y29*UAH_EURO>0,ROUNDUP('@'!Y29*UAH_EURO,0),\"\")","v":""},{"$f":"IF('@'!Y33*UAH_EURO>0,ROUNDUP('@'!Y33*UAH_EURO,0),\"\")","v":""}]
[42,"32, 36, 37",{"$f":"IF('@'!Y6*UAH_EURO>0,ROUNDUP('@'!Y6*UAH_EURO,0),\"\")","v":""},{"$f":"IF('@'!Y10*UAH_EURO>0,ROUNDUP('@'!Y10*UAH_EURO,0),\"\")","v":""},{"$f":"IF('@'!Y14*UAH_EURO>0,ROUNDUP('@'!Y14*UAH_EURO,0),\"\")","v":""},{"$f":"IF('@'!Y18*UAH_EURO>0,ROUNDUP('@'!Y18*UAH_EURO,0),\"\")","v":""},{"$f":"IF('@'!Y22*UAH_EURO>0,ROUNDUP('@'!Y22*UAH_EURO,0),\"\")","v":""},{"$f":"IF('@'!Y26*UAH_EURO>0,ROUNDUP('@'!Y26*UAH_EURO,0),\"\")","v":""},{"$f":"IF('@'!Y30*UAH_EURO>0,ROUNDUP('@'!Y30*UAH_EURO,0),\"\")","v":""},{"$f":"IF('@'!Y34*UAH_EURO>0,ROUNDUP('@'!Y34*UAH_EURO,0),\"\")","v":""}]
[]
[]
["КУРС UAH/EURO : ",null,33.43]
["ДАТА : ",null,"2018-02-15"]

{"sheet":"ЗАКАЗ—EURO—USD","index":5,"n_rows":49,"n_cols":31,"rows_kept":49,"cut":false,"hidden":false,"merged":[[0,0,7,1],[2,10,2,12],[7,2,7,8],[6,2,6,8],[5,2,5,8],[4,2,4,8],[3,2,3,8],[2,2,2,8],[5,10,5,12],[3,10,4,12],[6,10,7,12],[0,2,1,12],[14,30,15,30],[14,27,15,27],[14,26,15,26],[14,20,14,21],[14,29,15,29],[14,24,15,24],[13,20,13,21],[14,19,15,19],[14,28,15,28],[14,16,15,16],[14,15,15,15],[14,18,15,18],[14,17,15,17],[14,14,15,14],[44,17,44,18],[41,17,41,18],[43,17,43,18],[41,9,41,11],[44,9,44,11],[43,9,43,11],[42,17,42,18],[8,2,13,3],[14,6,14,7],[14,8,14,9],[42,9,42,10],[14,2,14,3],[14,4,14,5],[10,0,10,1],[12,0,12,1],[11,0,11,1],[9,0,9,1],[47,17,47,18],[45,17,45,18],[14,1,15,1],[14,0,15,0],[42,0,48,3],[48,4,48,12],[9,4,9,8],[46,17,46,18],[42,4,42,6],[43,4,43,6],[44,4,44,6],[10,4,12,12]]}
[null,null,"ЗАКАЗ НА ИЗГОТОВЛЕНИЕ ШПОНИРОВАННЫХ ДЕТАЛЕЙ"]
[]
[null,null,"ЗАКАЗЧИК :",null,null,null,null,null,null,null,"ДАТА ОФОРМЛЕНИЯ ЗАКАЗА :"]
[null,null,"Мебельная фабрика \"DesignProject\"",null,null,null,null,null,null,null,"15.02.2018"]
[null,null,"АДРЕС :"]
[null,null,"г. Киев, просп. Шевченко, 32",null,null,null,null,null,null,null,"НОМЕР ЗАКАЗА :"]
[null,null,"ТЕЛЕФОН, E-MAIL :",null,null,null,null,null,null,null,"зак. ###, (1/3)"]
[null,null,"тел. 096-238-53-28, designprojectr@mail.com"]
[]
["ДРЕВЕСНАЯ ПОРОДА ШПОНА :",null,null,null,"ДОПОЛНИТЕЛЬНЫЕ ТЕХНИЧЕСКИЕ ТРЕБОВАНИЯ :"]
["ДУБ (тангентальный)",null,null,null,"Текстуру шпона по внешним сторонам деталей поз.3, 4, 5, совместить согласно чертежам.\nЧертежи и схемы расположения деталей в приложении кзаказу."]
["ВИД ОТДЕЛКИ И ДЕКОР :"]
["БЕЗ ОТДЕЛКИ"]
[null,null,null,null,null,null,null,null,null,null,null,null,null,null,null,null,null,null,null,null,"КОЛ. СТОРОН",null,"М.П.","М.КВ."]
["№","МАТЕРИАЛ И ТОЛЩ. ПЛИТЫ\nС ВАРИАНТОМ ОБЛИЦОВКИ","ДЛИНЫ СТОРОН",null,"КРОМКОВАНИЕ",null,"ПЛОЩ. И МАССА ДЕТАЛИ",null,"ОБЩ. ПЛОЩ. И МАССА",null,"ЦЕНА ДЕТ.","КОЛ.","СТОИМОСТЬ",null,"ИНДЕКС\nПЛИТЫ","ЦЕНА КРОМКИ\n[вал./м.]","ЦЕНА ПЛИТЫ [вал./м.п.]","СТОИМОСТЬ\nКРОМКИ [вал.]","СТОИМОСТЬ\nПЛИТЫ [вал.]","СТОИМОСТЬ\nДЕТАЛИ [вал.]","КРОМКОВАНИЕ",null,"ПЕРИМЕТР","ПЛОЩАДЬ","ВЕС ПЛИТЫ\n[кг/м.кв.]","ВЕС ДЕТАЛИ","КРОМКА","ШПОН","ОТДЕЛКА","КРОМКА+ОТДЕЛКА","ШПОН+ОТДЕЛКА+МАТЕРИАЛ И ТОЛЩ.\nПЛИТЫ С ВАРИАНТОМ ОБЛИЦОВКИ"]
[null,null,"X, мм","Y, мм","кол. X","кол. Y","м.кв.","кг","м.кв.","кг",{"$f":"M45","v":"USD"},"шт.",{"$f":"M45","v":"USD"},null,null,null,null,null,null,null,"KX","KY","X×KX+Y×KY","X×Y",null,"КГ"]
[null,null,null,null,null,null,{"$f":"IF(X17>0,X17,\" \")","v":" "},{"$f":"IF(C17*D17*O17>0,Z17,\" \")","v":" "},{"$f":"IF(X17*L17>0,X17*L17,\"\")","v":""},{"$f":"IF(C17*D17*O17*L17>0,H17*L17,\" \")","v":" "},{"$f":"IF(C17*D17*O17>0,ROUNDUP(T17,2),\" \")","v":" "},null,{"$f":"IF(C17*D17*L17*O17>0,K17*L17,\" \")","v":" "},null,{"$f":"IF(B17<>\"\",1,0)","v":0},{"$f":"INDEX('@'!V3:Z34,MATCH(AD17,'@'!V3:V34,0),T48)","v":{"$error":"#N/A"}},{"$f":"INDEX('@'!P3:T210,MATCH(AE17,'@'!P3:P210,0),T48)","v":{"$error":"#N/A"}},{"$f":"P17*W17","v":{"$error":"#N/A"}},{"$f":"Q17*X17","v":{"$error":"#N/A"}},{"$f":"R17+S17","v":{"$error":"#N/A"}},{"$f":"IF(E17=\"\",0,IF(E17=КРОМКА_A0,0,IF(E17=КРОМКА_A1,1,IF(E17=КРОМКА_A2,2))))","v":0},{"$f":"IF(F17=\"\",0,IF(F17=КРОМКА_B0,0,IF(F17=КРОМКА_B1,1,IF(F17=КРОМКА_B2,2))))","v":0},{"$f":"(C17*U17+D17*V17)/1000","v":0},{"$f":"C17*D17/1000000","v":0},{"$f":"INDEX('@'!B3:F28,MATCH(B17,ПЛИТА_ТИП,0),5)","v":{"$error":"#N/A"}},{"$f":"IF(Y17*X17<>0,Y17*X17,0)","v":{"$error":"#N/A"}},{"$f":"INDEX('@'!B3:F28,MATCH(B17,ПЛИТА_ТИП,0),4)","v":{"$error":"#N/A"}},{"$f":"INDEX('@'!J3:K6,MATCH(A11,ШПОН_ДЕРЕВО,0),2)","v":"ДУБ"},{"$f":"INDEX('@'!J8:K18,MATCH(A13,ОТДЕЛКА_ДЕКОРЫ,0),2)","v":"Б/О"},{"$f":"AB17&\" \"&AA17&\", \"&AC17","v":{"$error":"#N/A"}},{"$f":"AB17&\", \"&AC17&\", \"&B17","v":"ДУБ, Б/О, "}]
[null,null,null,null,null,null,{"$f":"IF(X18>0,X18,\" \")","v":" "},{"$f":"IF(C18*D18*O18>0,Z18,\" \")","v":" "},{"$f":"IF(X18*L18>0,X18*L18,\"\")","v":""},{"$f":"IF(C18*D18*O18*L18>0,H18*L18,\" \")","v":" "},{"$f":"IF(C18*D18*O18>0,ROUNDUP(T18,2),\" \")","v":" "},null," ",null,0,{"$f":"INDEX('@'!V3:Z34,MATCH(AD18,'@'!V3:V34,0),T48)","v":{"$error":"#N/A"}},{"$f":"INDEX('@'!P3:T210,MATCH(AE18,'@'!P3:P210,0),T48)","v":{"$error":"#N/A"}},{"$f":"P18*W18","v":{"$error":"#N/A"}},{"$f":"Q18*X18","v":{"$error":"#N/A"}},{"$f":"R18+S18","v":{"$error":"#N/A"}},0,0,{"$f":"(C18*U18+D18*V18)/1000","v":0},{"$f":"C18*D18/1000000","v":0},{"$f":"INDEX('@'!B3:F28,MATCH(B18,ПЛИТА_ТИП,0),5)","v":{"$error":"#N/A"}},{"$f":"IF(Y18*X18<>0,Y18*X18,0)","v":{"$error":"#N/A"}},{"$f":"INDEX('@'!B3:F28,MATCH(B18,ПЛИТА_ТИП,0),4)","v":{"$error":"#N/A"}},{"$f":"INDEX('@'!J3:K6,MATCH(A11,ШПОН_ДЕРЕВО,0),2)","v":"ДУБ"},{"$f":"INDEX('@'!J8:K18,MATCH(A13,ОТДЕЛКА_ДЕКОРЫ,0),2)","v":"Б/О"},{"$f":"AB18&\" \"&AA18&\", \"&AC18","v":{"$error":"#N/A"}},"ДУБ, Б/О, "]
[null,null,null,null,null,null," "," ",""," "," ",null," ",null,0,{"$f":"INDEX('@'!V3:Z34,MATCH(AD19,'@'!V3:V34,0),T48)","v":{"$error":"#N/A"}},{"$f":"INDEX('@'!P3:T210,MATCH(AE19,'@'!P3:P210,0),T48)","v":{"$error":"#N/A"}},{"$error":"#N/A"},{"$error":"#N/A"},{"$error":"#N/A"},0,0,0,0,{"$f":"INDEX('@'!B3:F28,MATCH(B19,ПЛИТА_ТИП,0),5)","v":{"$error":"#N/A"}},{"$error":"#N/A"},{"$f":"INDEX('@'!B3:F28,MATCH(B19,ПЛИТА_ТИП,0),4)","v":{"$error":"#N/A"}},{"$f":"INDEX('@'!J3:K6,MATCH(A11,ШПОН_ДЕРЕВО,0),2)","v":"ДУБ"},{"$f":"INDEX('@'!J8:K18,MATCH(A13,ОТДЕЛКА_ДЕКОРЫ,0),2)","v":"Б/О"},{"$error":"#N/A"},"ДУБ, Б/О, "]
[null,null,null,null,null,null," "," ",""," "," ",null," ",null,0,{"$f":"INDEX('@'!V3:Z34,MATCH(AD20,'@'!V3:V34,0),T48)","v":{"$error":"#N/A"}},{"$f":"INDEX('@'!P3:T210,MATCH(AE20,'@'!P3:P210,0),T48)","v":{"$error":"#N/A"}},{"$error":"#N/A"},{"$error":"#N/A"},{"$error":"#N/A"},0,0,0,0,{"$f":"INDEX('@'!B3:F28,MATCH(B20,ПЛИТА_ТИП,0),5)","v":{"$error":"#N/A"}},{"$error":"#N/A"},{"$f":"INDEX('@'!B3:F28,MATCH(B20,ПЛИТА_ТИП,0),4)","v":{"$error":"#N/A"}},{"$f":"INDEX('@'!J3:K6,MATCH(A11,ШПОН_ДЕРЕВО,0),2)","v":"ДУБ"},{"$f":"INDEX('@'!J8:K18,MATCH(A13,ОТДЕЛКА_ДЕКОРЫ,0),2)","v":"Б/О"},{"$error":"#N/A"},"ДУБ, Б/О, "]
[null,null,null,null,null,null," "," ",""," "," ",null," ",null,0,{"$f":"INDEX('@'!V3:Z34,MATCH(AD21,'@'!V3:V34,0),T48)","v":{"$error":"#N/A"}},{"$f":"INDEX('@'!P3:T210,MATCH(AE21,'@'!P3:P210,0),T48)","v":{"$error":"#N/A"}},{"$error":"#N/A"},{"$error":"#N/A"},{"$error":"#N/A"},0,0,0,0,{"$f":"INDEX('@'!B3:F28,MATCH(B21,ПЛИТА_ТИП,0),5)","v":{"$error":"#N/A"}},{"$error":"#N/A"},{"$f":"INDEX('@'!B3:F28,MATCH(B21,ПЛИТА_ТИП,0),4)","v":{"$error":"#N/A"}},{"$f":"INDEX('@'!J3:K6,MATCH(A11,ШПОН_ДЕРЕВО,0),2)","v":"ДУБ"},{"$f":"INDEX('@'!J8:K18,MATCH(A13,ОТДЕЛКА_ДЕКОРЫ,0),2)","v":"Б/О"},{"$error":"#N/A"},"ДУБ, Б/О, "]
[null,null,null,null,null,null," "," ",""," "," ",null," ",null,0,{"$f":"INDEX('@'!V3:Z34,MATCH(AD22,'@'!V3:V34,0),T48)","v":{"$error":"#N/A"}},{"$f":"INDEX('@'!P3:T210,MATCH(AE22,'@'!P3:P210,0),T48)","v":{"$error":"#N/A"}},{"$error":"#N/A"},{"$error":"#N/A"},{"$error":"#N/A"},0,0,0,0,{"$f":"INDEX('@'!B3:F28,MATCH(B22,ПЛИТА_ТИП,0),5)","v":{"$error":"#N/A"}},{"$error":"#N/A"},{"$f":"INDEX('@'!B3:F28,MATCH(B22,ПЛИТА_ТИП,0),4)","v":{"$error":"#N/A"}},{"$f":"INDEX('@'!J3:K6,MATCH(A11,ШПОН_ДЕРЕВО,0),2)","v":"ДУБ"},{"$f":"INDEX('@'!J8:K18,MATCH(A13,ОТДЕЛКА_ДЕКОРЫ,0),2)","v":"Б/О"},{"$error":"#N/A"},"ДУБ, Б/О, "]
[null,null,null,null,null,null," "," ",""," "," ",null," ",null,0,{"$f":"INDEX('@'!V3:Z34,MATCH(AD23,'@'!V3:V34,0),T48)","v":{"$error":"#N/A"}},{"$f":"INDEX('@'!P3:T210,MATCH(AE23,'@'!P3:P210,0),T48)","v":{"$error":"#N/A"}},{"$error":"#N/A"},{"$error":"#N/A"},{"$error":"#N/A"},0,0,0,0,{"$f":"INDEX('@'!B3:F28,MATCH(B23,ПЛИТА_ТИП,0),5)","v":{"$error":"#N/A"}},{"$error":"#N/A"},{"$f":"INDEX('@'!B3:F28,MATCH(B23,ПЛИТА_ТИП,0),4)","v":{"$error":"#N/A"}},{"$f":"INDEX('@'!J3:K6,MATCH(A11,ШПОН_ДЕРЕВО,0),2)","v":"ДУБ"},{"$f":"INDEX('@'!J8:K18,MATCH(A13,ОТДЕЛКА_ДЕКОРЫ,0),2)","v":"Б/О"},{"$error":"#N/A"},"ДУБ, Б/О, "]
[null,null,null,null,null,null," "," ",""," "," ",null," ",null,{"$f":"IF(B24<>\"\",1,0)","v":0},{"$f":"INDEX('@'!V3:Z34,MATCH(AD24,'@'!V3:V34,0),T48)","v":{"$error":"#N/A"}},{"$f":"INDEX('@'!P3:T210,MATCH(AE24,'@'!P3:P210,0),T48)","v":{"$error":"#N/A"}},{"$error":"#N/A"},{"$error":"#N/A"},{"$error":"#N/A"},0,0,0,0,{"$f":"INDEX('@'!B3:F28,MATCH(B24,ПЛИТА_ТИП,0),5)","v":{"$error":"#N/A"}},{"$error":"#N/A"},{"$f":"INDEX('@'!B3:F28,MATCH(B24,ПЛИТА_ТИП,0),4)","v":{"$error":"#N/A"}},{"$f":"INDEX('@'!J3:K6,MATCH(A11,ШПОН_ДЕРЕВО,0),2)","v":"ДУБ"},{"$f":"INDEX('@'!J8:K18,MATCH(A13,ОТДЕЛКА_ДЕКОРЫ,0),2)","v":"Б/О"},{"$error":"#N/A"},"ДУБ, Б/О, "]
[null,null,null,null,null,null," "," ",""," "," ",null," ",null,0,{"$f":"INDEX('@'!V3:Z34,MATCH(AD25,'@'!V3:V34,0),T48)","v":{"$error":"#N/A"}},{"$f":"INDEX('@'!P3:T210,MATCH(AE25,'@'!P3:P210,0),T48)","v":{"$error":"#N/A"}},{"$error":"#N/A"},{"$error":"#N/A"},{"$error":"#N/A"},0,0,0,0,{"$f":"INDEX('@'!B3:F28,MATCH(B25,ПЛИТА_ТИП,0),5)","v":{"$error":"#N/A"}},{"$error":"#N/A"},{"$f":"INDEX('@'!B3:F28,MATCH(B25,ПЛИТА_ТИП,0),4)","v":{"$error":"#N/A"}},{"$f":"INDEX('@'!J3:K6,MATCH(A11,ШПОН_ДЕРЕВО,0),2)","v":"ДУБ"},{"$f":"INDEX('@'!J8:K18,MATCH(A13,ОТДЕЛКА_ДЕКОРЫ,0),2)","v":"Б/О"},{"$error":"#N/A"},"ДУБ, Б/О, "]
[null,null,null,null,null,null," "," ",""," "," ",null," ",null,0,{"$f":"INDEX('@'!V3:Z34,MATCH(AD26,'@'!V3:V34,0),T48)","v":{"$error":"#N/A"}},{"$f":"INDEX('@'!P3:T210,MATCH(AE26,'@'!P3:P210,0),T48)","v":{"$error":"#N/A"}},{"$error":"#N/A"},{"$error":"#N/A"},{"$error":"#N/A"},0,0,0,0,{"$f":"INDEX('@'!B3:F28,MATCH(B26,ПЛИТА_ТИП,0),5)","v":{"$error":"#N/A"}},{"$error":"#N/A"},{"$f":"INDEX('@'!B3:F28,MATCH(B26,ПЛИТА_ТИП,0),4)","v":{"$error":"#N/A"}},{"$f":"INDEX('@'!J3:K6,MATCH(A11,ШПОН_ДЕРЕВО,0),2)","v":"ДУБ"},{"$f":"INDEX('@'!J8:K18,MATCH(A13,ОТДЕЛКА_ДЕКОРЫ,0),2)","v":"Б/О"},{"$error":"#N/A"},"ДУБ, Б/О, "]
[null,null,null,null,null,null," "," ",""," "," ",null," ",null,0,{"$f":"INDEX('@'!V3:Z34,MATCH(AD27,'@'!V3:V34,0),T48)","v":{"$error":"#N/A"}},{"$f":"INDEX('@'!P3:T210,MATCH(AE27,'@'!P3:P210,0),T48)","v":{"$error":"#N/A"}},{"$error":"#N/A"},{"$error":"#N/A"},{"$error":"#N/A"},0,0,0,0,{"$f":"INDEX('@'!B3:F28,MATCH(B27,ПЛИТА_ТИП,0),5)","v":{"$error":"#N/A"}},{"$error":"#N/A"},{"$f":"INDEX('@'!B3:F28,MATCH(B27,ПЛИТА_ТИП,0),4)","v":{"$error":"#N/A"}},{"$f":"INDEX('@'!J3:K6,MATCH(A11,ШПОН_ДЕРЕВО,0),2)","v":"ДУБ"},{"$f":"INDEX('@'!J8:K18,MATCH(A13,ОТДЕЛКА_ДЕКОРЫ,0),2)","v":"Б/О"},{"$error":"#N/A"},"ДУБ, Б/О, "]
[null,null,null,null,null,null," "," ",""," "," ",null," ",null,0,{"$f":"INDEX('@'!V3:Z34,MATCH(AD28,'@'!V3:V34,0),T48)","v":{"$error":"#N/A"}},{"$f":"INDEX('@'!P3:T210,MATCH(AE28,'@'!P3:P210,0),T48)","v":{"$error":"#N/A"}},{"$error":"#N/A"},{"$error":"#N/A"},{"$error":"#N/A"},0,0,0,0,{"$f":"INDEX('@'!B3:F28,MATCH(B28,ПЛИТА_ТИП,0),5)","v":{"$error":"#N/A"}},{"$error":"#N/A"},{"$f":"INDEX('@'!B3:F28,MATCH(B28,ПЛИТА_ТИП,0),4)","v":{"$error":"#N/A"}},{"$f":"INDEX('@'!J3:K6,MATCH(A11,ШПОН_ДЕРЕВО,0),2)","v":"ДУБ"},{"$f":"INDEX('@'!J8:K18,MATCH(A13,ОТДЕЛКА_ДЕКОРЫ,0),2)","v":"Б/О"},{"$error":"#N/A"},"ДУБ, Б/О, "]
[null,null,null,null,null,null," "," ",""," "," ",null," ",null,0,{"$f":"INDEX('@'!V3:Z34,MATCH(AD29,'@'!V3:V34,0),T48)","v":{"$error":"#N/A"}},{"$f":"INDEX('@'!P3:T210,MATCH(AE29,'@'!P3:P210,0),T48)","v":{"$error":"#N/A"}},{"$error":"#N/A"},{"$error":"#N/A"},{"$error":"#N/A"},0,0,0,0,{"$f":"INDEX('@'!B3:F28,MATCH(B29,ПЛИТА_ТИП,0),5)","v":{"$error":"#N/A"}},{"$error":"#N/A"},{"$f":"INDEX('@'!B3:F28,MATCH(B29,ПЛИТА_ТИП,0),4)","v":{"$error":"#N/A"}},{"$f":"INDEX('@'!J3:K6,MATCH(A11,ШПОН_ДЕРЕВО,0),2)","v":"ДУБ"},{"$f":"INDEX('@'!J8:K18,MATCH(A13,ОТДЕЛКА_ДЕКОРЫ,0),2)","v":"Б/О"},{"$error":"#N/A"},"ДУБ, Б/О, "]
[null,null,null,null,null,null," "," ",""," "," ",null," ",null,0,{"$f":"INDEX('@'!V3:Z34,MATCH(AD30,'@'!V3:V34,0),T48)","v":{"$error":"#N/A"}},{"$f":"INDEX('@'!P3:T210,MATCH(AE30,'@'!P3:P210,0),T48)","v":{"$error":"#N/A"}},{"$error":"#N/A"},{"$error":"#N/A"},{"$error":"#N/A"},0,0,0,0,{"$f":"INDEX('@'!B3:F28,MATCH(B30,ПЛИТА_ТИП,0),5)","v":{"$error":"#N/A"}},{"$error":"#N/A"},{"$f":"INDEX('@'!B3:F28,MATCH(B30,ПЛИТА_ТИП,0),4)","v":{"$error":"#N/A"}},{"$f":"INDEX('@'!J3:K6,MATCH(A11,ШПОН_ДЕРЕВО,0),2)","v":"ДУБ"},{"$f":"INDEX('@'!J8:K18,MATCH(A13,ОТДЕЛКА_ДЕКОРЫ,0),2)","v":"Б/О"},{"$error":"#N/A"},"ДУБ, Б/О, "]
[null,null,null,null,null,null," "," ",""," "," ",null," ",null,0,{"$f":"INDEX('@'!V3:Z34,MATCH(AD31,'@'!V3:V34,0),T48)","v":{"$error":"#N/A"}},{"$f":"INDEX('@'!P3:T210,MATCH(AE31,'@'!P3:P210,0),T48)","v":{"$error":"#N/A"}},{"$error":"#N/A"},{"$error":"#N/A"},{"$error":"#N/A"},0,0,0,0,{"$f":"INDEX('@'!B3:F28,MATCH(B31,ПЛИТА_ТИП,0),5)","v":{"$error":"#N/A"}},{"$error":"#N/A"},{"$f":"INDEX('@'!B3:F28,MATCH(B31,ПЛИТА_ТИП,0),4)","v":{"$error":"#N/A"}},{"$f":"INDEX('@'!J3:K6,MATCH(A11,ШПОН_ДЕРЕВО,0),2)","v":"ДУБ"},{"$f":"INDEX('@'!J8:K18,MATCH(A13,ОТДЕЛКА_ДЕКОРЫ,0),2)","v":"Б/О"},{"$error":"#N/A"},"ДУБ, Б/О, "]
[null,null,null,null,null,null," "," ",""," "," ",null," ",null,0,{"$f":"INDEX('@'!V3:Z34,MATCH(AD32,'@'!V3:V34,0),T48)","v":{"$error":"#N/A"}},{"$f":"INDEX('@'!P3:T210,MATCH(AE32,'@'!P3:P210,0),T48)","v":{"$error":"#N/A"}},{"$error":"#N/A"},{"$error":"#N/A"},{"$error":"#N/A"},0,0,0,0,{"$f":"INDEX('@'!B3:F28,MATCH(B32,ПЛИТА_ТИП,0),5)","v":{"$error":"#N/A"}},{"$error":"#N/A"},{"$f":"INDEX('@'!B3:F28,MATCH(B32,ПЛИТА_ТИП,0),4)","v":{"$error":"#N/A"}},{"$f":"INDEX('@'!J3:K6,MATCH(A11,ШПОН_ДЕРЕВО,0),2)","v":"ДУБ"},{"$f":"INDEX('@'!J8:K18,MATCH(A13,ОТДЕЛКА_ДЕКОРЫ,0),2)","v":"Б/О"},{"$error":"#N/A"},"ДУБ, Б/О, "]
[null,null,null,null,null,null," "," ",""," "," ",null," ",null,0,{"$f":"INDEX('@'!V3:Z34,MATCH(AD33,'@'!V3:V34,0),T48)","v":{"$error":"#N/A"}},{"$f":"INDEX('@'!P3:T210,MATCH(AE33,'@'!P3:P210,0),T48)","v":{"$error":"#N/A"}},{"$error":"#N/A"},{"$error":"#N/A"},{"$error":"#N/A"},0,0,0,0,{"$f":"INDEX('@'!B3:F28,MATCH(B33,ПЛИТА_ТИП,0),5)","v":{"$error":"#N/A"}},{"$error":"#N/A"},{"$f":"INDEX('@'!B3:F28,MATCH(B33,ПЛИТА_ТИП,0),4)","v":{"$error":"#N/A"}},{"$f":"INDEX('@'!J3:K6,MATCH(A11,ШПОН_ДЕРЕВО,0),2)","v":"ДУБ"},{"$f":"INDEX('@'!J8:K18,MATCH(A13,ОТДЕЛКА_ДЕКОРЫ,0),2)","v":"Б/О"},{"$error":"#N/A"},"ДУБ, Б/О, "]
[null,null,null,null,null,null," "," ",""," "," ",null," ",null,0,{"$f":"INDEX('@'!V3:Z34,MATCH(AD34,'@'!V3:V34,0),T48)","v":{"$error":"#N/A"}},{"$f":"INDEX('@'!P3:T210,MATCH(AE34,'@'!P3:P210,0),T48)","v":{"$error":"#N/A"}},{"$error":"#N/A"},{"$error":"#N/A"},{"$error":"#N/A"},0,0,0,0,{"$f":"INDEX('@'!B3:F28,MATCH(B34,ПЛИТА_ТИП,0),5)","v":{"$error":"#N/A"}},{"$error":"#N/A"},{"$f":"INDEX('@'!B3:F28,MATCH(B34,ПЛИТА_ТИП,0),4)","v":{"$error":"#N/A"}},{"$f":"INDEX('@'!J3:K6,MATCH(A11,ШПОН_ДЕРЕВО,0),2)","v":"ДУБ"},{"$f":"INDEX('@'!J8:K18,MATCH(A13,ОТДЕЛКА_ДЕКОРЫ,0),2)","v":"Б/О"},{"$error":"#N/A"},"ДУБ, Б/О, "]
[null,null,null,null,null,null," "," ",""," "," ",null," ",null,0,{"$f":"INDEX('@'!V3:Z34,MATCH(AD35,'@'!V3:V34,0),T48)","v":{"$error":"#N/A"}},{"$f":"INDEX('@'!P3:T210,MATCH(AE35,'@'!P3:P210,0),T48)","v":{"$error":"#N/A"}},{"$error":"#N/A"},{"$error":"#N/A"},{"$error":"#N/A"},0,0,0,0,{"$f":"INDEX('@'!B3:F28,MATCH(B35,ПЛИТА_ТИП,0),5)","v":{"$error":"#N/A"}},{"$error":"#N/A"},{"$f":"INDEX('@'!B3:F28,MATCH(B35,ПЛИТА_ТИП,0),4)","v":{"$error":"#N/A"}},{"$f":"INDEX('@'!J3:K6,MATCH(A11,ШПОН_ДЕРЕВО,0),2)","v":"ДУБ"},{"$f":"INDEX('@'!J8:K18,MATCH(A13,ОТДЕЛКА_ДЕКОРЫ,0),2)","v":"Б/О"},{"$error":"#N/A"},"ДУБ, Б/О, "]
[null,null,null,null,null,null," "," ",""," "," ",null," ",null,0,{"$f":"INDEX('@'!V3:Z34,MATCH(AD36,'@'!V3:V34,0),T48)","v":{"$error":"#N/A"}},{"$f":"INDEX('@'!P3:T210,MATCH(AE36,'@'!P3:P210,0),T48)","v":{"$error":"#N/A"}},{"$error":"#N/A"},{"$error":"#N/A"},{"$error":"#N/A"},0,0,0,0,{"$f":"INDEX('@'!B3:F28,MATCH(B36,ПЛИТА_ТИП,0),5)","v":{"$error":"#N/A"}},{"$error":"#N/A"},{"$f":"INDEX('@'!B3:F28,MATCH(B36,ПЛИТА_ТИП,0),4)","v":{"$error":"#N/A"}},{"$f":"INDEX('@'!J3:K6,MATCH(A11,ШПОН_ДЕРЕВО,0),2)","v":"ДУБ"},{"$f":"INDEX('@'!J8:K18,MATCH(A13,ОТДЕЛКА_ДЕКОРЫ,0),2)","v":"Б/О"},{"$error":"#N/A"},"ДУБ, Б/О, "]
[null,null,null,null,null,null," "," ",""," "," ",null," ",null,0,{"$f":"INDEX('@'!V3:Z34,MATCH(AD37,'@'!V3:V34,0),T48)","v":{"$error":"#N/A"}},{"$f":"INDEX('@'!P3:T210,MATCH(AE37,'@'!P3:P210,0),T48)","v":{"$error":"#N/A"}},{"$error":"#N/A"},{"$error":"#N/A"},{"$error":"#N/A"},0,0,0,0,{"$f":"INDEX('@'!B3:F28,MATCH(B37,ПЛИТА_ТИП,0),5)","v":{"$error":"#N/A"}},{"$error":"#N/A"},{"$f":"INDEX('@'!B3:F28,MATCH(B37,ПЛИТА_ТИП,0),4)","v":{"$error":"#N/A"}},{"$f":"INDEX('@'!J3:K6,MATCH(A11,ШПОН_ДЕРЕВО,0),2)","v":"ДУБ"},{"$f":"INDEX('@'!J8:K18,MATCH(A13,ОТДЕЛКА_ДЕКОРЫ,0),2)","v":"Б/О"},{"$error":"#N/A"},"ДУБ, Б/О, "]
[null,null,null,null,null,null," "," ",""," "," ",null," ",null,0,{"$f":"INDEX('@'!V3:Z34,MATCH(AD38,'@'!V3:V34,0),T48)","v":{"$error":"#N/A"}},{"$f":"INDEX('@'!P3:T210,MATCH(AE38,'@'!P3:P210,0),T48)","v":{"$error":"#N/A"}},{"$error":"#N/A"},{"$error":"#N/A"},{"$error":"#N/A"},0,0,0,0,{"$f":"INDEX('@'!B3:F28,MATCH(B38,ПЛИТА_ТИП,0),5)","v":{"$error":"#N/A"}},{"$error":"#N/A"},{"$f":"INDEX('@'!B3:F28,MATCH(B38,ПЛИТА_ТИП,0),4)","v":{"$error":"#N/A"}},{"$f":"INDEX('@'!J3:K6,MATCH(A11,ШПОН_ДЕРЕВО,0),2)","v":"ДУБ"},{"$f":"INDEX('@'!J8:K18,MATCH(A13,ОТДЕЛКА_ДЕКОРЫ,0),2)","v":"Б/О"},{"$error":"#N/A"},"ДУБ, Б/О, "]
[null,null,null,null,null,null," "," ",""," "," ",null," ",null,0,{"$f":"INDEX('@'!V3:Z34,MATCH(AD39,'@'!V3:V34,0),T48)","v":{"$error":"#N/A"}},{"$f":"INDEX('@'!P3:T210,MATCH(AE39,'@'!P3:P210,0),T48)","v":{"$error":"#N/A"}},{"$error":"#N/A"},{"$error":"#N/A"},{"$error":"#N/A"},0,0,0,0,{"$f":"INDEX('@'!B3:F28,MATCH(B39,ПЛИТА_ТИП,0),5)","v":{"$error":"#N/A"}},{"$error":"#N/A"},{"$f":"INDEX('@'!B3:F28,MATCH(B39,ПЛИТА_ТИП,0),4)","v":{"$error":"#N/A"}},{"$f":"INDEX('@'!J3:K6,MATCH(A11,ШПОН_ДЕРЕВО,0),2)","v":"ДУБ"},{"$f":"INDEX('@'!J8:K18,MATCH(A13,ОТДЕЛКА_ДЕКОРЫ,0),2)","v":"Б/О"},{"$error":"#N/A"},"ДУБ, Б/О, "]
[null,null,null,null,null,null," "," ",""," "," ",null," ",null,0,{"$f":"INDEX('@'!V3:Z34,MATCH(AD40,'@'!V3:V34,0),T48)","v":{"$error":"#N/A"}},{"$f":"INDEX('@'!P3:T210,MATCH(AE40,'@'!P3:P210,0),T48)","v":{"$error":"#N/A"}},{"$error":"#N/A"},{"$error":"#N/A"},{"$error":"#N/A"},0,0,0,0,{"$f":"INDEX('@'!B3:F28,MATCH(B40,ПЛИТА_ТИП,0),5)","v":{"$error":"#N/A"}},{"$error":"#N/A"},{"$f":"INDEX('@'!B3:F28,MATCH(B40,ПЛИТА_ТИП,0),4)","v":{"$error":"#N/A"}},{"$f":"INDEX('@'!J3:K6,MATCH(A11,ШПОН_ДЕРЕВО,0),2)","v":"ДУБ"},{"$f":"INDEX('@'!J8:K18,MATCH(A13,ОТДЕЛКА_ДЕКОРЫ,0),2)","v":"Б/О"},{"$error":"#N/A"},"ДУБ, Б/О, "]
[null,null,null,null,null,null," "," ",""," "," ",null," ",null,0,{"$f":"INDEX('@'!V3:Z34,MATCH(AD41,'@'!V3:V34,0),T48)","v":{"$error":"#N/A"}},{"$f":"INDEX('@'!P3:T210,MATCH(AE41,'@'!P3:P210,0),T48)","v":{"$error":"#N/A"}},{"$error":"#N/A"},{"$error":"#N/A"},{"$error":"#N/A"},0,0,0,0,{"$f":"INDEX('@'!B3:F28,MATCH(B41,ПЛИТА_ТИП,0),5)","v":{"$error":"#N/A"}},{"$error":"#N/A"},{"$f":"INDEX('@'!B3:F28,MATCH(B41,ПЛИТА_ТИП,0),4)","v":{"$error":"#N/A"}},{"$f":"INDEX('@'!J3:K6,MATCH(A11,ШПОН_ДЕРЕВО,0),2)","v":"ДУБ"},{"$f":"INDEX('@'!J8:K18,MATCH(A13,ОТДЕЛКА_ДЕКОРЫ,0),2)","v":"Б/О"},{"$error":"#N/A"},"ДУБ, Б/О, "]
[null,null,null,null,null,null,null,null,null,"ОБЩАЯ СТОИМОСТЬ :  ",null,null,{"$f":"IF(T42>0,T42,\"\")","v":""},null,null,null,null,"СТОИМОСТЬ ЗАКАЗА :",null,{"$f":"SUM(M17:M41)","v":0}]
[null,null,null,null,"ВСЕГО ДЕТАЛЕЙ :",null,null,{"$f":"IF(T45>0,T45,\"\")","v":""}," шт.","СКИДКА :  ",null,null,{"$f":"IF(T42>0,T43,\"\")","v":""},null,null,null,null,"СКИДКА :",null,{"$f":"ROUNDUP(T42*L43,2)","v":0}]
[null,null,null,null,"ОБЩАЯ ПЛОЩАДЬ :",null,null,{"$f":"IF(T46>0,T46,\"\")","v":""}," м.кв.","ВСЕГО К ОПЛАТЕ :  ",null,null,{"$f":"IF(T44>0,T44,\"\")","v":""},null,null,null,null,"ВСЕГО К ОПЛАТЕ :",null,{"$f":"T42-T43","v":0}]
[null,null,null,null,"ОБЩИЙ ВЕС :",null,null,{"$f":"IF(T47>0,T47,\"\")","v":""}," кг","ВАЛЮТА :  ",null,null,"USD",null,null,null,null,"ОБЩЕЕ КОЛИЧЕСТВО :",null,{"$f":"SUM(L17:L41)","v":0}]
[null,null,null,null,null,null,null,null,null,null,null,null,null,null,null,null,null,"ОБЩАЯ ПЛОЩАДЬ :",null,{"$f":"SUM(I17:I41)","v":0}]
[null,null,null,null,null,null,null,null,null,null,null,null,null,null,null,null,null,"ОБЩИЙ ВЕС :",null,{"$f":"SUM(J17:J41)","v":0}]
[null,null,null,null,null,null,null,null,null,null,null,null,null,null,null,null,null,"КОЛОНКА ВАЛЮТЫ :",null,{"$f":"INDEX('@'!AB3:AC4,MATCH(M45,ВАЛЮТА,0),2)","v":5}]
[null,null,null,null,{"$f":"\"ИСХОДНЫЕ ДАННЫЕ : ПРАЙС ЛИСТ, РОЗНИЧНЫЕ ЦЕНЫ (\"&M45&\") — \"&РЕДАКЦИЯ","v":"ИСХОДНЫЕ ДАННЫЕ : ПРАЙС ЛИСТ, РОЗНИЧНЫЕ ЦЕНЫ (USD) — РЕДАКЦИЯ : 15.02.2018"}]

{"sheet":"ЗАКАЗ—UAH","index":6,"n_rows":49,"n_cols":31,"rows_kept":49,"cut":false,"hidden":false,"merged":[[12,0,12,1],[5,2,5,8],[5,10,5,12],[6,2,6,8],[7,2,7,8],[6,10,7,12],[0,0,7,1],[4,2,4,8],[0,2,1,12],[2,2,2,8],[2,10,2,12],[3,2,3,8],[3,10,4,12],[13,20,13,21],[14,0,15,0],[14,1,15,1],[14,2,14,3],[14,4,14,5],[14,6,14,7],[14,8,14,9],[14,14,15,14],[14,15,15,15],[14,16,15,16],[8,2,13,3],[9,0,9,1],[9,4,9,8],[10,0,10,1],[10,4,12,12],[11,0,11,1],[14,27,15,27],[14,28,15,28],[14,29,15,29],[14,30,15,30],[41,9,41,11],[41,17,41,18],[14,17,15,17],[14,18,15,18],[14,19,15,19],[14,20,14,21],[14,24,15,24],[14,26,15,26],[42,0,48,3],[47,17,47,18],[48,4,48,12],[45,9,45,11],[44,4,44,6],[44,9,44,11],[44,17,44,18],[45,17,45,18],[46,17,46,18],[42,4,42,6],[42,9,42,10],[42,17,42,18],[43,4,43,6],[43,9,43,11],[43,17,43,18]]}
[null,null,"ЗАКАЗ НА ИЗГОТОВЛЕНИЕ ШПОНИРОВАННЫХ ДЕТАЛЕЙ"]
[]
[null,null,"ЗАКАЗЧИК :",null,null,null,null,null,null,null,"ДАТА ОФОРМЛЕНИЯ ЗАКАЗА :"]
[null,null,"Мебельная фабрика \"DesignProject\"",null,null,null,null,null,null,null,"15.02.2018"]
[null,null,"АДРЕС :"]
[null,null,"г. Киев, просп. Шевченко, 32",null,null,null,null,null,null,null,"НОМЕР ЗАКАЗА :"]
[null,null,"ТЕЛЕФОН, E-MAIL :",null,null,null,null,null,null,null,"зак. ###, (1/3)"]
[null,null,"тел. 096-238-53-28, designprojectr@mail.com"]
[]
["ДРЕВЕСНАЯ ПОРОДА ШПОНА :",null,null,null,"ДОПОЛНИТЕЛЬНЫЕ ТЕХНИЧЕСКИЕ ТРЕБОВАНИЯ :"]
["ДУБ (тангентальный)",null,null,null,"Текстуру шпона по внешним сторонам деталей поз.3, 4, 5, совместить согласно чертежам.\nЧертежи и схемы расположения деталей в приложении кзаказу."]
["ВИД ОТДЕЛКИ И ДЕКОР :"]
["БЕЗ ОТДЕЛКИ"]
[null,null,null,null,null,null,null,null,null,null,null,null,null,null,null,null,null,null,null,null,"КОЛ. СТОРОН",null,"М.П.","М.КВ."]
["№","МАТЕРИАЛ И ТОЛЩ. ПЛИТЫ\nС ВАРИАНТОМ ОБЛИЦОВКИ","ДЛИНЫ СТОРОН",null,"КРОМКОВАНИЕ",null,"ПЛОЩ. И МАССА ДЕТАЛИ",null,"ОБЩ. ПЛОЩ. И МАССА",null,"ЦЕНА ДЕТ.","КОЛ.","СТОИМОСТЬ",null,"ИНДЕКС\nПЛИТЫ","ЦЕНА КРОМКИ\n[вал./м.]","ЦЕНА ПЛИТЫ [вал./м.п.]","СТОИМОСТЬ\nКРОМКИ [вал.]","СТОИМОСТЬ\nПЛИТЫ [вал.]","СТОИМОСТЬ\nДЕТАЛИ [вал.]","КРОМКОВАНИЕ",null,"ПЕРИМЕТР","ПЛОЩАДЬ","ВЕС ПЛИТЫ\n[кг/м.кв.]","ВЕС ДЕТАЛИ","КРОМКА","ШПОН","ОТДЕЛКА","КРОМКА+ОТДЕЛКА","ШПОН+ОТДЕЛКА+МАТЕРИАЛ И ТОЛЩ.\nПЛИТЫ С ВАРИАНТОМ ОБЛИЦОВКИ"]
[null,null,"X, мм","Y, мм","кол. X","кол. Y","м.кв.","кг","м.кв.","кг",{"$f":"M45","v":"UAH"},"шт.",{"$f":"M45","v":"UAH"},null,null,null,null,null,null,null,"KX","KY","X×KX+Y×KY","X×Y",null,"КГ"]
[null,null,null,null,null,null,{"$f":"IF(X17>0,X17,\" \")","v":" "},{"$f":"IF(C17*D17*O17>0,Z17,\" \")","v":" "},{"$f":"IF(X17*L17>0,X17*L17,\"\")","v":""},{"$f":"IF(C17*D17*O17*L17>0,H17*L17,\" \")","v":" "},{"$f":"IF(C17*D17*O17>0,ROUNDUP(T17,2),\" \")","v":" "},null,{"$f":"IF(C17*D17*L17*O17>0,K17*L17,\" \")","v":" "},null,{"$f":"IF(B17<>\"\",1,0)","v":0},{"$f":"INDEX('@'!V3:Z34,MATCH(AD17,'@'!V3:V34,0),T48)","v":{"$error":"#N/A"}},{"$f":"INDEX('@'!P3:T210,MATCH(AE17,'@'!P3:P210,0),T48)","v":{"$error":"#N/A"}},{"$f":"P17*W17*M46","v":{"$error":"#N/A"}},{"$f":"Q17*X17*M46","v":{"$error":"#N/A"}},{"$f":"ROUNDUP(R17+S17,0)","v":{"$error":"#N/A"}},{"$f":"IF(E17=\"\",0,IF(E17=КРОМКА_A0,0,IF(E17=КРОМКА_A1,1,IF(E17=КРОМКА_A2,2))))","v":0},{"$f":"IF(F17=\"\",0,IF(F17=КРОМКА_B0,0,IF(F17=КРОМКА_B1,1,IF(F17=КРОМКА_B2,2))))","v":0},{"$f":"(C17*U17+D17*V17)/1000","v":0},{"$f":"C17*D17/1000000","v":0},{"$f":"INDEX('@'!B3:F28,MATCH(B17,ПЛИТА_ТИП,0),5)","v":{"$error":"#N/A"}},{"$f":"IF(Y17*X17<>0,Y17*X17,0)","v":{"$error":"#N/A"}},{"$f":"INDEX('@'!B3:F28,MATCH(B17,ПЛИТА_ТИП,0),4)","v":{"$error":"#N/A"}},{"$f":"INDEX('@'!J3:K6,MATCH(A11,ШПОН_ДЕРЕВО,0),2)","v":"ДУБ"},{"$f":"INDEX('@'!J8:K18,MATCH(A13,ОТДЕЛКА_ДЕКОРЫ,0),2)","v":"Б/О"},{"$f":"AB17&\" \"&AA17&\", \"&AC17","v":{"$error":"#N/A"}},{"$f":"AB17&\", \"&AC17&\", \"&B17","v":"ДУБ, Б/О, "}]
[null,null,null,null,null,null,{"$f":"IF(X18>0,X18,\" \")","v":" "},{"$f":"IF(C18*D18*O18>0,Z18,\" \")","v":" "},{"$f":"IF(X18*L18>0,X18*L18,\"\")","v":""},{"$f":"IF(C18*D18*O18*L18>0,H18*L18,\" \")","v":" "},{"$f":"IF(C18*D18*O18>0,ROUNDUP(T18,2),\" \")","v":" "},null," ",null,0,{"$f":"INDEX('@'!V3:Z34,MATCH(AD18,'@'!V3:V34,0),T48)","v":{"$error":"#N/A"}},{"$f":"INDEX('@'!P3:T210,MATCH(AE18,'@'!P3:P210,0),T48)","v":{"$error":"#N/A"}},{"$f":"P18*W18*M46","v":{"$error":"#N/A"}},{"$f":"Q18*X18*M46","v":{"$error":"#N/A"}},{"$f":"ROUNDUP(R18+S18,0)","v":{"$error":"#N/A"}},0,0,{"$f":"(C18*U18+D18*V18)/1000","v":0},{"$f":"C18*D18/1000000","v":0},{"$f":"INDEX('@'!B3:F28,MATCH(B18,ПЛИТА_ТИП,0),5)","v":{"$error":"#N/A"}},{"$f":"IF(Y18*X18<>0,Y18*X18,0)","v":{"$error":"#N/A"}},{"$f":"INDEX('@'!B3:F28,MATCH(B18,ПЛИТА_ТИП,0),4)","v":{"$error":"#N/A"}},{"$f":"INDEX('@'!J3:K6,MATCH(A11,ШПОН_ДЕРЕВО,0),2)","v":"ДУБ"},{"$f":"INDEX('@'!J8:K18,MATCH(A13,ОТДЕЛКА_ДЕКОРЫ,0),2)","v":"Б/О"},{"$f":"AB18&\" \"&AA18&\", \"&AC18","v":{"$error":"#N/A"}},"ДУБ, Б/О, "]
[null,null,null,null,null,null," "," ",""," "," ",null," ",null,0,{"$f":"INDEX('@'!V3:Z34,MATCH(AD19,'@'!V3:V34,0),T48)","v":{"$error":"#N/A"}},{"$f":"INDEX('@'!P3:T210,MATCH(AE19,'@'!P3:P210,0),T48)","v":{"$error":"#N/A"}},{"$f":"P19*W19*M46","v":{"$error":"#N/A"}},{"$f":"Q19*X19*M46","v":{"$error":"#N/A"}},{"$error":"#N/A"},0,0,0,0,{"$f":"INDEX('@'!B3:F28,MATCH(B19,ПЛИТА_ТИП,0),5)","v":{"$error":"#N/A"}},{"$error":"#N/A"},{"$f":"INDEX('@'!B3:F28,MATCH(B19,ПЛИТА_ТИП,0),4)","v":{"$error":"#N/A"}},{"$f":"INDEX('@'!J3:K6,MATCH(A11,ШПОН_ДЕРЕВО,0),2)","v":"ДУБ"},{"$f":"INDEX('@'!J8:K18,MATCH(A13,ОТДЕЛКА_ДЕКОРЫ,0),2)","v":"Б/О"},{"$error":"#N/A"},"ДУБ, Б/О, "]
[null,null,null,null,null,null," "," ",""," "," ",null," ",null,0,{"$f":"INDEX('@'!V3:Z34,MATCH(AD20,'@'!V3:V34,0),T48)","v":{"$error":"#N/A"}},{"$f":"INDEX('@'!P3:T210,MATCH(AE20,'@'!P3:P210,0),T48)","v":{"$error":"#N/A"}},{"$f":"P20*W20*M46","v":{"$error":"#N/A"}},{"$f":"Q20*X20*M46","v":{"$error":"#N/A"}},{"$error":"#N/A"},0,0,0,0,{"$f":"INDEX('@'!B3:F28,MATCH(B20,ПЛИТА_ТИП,0),5)","v":{"$error":"#N/A"}},{"$error":"#N/A"},{"$f":"INDEX('@'!B3:F28,MATCH(B20,ПЛИТА_ТИП,0),4)","v":{"$error":"#N/A"}},{"$f":"INDEX('@'!J3:K6,MATCH(A11,ШПОН_ДЕРЕВО,0),2)","v":"ДУБ"},{"$f":"INDEX('@'!J8:K18,MATCH(A13,ОТДЕЛКА_ДЕКОРЫ,0),2)","v":"Б/О"},{"$error":"#N/A"},"ДУБ, Б/О, "]
[null,null,null,null,null,null," "," ",""," "," ",null," ",null,0,{"$f":"INDEX('@'!V3:Z34,MATCH(AD21,'@'!V3:V34,0),T48)","v":{"$error":"#N/A"}},{"$f":"INDEX('@'!P3:T210,MATCH(AE21,'@'!P3:P210,0),T48)","v":{"$error":"#N/A"}},{"$f":"P21*W21*M46","v":{"$error":"#N/A"}},{"$f":"Q21*X21*M46","v":{"$error":"#N/A"}},{"$error":"#N/A"},0,0,0,0,{"$f":"INDEX('@'!B3:F28,MATCH(B21,ПЛИТА_ТИП,0),5)","v":{"$error":"#N/A"}},{"$error":"#N/A"},{"$f":"INDEX('@'!B3:F28,MATCH(B21,ПЛИТА_ТИП,0),4)","v":{"$error":"#N/A"}},{"$f":"INDEX('@'!J3:K6,MATCH(A11,ШПОН_ДЕРЕВО,0),2)","v":"ДУБ"},{"$f":"INDEX('@'!J8:K18,MATCH(A13,ОТДЕЛКА_ДЕКОРЫ,0),2)","v":"Б/О"},{"$error":"#N/A"},"ДУБ, Б/О, "]
[null,null,null,null,null,null," "," ",""," "," ",null," ",null,0,{"$f":"INDEX('@'!V3:Z34,MATCH(AD22,'@'!V3:V34,0),T48)","v":{"$error":"#N/A"}},{"$f":"INDEX('@'!P3:T210,MATCH(AE22,'@'!P3:P210,0),T48)","v":{"$error":"#N/A"}},{"$f":"P22*W22*M46","v":{"$error":"#N/A"}},{"$f":"Q22*X22*M46","v":{"$error":"#N/A"}},{"$error":"#N/A"},0,0,0,0,{"$f":"INDEX('@'!B3:F28,MATCH(B22,ПЛИТА_ТИП,0),5)","v":{"$error":"#N/A"}},{"$error":"#N/A"},{"$f":"INDEX('@'!B3:F28,MATCH(B22,ПЛИТА_ТИП,0),4)","v":{"$error":"#N/A"}},{"$f":"INDEX('@'!J3:K6,MATCH(A11,ШПОН_ДЕРЕВО,0),2)","v":"ДУБ"},{"$f":"INDEX('@'!J8:K18,MATCH(A13,ОТДЕЛКА_ДЕКОРЫ,0),2)","v":"Б/О"},{"$error":"#N/A"},"ДУБ, Б/О, "]
[null,null,null,null,null,null," "," ",""," "," ",null," ",null,0,{"$f":"INDEX('@'!V3:Z34,MATCH(AD23,'@'!V3:V34,0),T48)","v":{"$error":"#N/A"}},{"$f":"INDEX('@'!P3:T210,MATCH(AE23,'@'!P3:P210,0),T48)","v":{"$error":"#N/A"}},{"$f":"P23*W23*M46","v":{"$error":"#N/A"}},{"$f":"Q23*X23*M46","v":{"$error":"#N/A"}},{"$error":"#N/A"},0,0,0,0,{"$f":"INDEX('@'!B3:F28,MATCH(B23,ПЛИТА_ТИП,0),5)","v":{"$error":"#N/A"}},{"$error":"#N/A"},{"$f":"INDEX('@'!B3:F28,MATCH(B23,ПЛИТА_ТИП,0),4)","v":{"$error":"#N/A"}},{"$f":"INDEX('@'!J3:K6,MATCH(A11,ШПОН_ДЕРЕВО,0),2)","v":"ДУБ"},{"$f":"INDEX('@'!J8:K18,MATCH(A13,ОТДЕЛКА_ДЕКОРЫ,0),2)","v":"Б/О"},{"$error":"#N/A"},"ДУБ, Б/О, "]
[null,null,null,null,null,null," "," ",""," "," ",null," ",null,{"$f":"IF(B24<>\"\",1,0)","v":0},{"$f":"INDEX('@'!V3:Z34,MATCH(AD24,'@'!V3:V34,0),T48)","v":{"$error":"#N/A"}},{"$f":"INDEX('@'!P3:T210,MATCH(AE24,'@'!P3:P210,0),T48)","v":{"$error":"#N/A"}},{"$f":"P24*W24*M46","v":{"$error":"#N/A"}},{"$f":"Q24*X24*M46","v":{"$error":"#N/A"}},{"$error":"#N/A"},0,0,0,0,{"$f":"INDEX('@'!B3:F28,MATCH(B24,ПЛИТА_ТИП,0),5)","v":{"$error":"#N/A"}},{"$error":"#N/A"},{"$f":"INDEX('@'!B3:F28,MATCH(B24,ПЛИТА_ТИП,0),4)","v":{"$error":"#N/A"}},{"$f":"INDEX('@'!J3:K6,MATCH(A11,ШПОН_ДЕРЕВО,0),2)","v":"ДУБ"},{"$f":"INDEX('@'!J8:K18,MATCH(A13,ОТДЕЛКА_ДЕКОРЫ,0),2)","v":"Б/О"},{"$error":"#N/A"},"ДУБ, Б/О, "]
[null,null,null,null,null,null," "," ",""," "," ",null," ",null,0,{"$f":"INDEX('@'!V3:Z34,MATCH(AD25,'@'!V3:V34,0),T48)","v":{"$error":"#N/A"}},{"$f":"INDEX('@'!P3:T210,MATCH(AE25,'@'!P3:P210,0),T48)","v":{"$error":"#N/A"}},{"$f":"P25*W25*M46","v":{"$error":"#N/A"}},{"$f":"Q25*X25*M46","v":{"$error":"#N/A"}},{"$error":"#N/A"},0,0,0,0,{"$f":"INDEX('@'!B3:F28,MATCH(B25,ПЛИТА_ТИП,0),5)","v":{"$error":"#N/A"}},{"$error":"#N/A"},{"$f":"INDEX('@'!B3:F28,MATCH(B25,ПЛИТА_ТИП,0),4)","v":{"$error":"#N/A"}},{"$f":"INDEX('@'!J3:K6,MATCH(A11,ШПОН_ДЕРЕВО,0),2)","v":"ДУБ"},{"$f":"INDEX('@'!J8:K18,MATCH(A13,ОТДЕЛКА_ДЕКОРЫ,0),2)","v":"Б/О"},{"$error":"#N/A"},"ДУБ, Б/О, "]
[null,null,null,null,null,null," "," ",""," "," ",null," ",null,0,{"$f":"INDEX('@'!V3:Z34,MATCH(AD26,'@'!V3:V34,0),T48)","v":{"$error":"#N/A"}},{"$f":"INDEX('@'!P3:T210,MATCH(AE26,'@'!P3:P210,0),T48)","v":{"$error":"#N/A"}},{"$f":"P26*W26*M46","v":{"$error":"#N/A"}},{"$f":"Q26*X26*M46","v":{"$error":"#N/A"}},{"$error":"#N/A"},0,0,0,0,{"$f":"INDEX('@'!B3:F28,MATCH(B26,ПЛИТА_ТИП,0),5)","v":{"$error":"#N/A"}},{"$error":"#N/A"},{"$f":"INDEX('@'!B3:F28,MATCH(B26,ПЛИТА_ТИП,0),4)","v":{"$error":"#N/A"}},{"$f":"INDEX('@'!J3:K6,MATCH(A11,ШПОН_ДЕРЕВО,0),2)","v":"ДУБ"},{"$f":"INDEX('@'!J8:K18,MATCH(A13,ОТДЕЛКА_ДЕКОРЫ,0),2)","v":"Б/О"},{"$error":"#N/A"},"ДУБ, Б/О, "]
[null,null,null,null,null,null," "," ",""," "," ",null," ",null,0,{"$f":"INDEX('@'!V3:Z34,MATCH(AD27,'@'!V3:V34,0),T48)","v":{"$error":"#N/A"}},{"$f":"INDEX('@'!P3:T210,MATCH(AE27,'@'!P3:P210,0),T48)","v":{"$error":"#N/A"}},{"$f":"P27*W27*M46","v":{"$error":"#N/A"}},{"$f":"Q27*X27*M46","v":{"$error":"#N/A"}},{"$error":"#N/A"},0,0,0,0,{"$f":"INDEX('@'!B3:F28,MATCH(B27,ПЛИТА_ТИП,0),5)","v":{"$error":"#N/A"}},{"$error":"#N/A"},{"$f":"INDEX('@'!B3:F28,MATCH(B27,ПЛИТА_ТИП,0),4)","v":{"$error":"#N/A"}},{"$f":"INDEX('@'!J3:K6,MATCH(A11,ШПОН_ДЕРЕВО,0),2)","v":"ДУБ"},{"$f":"INDEX('@'!J8:K18,MATCH(A13,ОТДЕЛКА_ДЕКОРЫ,0),2)","v":"Б/О"},{"$error":"#N/A"},"ДУБ, Б/О, "]
[null,null,null,null,null,null," "," ",""," "," ",null," ",null,0,{"$f":"INDEX('@'!V3:Z34,MATCH(AD28,'@'!V3:V34,0),T48)","v":{"$error":"#N/A"}},{"$f":"INDEX('@'!P3:T210,MATCH(AE28,'@'!P3:P210,0),T48)","v":{"$error":"#N/A"}},{"$f":"P28*W28*M46","v":{"$error":"#N/A"}},{"$f":"Q28*X28*M46","v":{"$error":"#N/A"}},{"$error":"#N/A"},0,0,0,0,{"$f":"INDEX('@'!B3:F28,MATCH(B28,ПЛИТА_ТИП,0),5)","v":{"$error":"#N/A"}},{"$error":"#N/A"},{"$f":"INDEX('@'!B3:F28,MATCH(B28,ПЛИТА_ТИП,0),4)","v":{"$error":"#N/A"}},{"$f":"INDEX('@'!J3:K6,MATCH(A11,ШПОН_ДЕРЕВО,0),2)","v":"ДУБ"},{"$f":"INDEX('@'!J8:K18,MATCH(A13,ОТДЕЛКА_ДЕКОРЫ,0),2)","v":"Б/О"},{"$error":"#N/A"},"ДУБ, Б/О, "]
[null,null,null,null,null,null," "," ",""," "," ",null," ",null,0,{"$f":"INDEX('@'!V3:Z34,MATCH(AD29,'@'!V3:V34,0),T48)","v":{"$error":"#N/A"}},{"$f":"INDEX('@'!P3:T210,MATCH(AE29,'@'!P3:P210,0),T48)","v":{"$error":"#N/A"}},{"$f":"P29*W29*M46","v":{"$error":"#N/A"}},{"$f":"Q29*X29*M46","v":{"$error":"#N/A"}},{"$error":"#N/A"},0,0,0,0,{"$f":"INDEX('@'!B3:F28,MATCH(B29,ПЛИТА_ТИП,0),5)","v":{"$error":"#N/A"}},{"$error":"#N/A"},{"$f":"INDEX('@'!B3:F28,MATCH(B29,ПЛИТА_ТИП,0),4)","v":{"$error":"#N/A"}},{"$f":"INDEX('@'!J3:K6,MATCH(A11,ШПОН_ДЕРЕВО,0),2)","v":"ДУБ"},{"$f":"INDEX('@'!J8:K18,MATCH(A13,ОТДЕЛКА_ДЕКОРЫ,0),2)","v":"Б/О"},{"$error":"#N/A"},"ДУБ, Б/О, "]
[null,null,null,null,null,null," "," ",""," "," ",null," ",null,0,{"$f":"INDEX('@'!V3:Z34,MATCH(AD30,'@'!V3:V34,0),T48)","v":{"$error":"#N/A"}},{"$f":"INDEX('@'!P3:T210,MATCH(AE30,'@'!P3:P210,0),T48)","v":{"$error":"#N/A"}},{"$f":"P30*W30*M46","v":{"$error":"#N/A"}},{"$f":"Q30*X30*M46","v":{"$error":"#N/A"}},{"$error":"#N/A"},0,0,0,0,{"$f":"INDEX('@'!B3:F28,MATCH(B30,ПЛИТА_ТИП,0),5)","v":{"$error":"#N/A"}},{"$error":"#N/A"},{"$f":"INDEX('@'!B3:F28,MATCH(B30,ПЛИТА_ТИП,0),4)","v":{"$error":"#N/A"}},{"$f":"INDEX('@'!J3:K6,MATCH(A11,ШПОН_ДЕРЕВО,0),2)","v":"ДУБ"},{"$f":"INDEX('@'!J8:K18,MATCH(A13,ОТДЕЛКА_ДЕКОРЫ,0),2)","v":"Б/О"},{"$error":"#N/A"},"ДУБ, Б/О, "]
[null,null,null,null,null,null," "," ",""," "," ",null," ",null,0,{"$f":"INDEX('@'!V3:Z34,MATCH(AD31,'@'!V3:V34,0),T48)","v":{"$error":"#N/A"}},{"$f":"INDEX('@'!P3:T210,MATCH(AE31,'@'!P3:P210,0),T48)","v":{"$error":"#N/A"}},{"$f":"P31*W31*M46","v":{"$error":"#N/A"}},{"$f":"Q31*X31*M46","v":{"$error":"#N/A"}},{"$error":"#N/A"},0,0,0,0,{"$f":"INDEX('@'!B3:F28,MATCH(B31,ПЛИТА_ТИП,0),5)","v":{"$error":"#N/A"}},{"$error":"#N/A"},{"$f":"INDEX('@'!B3:F28,MATCH(B31,ПЛИТА_ТИП,0),4)","v":{"$error":"#N/A"}},{"$f":"INDEX('@'!J3:K6,MATCH(A11,ШПОН_ДЕРЕВО,0),2)","v":"ДУБ"},{"$f":"INDEX('@'!J8:K18,MATCH(A13,ОТДЕЛКА_ДЕКОРЫ,0),2)","v":"Б/О"},{"$error":"#N/A"},"ДУБ, Б/О, "]
[null,null,null,null,null,null," "," ",""," "," ",null," ",null,0,{"$f":"INDEX('@'!V3:Z34,MATCH(AD32,'@'!V3:V34,0),T48)","v":{"$error":"#N/A"}},{"$f":"INDEX('@'!P3:T210,MATCH(AE32,'@'!P3:P210,0),T48)","v":{"$error":"#N/A"}},{"$f":"P32*W32*M46","v":{"$error":"#N/A"}},{"$f":"Q32*X32*M46","v":{"$error":"#N/A"}},{"$error":"#N/A"},0,0,0,0,{"$f":"INDEX('@'!B3:F28,MATCH(B32,ПЛИТА_ТИП,0),5)","v":{"$error":"#N/A"}},{"$error":"#N/A"},{"$f":"INDEX('@'!B3:F28,MATCH(B32,ПЛИТА_ТИП,0),4)","v":{"$error":"#N/A"}},{"$f":"INDEX('@'!J3:K6,MATCH(A11,ШПОН_ДЕРЕВО,0),2)","v":"ДУБ"},{"$f":"INDEX('@'!J8:K18,MATCH(A13,ОТДЕЛКА_ДЕКОРЫ,0),2)","v":"Б/О"},{"$error":"#N/A"},"ДУБ, Б/О, "]
[null,null,null,null,null,null," "," ",""," "," ",null," ",null,0,{"$f":"INDEX('@'!V3:Z34,MATCH(AD33,'@'!V3:V34,0),T48)","v":{"$error":"#N/A"}},{"$f":"INDEX('@'!P3:T210,MATCH(AE33,'@'!P3:P210,0),T48)","v":{"$error":"#N/A"}},{"$f":"P33*W33*M46","v":{"$error":"#N/A"}},{"$f":"Q33*X33*M46","v":{"$error":"#N/A"}},{"$error":"#N/A"},0,0,0,0,{"$f":"INDEX('@'!B3:F28,MATCH(B33,ПЛИТА_ТИП,0),5)","v":{"$error":"#N/A"}},{"$error":"#N/A"},{"$f":"INDEX('@'!B3:F28,MATCH(B33,ПЛИТА_ТИП,0),4)","v":{"$error":"#N/A"}},{"$f":"INDEX('@'!J3:K6,MATCH(A11,ШПОН_ДЕРЕВО,0),2)","v":"ДУБ"},{"$f":"INDEX('@'!J8:K18,MATCH(A13,ОТДЕЛКА_ДЕКОРЫ,0),2)","v":"Б/О"},{"$error":"#N/A"},"ДУБ, Б/О, "]
[null,null,null,null,null,null," "," ",""," "," ",null," ",null,0,{"$f":"INDEX('@'!V3:Z34,MATCH(AD34,'@'!V3:V34,0),T48)","v":{"$error":"#N/A"}},{"$f":"INDEX('@'!P3:T210,MATCH(AE34,'@'!P3:P210,0),T48)","v":{"$error":"#N/A"}},{"$f":"P34*W34*M46","v":{"$error":"#N/A"}},{"$f":"Q34*X34*M46","v":{"$error":"#N/A"}},{"$error":"#N/A"},0,0,0,0,{"$f":"INDEX('@'!B3:F28,MATCH(B34,ПЛИТА_ТИП,0),5)","v":{"$error":"#N/A"}},{"$error":"#N/A"},{"$f":"INDEX('@'!B3:F28,MATCH(B34,ПЛИТА_ТИП,0),4)","v":{"$error":"#N/A"}},{"$f":"INDEX('@'!J3:K6,MATCH(A11,ШПОН_ДЕРЕВО,0),2)","v":"ДУБ"},{"$f":"INDEX('@'!J8:K18,MATCH(A13,ОТДЕЛКА_ДЕКОРЫ,0),2)","v":"Б/О"},{"$error":"#N/A"},"ДУБ, Б/О, "]
[null,null,null,null,null,null," "," ",""," "," ",null," ",null,0,{"$f":"INDEX('@'!V3:Z34,MATCH(AD35,'@'!V3:V34,0),T48)","v":{"$error":"#N/A"}},{"$f":"INDEX('@'!P3:T210,MATCH(AE35,'@'!P3:P210,0),T48)","v":{"$error":"#N/A"}},{"$f":"P35*W35*M46","v":{"$error":"#N/A"}},{"$f":"Q35*X35*M46","v":{"$error":"#N/A"}},{"$error":"#N/A"},0,0,0,0,{"$f":"INDEX('@'!B3:F28,MATCH(B35,ПЛИТА_ТИП,0),5)","v":{"$error":"#N/A"}},{"$error":"#N/A"},{"$f":"INDEX('@'!B3:F28,MATCH(B35,ПЛИТА_ТИП,0),4)","v":{"$error":"#N/A"}},{"$f":"INDEX('@'!J3:K6,MATCH(A11,ШПОН_ДЕРЕВО,0),2)","v":"ДУБ"},{"$f":"INDEX('@'!J8:K18,MATCH(A13,ОТДЕЛКА_ДЕКОРЫ,0),2)","v":"Б/О"},{"$error":"#N/A"},"ДУБ, Б/О, "]
[null,null,null,null,null,null," "," ",""," "," ",null," ",null,0,{"$f":"INDEX('@'!V3:Z34,MATCH(AD36,'@'!V3:V34,0),T48)","v":{"$error":"#N/A"}},{"$f":"INDEX('@'!P3:T210,MATCH(AE36,'@'!P3:P210,0),T48)","v":{"$error":"#N/A"}},{"$f":"P36*W36*M46","v":{"$error":"#N/A"}},{"$f":"Q36*X36*M46","v":{"$error":"#N/A"}},{"$error":"#N/A"},0,0,0,0,{"$f":"INDEX('@'!B3:F28,MATCH(B36,ПЛИТА_ТИП,0),5)","v":{"$error":"#N/A"}},{"$error":"#N/A"},{"$f":"INDEX('@'!B3:F28,MATCH(B36,ПЛИТА_ТИП,0),4)","v":{"$error":"#N/A"}},{"$f":"INDEX('@'!J3:K6,MATCH(A11,ШПОН_ДЕРЕВО,0),2)","v":"ДУБ"},{"$f":"INDEX('@'!J8:K18,MATCH(A13,ОТДЕЛКА_ДЕКОРЫ,0),2)","v":"Б/О"},{"$error":"#N/A"},"ДУБ, Б/О, "]
[null,null,null,null,null,null," "," ",""," "," ",null," ",null,0,{"$f":"INDEX('@'!V3:Z34,MATCH(AD37,'@'!V3:V34,0),T48)","v":{"$error":"#N/A"}},{"$f":"INDEX('@'!P3:T210,MATCH(AE37,'@'!P3:P210,0),T48)","v":{"$error":"#N/A"}},{"$f":"P37*W37*M46","v":{"$error":"#N/A"}},{"$f":"Q37*X37*M46","v":{"$error":"#N/A"}},{"$error":"#N/A"},0,0,0,0,{"$f":"INDEX('@'!B3:F28,MATCH(B37,ПЛИТА_ТИП,0),5)","v":{"$error":"#N/A"}},{"$error":"#N/A"},{"$f":"INDEX('@'!B3:F28,MATCH(B37,ПЛИТА_ТИП,0),4)","v":{"$error":"#N/A"}},{"$f":"INDEX('@'!J3:K6,MATCH(A11,ШПОН_ДЕРЕВО,0),2)","v":"ДУБ"},{"$f":"INDEX('@'!J8:K18,MATCH(A13,ОТДЕЛКА_ДЕКОРЫ,0),2)","v":"Б/О"},{"$error":"#N/A"},"ДУБ, Б/О, "]
[null,null,null,null,null,null," "," ",""," "," ",null," ",null,0,{"$f":"INDEX('@'!V3:Z34,MATCH(AD38,'@'!V3:V34,0),T48)","v":{"$error":"#N/A"}},{"$f":"INDEX('@'!P3:T210,MATCH(AE38,'@'!P3:P210,0),T48)","v":{"$error":"#N/A"}},{"$f":"P38*W38*M46","v":{"$error":"#N/A"}},{"$f":"Q38*X38*M46","v":{"$error":"#N/A"}},{"$error":"#N/A"},0,0,0,0,{"$f":"INDEX('@'!B3:F28,MATCH(B38,ПЛИТА_ТИП,0),5)","v":{"$error":"#N/A"}},{"$error":"#N/A"},{"$f":"INDEX('@'!B3:F28,MATCH(B38,ПЛИТА_ТИП,0),4)","v":{"$error":"#N/A"}},{"$f":"INDEX('@'!J3:K6,MATCH(A11,ШПОН_ДЕРЕВО,0),2)","v":"ДУБ"},{"$f":"INDEX('@'!J8:K18,MATCH(A13,ОТДЕЛКА_ДЕКОРЫ,0),2)","v":"Б/О"},{"$error":"#N/A"},"ДУБ, Б/О, "]
[null,null,null,null,null,null," "," ",""," "," ",null," ",null,0,{"$f":"INDEX('@'!V3:Z34,MATCH(AD39,'@'!V3:V34,0),T48)","v":{"$error":"#N/A"}},{"$f":"INDEX('@'!P3:T210,MATCH(AE39,'@'!P3:P210,0),T48)","v":{"$error":"#N/A"}},{"$f":"P39*W39*M46","v":{"$error":"#N/A"}},{"$f":"Q39*X39*M46","v":{"$error":"#N/A"}},{"$error":"#N/A"},0,0,0,0,{"$f":"INDEX('@'!B3:F28,MATCH(B39,ПЛИТА_ТИП,0),5)","v":{"$error":"#N/A"}},{"$error":"#N/A"},{"$f":"INDEX('@'!B3:F28,MATCH(B39,ПЛИТА_ТИП,0),4)","v":{"$error":"#N/A"}},{"$f":"INDEX('@'!J3:K6,MATCH(A11,ШПОН_ДЕРЕВО,0),2)","v":"ДУБ"},{"$f":"INDEX('@'!J8:K18,MATCH(A13,ОТДЕЛКА_ДЕКОРЫ,0),2)","v":"Б/О"},{"$error":"#N/A"},"ДУБ, Б/О, "]
[null,null,null,null,null,null," "," ",""," "," ",null," ",null,0,{"$f":"INDEX('@'!V3:Z34,MATCH(AD40,'@'!V3:V34,0),T48)","v":{"$error":"#N/A"}},{"$f":"INDEX('@'!P3:T210,MATCH(AE40,'@'!P3:P210,0),T48)","v":{"$error":"#N/A"}},{"$f":"P40*W40*M46","v":{"$error":"#N/A"}},{"$f":"Q40*X40*M46","v":{"$error":"#N/A"}},{"$error":"#N/A"},0,0,0,0,{"$f":"INDEX('@'!B3:F28,MATCH(B40,ПЛИТА_ТИП,0),5)","v":{"$error":"#N/A"}},{"$error":"#N/A"},{"$f":"INDEX('@'!B3:F28,MATCH(B40,ПЛИТА_ТИП,0),4)","v":{"$error":"#N/A"}},{"$f":"INDEX('@'!J3:K6,MATCH(A11,ШПОН_ДЕРЕВО,0),2)","v":"ДУБ"},{"$f":"INDEX('@'!J8:K18,MATCH(A13,ОТДЕЛКА_ДЕКОРЫ,0),2)","v":"Б/О"},{"$error":"#N/A"},"ДУБ, Б/О, "]
[null,null,null,null,null,null," "," ",""," "," ",null," ",null,0,{"$f":"INDEX('@'!V3:Z34,MATCH(AD41,'@'!V3:V34,0),T48)","v":{"$error":"#N/A"}},{"$f":"INDEX('@'!P3:T210,MATCH(AE41,'@'!P3:P210,0),T48)","v":{"$error":"#N/A"}},{"$f":"P41*W41*M46","v":{"$error":"#N/A"}},{"$f":"Q41*X41*M46","v":{"$error":"#N/A"}},{"$error":"#N/A"},0,0,0,0,{"$f":"INDEX('@'!B3:F28,MATCH(B41,ПЛИТА_ТИП,0),5)","v":{"$error":"#N/A"}},{"$error":"#N/A"},{"$f":"INDEX('@'!B3:F28,MATCH(B41,ПЛИТА_ТИП,0),4)","v":{"$error":"#N/A"}},{"$f":"INDEX('@'!J3:K6,MATCH(A11,ШПОН_ДЕРЕВО,0),2)","v":"ДУБ"},{"$f":"INDEX('@'!J8:K18,MATCH(A13,ОТДЕЛКА_ДЕКОРЫ,0),2)","v":"Б/О"},{"$error":"#N/A"},"ДУБ, Б/О, "]
[null,null,null,null,null,null,null,null,null,"ОБЩАЯ СТОИМОСТЬ :  ",null,null,{"$f":"IF(T42>0,T42,\"\")","v":""},null,null,null,null,"СТОИМОСТЬ ЗАКАЗА :",null,{"$f":"SUM(M17:M41)","v":0}]
[null,null,null,null,"ВСЕГО ДЕТАЛЕЙ :",null,null,{"$f":"IF(T45>0,T45,\"\")","v":""}," шт.","СКИДКА :  ",null,null,{"$f":"IF(T42>0,T43,\"\")","v":""},null,null,null,null,"СКИДКА :",null,{"$f":"ROUNDUP(T42*L43,0)","v":0}]
[null,null,null,null,"ОБЩАЯ ПЛОЩАДЬ :",null,null,{"$f":"IF(T46>0,T46,\"\")","v":""}," м.кв.","ВСЕГО К ОПЛАТЕ :  ",null,null,{"$f":"IF(T44>0,T44,\"\")","v":""},null,null,null,null,"ВСЕГО К ОПЛАТЕ :",null,{"$f":"T42-T43","v":0}]
[null,null,null,null,"ОБЩИЙ ВЕС :",null,null,{"$f":"IF(T47>0,T47,\"\")","v":""}," кг","ВАЛЮТА :  ",null,null,"UAH",null,null,null,null,"ОБЩЕЕ КОЛИЧЕСТВО :",null,{"$f":"SUM(L17:L41)","v":0}]
[null,null,null,null,null,null,null,null,null,"КУРС UAH/EURO :  ",null,null,33.5,null,null,null,null,"ОБЩАЯ ПЛОЩАДЬ :",null,{"$f":"SUM(I17:I41)","v":0}]
[null,null,null,null,null,null,null,null,null,null,null,null,null,null,null,null,null,"ОБЩИЙ ВЕС :",null,{"$f":"SUM(J17:J41)","v":0}]
[null,null,null,null,null,null,null,null,null,null,null,null,null,null,null,null,null,"КОЛОНКА ВАЛЮТЫ :",null,4]
[null,null,null,null,{"$f":"\"ИСХОДНЫЕ ДАННЫЕ : ПРАЙС ЛИСТ, РОЗНИЧНЫЕ ЦЕНЫ (\"&M45&\") — \"&РЕДАКЦИЯ","v":"ИСХОДНЫЕ ДАННЫЕ : ПРАЙС ЛИСТ, РОЗНИЧНЫЕ ЦЕНЫ (UAH) — РЕДАКЦИЯ : 15.02.2018"}]